{"text_format":"1","workbook":"xlsx","n_sheets":19,"sheets":["предпр","исходный","дефляторы","демогр","промыш","трансп","продукц","строит","потребит","предприн","инвест","финансы","доход","труд","социальн","эколог","внешнеэк","Лист6","Лист1"],"not_rendered":{"charts":0,"images":0,"macros":0,"external_links":1,"defined_names":16,"comments":0,"pivot_tables":0},"unopened":[],"bounds":{"document_bytes":16777216,"sheet_cells":100000,"rows_first":2000,"rows_last":500,"rows_between":2000,"halvings":0,"cell_chars":16384,"cell_head_chars":4096},"cells_cut":0,"cells_raw":0,"read":"whole","date_system":"1900"}

{"sheet":"предпр","index":0,"n_rows":46,"n_cols":8,"rows_kept":46,"cut":false,"hidden":false,"merged":[[0,0,1,0],[0,1,0,2],[0,4,0,6],[0,7,1,7],[3,5,4,5],[3,6,4,6],[3,7,4,7],[3,1,4,1],[3,2,4,2],[3,3,4,3],[3,4,4,4]]}
["Перечень показателей","Отчет",null,"Оценка","Прогноз",null,null,"Взаимоувязка показателей с формами статистической отчетности"]
[null,2007,2008,2009,2010,2011,2012]
["Показатели производственной деятельности"]
["Объем производства в натуральном выражении в разрезе основной номенклатуры (в соответствующих единицах измерения):",null,null,null,null,null,null,"Сведения о  производстве и отгрузке промышленной продукции  Форма № -1натура  годовая, код ОКП , гр 1"]
[]
[]
["Индекс производства, %",null,null,null,null,null,null,"Темпы роста производства в натуральном выражении."]
["Отгружено товаров собственного производства, выполнено работ и услуг собственными силами (без НДС и акцизов, тыс. рублей)",null,null,null,null,null,null,"Основные сведения о  деятельности  предприятия, Форма №1 -предприятия ,годовая, раздел VI, стр 33, гр 1  "]
["Финансово - экономические показатели\n( тыс. руб.)"]
["Выручка от продажи товаров, продукции, работ, услуг (за минусом НДС, акцизов и аналогичных обязательных платежей)",null,null,null,null,null,null," Отчет о прибылях и убытках,  Форма №2 по ОКУД , строка  010  "]
["Себестоимость проданных товаров, продукции, работ,услуг",null,null,null,null,null,null," Отчет о прибылях и убытках,  Форма №2 по ОКУД , строка  020  "]
["Прибыль (убыток) от продаж",null,null,null,null,null,null," Отчет о прибылях и убытках,  Форма №2 по ОКУД , строка  050  "]
["Дебиторская задолженность",null,null,null,null,null,null,"Бухгалтерский баланс, Раздел 2 Оборотные активы, строки ( 230+240)"]
["Кредиторская задолженность",null,null,null,null,null,null,"Бухгалтерский баланс, Раздел 5 Кроткосрочные обязательства, строка 620"]
["Ввод в действие основных фондов",null,null,null,null,null,null,"Сведения о наличии  и движении основных фондов(средств) и других нефинансовых  активов, Форма № 11 годовая, строка  01 графа  7"]
["Среднегодовая стоимость основных фондов",null,null,null,null,null,null,"Сведения о наличии  и движении основных фондов(средств) и других нефинансовых  активов, Форма № 11 годовая , раздел 1,  строка 31"]
["Оборотные средства, всего",null,null,null,null,null,null,"Бухгалтерский баланс, оборотные активы, строка 290"]
["в том числе:"]
["собственные средства"]
["заемные средства"]
["Показатели инвестиционной активности\n ( тыс. руб.) "]
["Инвестиции в основной капитал, всего",null,null,null,null,null,null,"Сведения об инвестициях, Форма  № П-2 квартальная ( раздел 2 строка №201, графа 1 )"]
["в том числе:"]
["здания и сооружения",null,null,null,null,null,null,"Сведения об инвестициях, Форма  № П-2 квартальная ( раздел 2 строка №204, графа 1 )"]
["машины, оборудование, транспортные средства",null,null,null,null,null,null,"Сведения об инвестициях, Форма  № П-2 квартальная ( раздел 2 строка №206, графа 1 )"]
["Инвестиции в нематериальные активы",null,null,null,null,null,null,"Сведения об инвестициях, Форма  № П-2 квартальная ( раздел 2 строка №240, графа 1 )"]
["Инвестиции в другие нефинансовые внеоборотные активы",null,null,null,null,null,null,"Сведения об инвестициях, Форма  № П-2 квартальная ( раздел 2 строка №250, графа 1 )"]
["Затраты на научно-исследовательские, опытно-конструкторские и технологические работы",null,null,null,null,null,null,"Сведения об инвестициях, Форма  № П-2 квартальная ( раздел 2 строка №252, графа 1 )"]
["Источники инвестиций:"]
["- собственные средства",null,null,null,null,null,null,"Сведения об инвестициях, Форма  № П-2 квартальная ( раздел 3 строка №310, графа 3 )"]
["- привлеченные средства",null,null,null,null,null,null,"Сведения об инвестициях, Форма  № П-2 квартальная ( раздел3 строка №320, графа3 )"]
["Сведения  об инновационной  деятельности"]
["Отгружено инновационной продукции собственного производства в фактических ценах (без НДС и акциза, тыс. рублей)",null,null,null,null,null,null,"Сведения об инновационной деятельности, Форма  № 4 годовая ( раздел 3 строка №019, графа 1 )"]
["Оказано услуг инновационного  характера (тыс. рублей)",null,null,null,null,null,null,"Сведения об инновационной деятельности, Форма  № 4 годовая ( раздел 3 строка № 024, графа 1 )"]
["Общие (капитальные и текущие) затраты  на технологические инновации (тыс. рублей) ",null,null,null,null,null,null,"Сведения об инновационной деятельности, Форма  № 4 годовая ( раздел 5 строка №045, графа 3 )"]
["Количество поданных  заявок за отчетный период на: ",null,null,null,null,null,null,"Сведения об инновационной деятельности, Форма  № 4 годовая ( раздел 9 )"]
["патенты на изобретения или промышленные образцы",null,null,null,null,null,null,"Сведения об инновационной деятельности, Форма  № 4 годовая ( раздел 9 строка №117 )"]
["свидетельства  на полезные  модели",null,null,null,null,null,null,"Сведения об инновационной деятельности, Форма  № 4 годовая ( раздел 9 строка №118 )"]
["официальную регистрацию  программ для ЭВМ  и т.п.",null,null,null,null,null,null,"Сведения об инновационной деятельности, Форма  № 4 годовая ( раздел 9 строка №119 )"]
["Количество  приобретенных  новых  технологий (технических достижений) программных  средств",null,null,null,null,null,null,"Сведения об инновационной деятельности, Форма  № 4 годовая ( раздел 10 строка №120, графа3 )"]
["Количество  переданных   новых  технологий (технических достижений) программных  средств",null,null,null,null,null,null,"Сведения об инновационной деятельности, Форма  № 4 годовая ( раздел 10 строка №120, графа 6 )"]
["Социальные показатели"]
["Затраты на содержание объектов социальной сферы, тыс. руб.",null,null,null,null,null,null,"Сведения об  использовании  денежных средств, Форма № 12-Ф годовая, сумма строк 305. 306и 307, графа 3."]
["Среднесписочная численность работников, чел.",null,null,null,null,null,null,"Сведения о численности, заработной плате работников по видам деятельности, Форма № 1 -Т годовая, стр1, гр.4"]
["Среднемесячная заработная плата, руб.",null,null,null,null,null,null,"Сведения о численности, заработной плате работников по видам деятельности, Форма № 1 -Т годовая, стр1, гр.5/гр.4."]
["Среднемесячный объем отгруженных товаров, выполненных  работ  и услуг на 1 работающего в действующих ценах, тыс. рублей"]

{"sheet":"исходный","index":1,"n_rows":742,"n_cols":21,"rows_kept":742,"cut":false,"hidden":false,"merged":[[741,0,741,20],[1,0,1,20],[8,0,10,0],[8,1,10,1],[9,11,10,11],[9,12,10,12],[9,14,10,14],[9,13,10,13]]}
["Форма 2п"]
["Основные показатели, представляемые для разработки прогноза социально-экономического развития  Российской Федерации на 2013  год и плановый период 2014 и 2015  годов. (для субъектов Российской Федерации)"]
[null,0,0]
[]
["Субъект Российской Федерации: Чувашская Республика","Алтайский край"]
["Раздел показателей:"]
[]
[]
["Показатели","Единица измерения","Код","Доп. Код","Код отрасли","Форма собственности","Измерение","отчет",null,null,null,"отчет","отчет",null,"оценка","прогноз"]
[null,null,null,null,null,null,null,1998,1999,2000,2001,2009,2010,2011,2012,2013,null,2014,null,2015]
[null,null,null,null,null,null,null,null,null,null,null,null,null,null,null,"вариант 1","вариант 2","вариант 1","вариант 2","вариант 1","вариант 2"]
["1. Демографические показатели"]
["Численность постоянного населения (среднегодовая) ","тыс. человек",1,null,null,null,"04",null,null,null,null,{"$f":"демогр!D5","v":127.057},{"$f":"демогр!E5","v":124.389},{"$f":"демогр!F5","v":124.744},{"$f":"демогр!G5","v":125},{"$f":"демогр!H5","v":125.09},{"$f":"демогр!I5","v":125.13},{"$f":"демогр!J5","v":125.14},{"$f":"демогр!K5","v":125.17999999999999},{"$f":"демогр!L5","v":125.17999999999999},{"$f":"демогр!M5","v":125.18999999999998}]
[null,"% к предыдущему году",1,null,null,null,"02",null,null,null,null,{"$f":"демогр!D6","v":100.38476732243029},{"$f":"демогр!E6","v":97.900155048521526},{"$f":"демогр!F6","v":100.28539501081286},{"$f":"демогр!G6","v":100.2},{"$f":"демогр!H6","v":100.072},{"$f":"демогр!I6","v":100.104},{"$f":"демогр!J6","v":100.03997122072109},{"$f":"демогр!K6","v":100.03995844321905},{"$f":"демогр!L6","v":100.03196420009589},{"$f":"демогр!M6","v":100.00798849656493}]
["Численность постоянного населения (среднегодовая), городское","тыс. человек",1,null,null,null,"04",null,null,null,null,{"$f":"демогр!D7","v":126.78700000000001},{"$f":"демогр!E7","v":124.10899999999999},{"$f":"демогр!F7","v":124.464},{"$f":"демогр!G7","v":124.8},{"$f":"демогр!H7","v":124.8},{"$f":"демогр!I7","v":124.85},{"$f":"демогр!J7","v":124.85},{"$f":"демогр!K7","v":124.89999999999999},{"$f":"демогр!L7","v":124.89999999999999},{"$f":"демогр!M7","v":124.91999999999999}]
[null,"% к предыдущему году",1,null,null,null,"02",null,null,null,null,{"$f":"демогр!D8","v":100.38558986539985},{"$f":"демогр!E8","v":97.887796067420155},{"$f":"демогр!F8","v":100.28603888517351},{"$f":"демогр!G8","v":100.2},{"$f":"демогр!H8","v":100},{"$f":"демогр!I8","v":100.59705581384107},{"$f":"демогр!J8","v":100.0400641025641},{"$f":"демогр!K8","v":100.0400480576692},{"$f":"демогр!L8","v":100.0400480576692},{"$f":"демогр!M8","v":100.01601281024818}]
["Численность постоянного населения (среднегодовая), сельское","тыс. человек",1,null,null,null,"04",null,null,null,null,{"$f":"демогр!D9","v":0.27},{"$f":"демогр!E9","v":0.28000000000000003},{"$f":"демогр!F9","v":0.28000000000000003},{"$f":"демогр!G9","v":0.3},{"$f":"демогр!H9","v":0.28999999999999998},{"$f":"демогр!I9","v":0.28000000000000003},{"$f":"демогр!J9","v":0.28999999999999998},{"$f":"демогр!K9","v":0.28000000000000003},{"$f":"демогр!L9","v":0.28000000000000003},{"$f":"демогр!M9","v":0.27}]
[null,"% к предыдущему году",1,null,null,null,"02",null,null,null,null,{"$f":"демогр!D10","v":100},{"$f":"демогр!E10","v":103.7037037037037},{"$f":"демогр!F10","v":100},{"$f":"демогр!G10","v":100},{"$f":"демогр!H10","v":96.666666666666671},{"$f":"демогр!I10","v":93.333333333333343},{"$f":"демогр!J10","v":100},{"$f":"демогр!K10","v":100},{"$f":"демогр!L10","v":96.551724137931046},{"$f":"демогр!M10","v":96.428571428571431}]
["Ожидаемая продолжительность жизни при рождении","число лет",1,null,null,null,"04",null,null,null,null,{"$f":"демогр!D11","v":67},{"$f":"демогр!E11","v":67},{"$f":"демогр!F11","v":67},{"$f":"демогр!G11","v":67},{"$f":"демогр!H11","v":67},{"$f":"демогр!I11","v":67},{"$f":"демогр!J11","v":67},{"$f":"демогр!K11","v":67},{"$f":"демогр!L11","v":67},{"$f":"демогр!M11","v":67}]
["Общий коэффициент рождаемости","число родившихся на 1000 человек населения",1,null,null,null,"04",null,null,null,null,{"$f":"демогр!D12","v":12.2},{"$f":"демогр!E12","v":12.3},{"$f":"демогр!F12","v":11.78413390623998},{"$f":"демогр!G12","v":11.8},{"$f":"демогр!H12","v":11.591654009113437},{"$f":"демогр!I12","v":11.747782306401342},{"$f":"демогр!J12","v":11.746843535240531},{"$f":"демогр!K12","v":11.902859881770251},{"$f":"демогр!L12","v":11.902859881770251},{"$f":"демогр!M12","v":11.981787682722263}]
["Общий коэффициент смертности","число умерших на 1000 человек населения",1,null,null,null,"04",null,null,null,null,{"$f":"демогр!D13","v":9.6},{"$f":"демогр!E13","v":9.9},{"$f":"демогр!F13","v":9.4192907073686918},{"$f":"демогр!G13","v":9.4},{"$f":"демогр!H13","v":10.152690063154528},{"$f":"демогр!I13","v":10.149444577639256},{"$f":"демогр!J13","v":10.148633530445901},{"$f":"демогр!K13","v":10.145390637482027},{"$f":"демогр!L13","v":10.225275603131491},{"$f":"демогр!M13","v":10.224458822589664}]
["Коэффициент естественного прироста населения","на 1000 человек населения",1,null,null,null,"04",null,null,null,null,{"$f":"демогр!D14","v":2.5999999999999996},{"$f":"демогр!E14","v":2.4000000000000004},{"$f":"демогр!F14","v":2.3648431988712879},{"$f":"демогр!G14","v":2.4},{"$f":"демогр!H14","v":1.4389639459589088},{"$f":"демогр!I14","v":1.5983377287620861},{"$f":"демогр!J14","v":1.5982100047946304},{"$f":"демогр!K14","v":1.7574692442882238},{"$f":"демогр!L14","v":1.6775842786387596},{"$f":"демогр!M14","v":1.7573288601325991}]
["Коэффициент миграционного прироста","на 10 000 человек населения",1,null,null,null,"04",null,null,null,null,{"$f":"демогр!D15","v":12.041839489363042},{"$f":"демогр!E15","v":-239.41023723962729},{"$f":"демогр!F15","v":0},{"$f":"демогр!G15","v":0},{"$f":"демогр!H15","v":0},{"$f":"демогр!I15","v":0},{"$f":"демогр!J15","v":0},{"$f":"демогр!K15","v":0},{"$f":"демогр!L15","v":0},{"$f":"демогр!M15","v":0}]
[]
["2. Производство товаров и услуг"]
["2.1. Выпуск товаров и услуг"]
["Выпуск товаров и услуг","млн. руб. в основных ценах соответствующих лет",1,null,null,null,"04",null,null,null,null,{"$f":"промыш!C5","v":16216.7},{"$f":"промыш!D5","v":18728.960999999996},{"$f":"промыш!E5","v":18990.099999999999},{"$f":"промыш!F5","v":19855.699999999997},{"$f":"промыш!G5","v":21916.158580000003},{"$f":"промыш!H5","v":21962.149880000004},{"$f":"промыш!I5","v":24132.905259388805},{"$f":"промыш!J5","v":24415.353529364002},{"$f":"промыш!K5","v":26969.236826703265},{"$f":"промыш!L5","v":27465.977528395062}]
["2.2. Валовой региональный продукт"]
["Валовой региональный продукт (в основных ценах соответствующих лет) - всего","млн. руб. ",1,null,null,null,"04"]
["Индекс физического объема валового регионального продукта","% к предыдущему году в постоянных основных ценах",1,null,null,null,"02"]
["Индекс-дефлятор объема валового регионального продукта","% к предыдущему году",1,null,null,null,"30"]
["2.3. Промышленное производство"]
["Индекс промышленного производства ","% к предыдущему году ",1,null,null,null,"02",null,null,null,null,{"$f":"промыш!C7","v":93},{"$f":"промыш!D7","v":114.8},{"$f":"промыш!E7","v":114.1},{"$f":"промыш!F7","v":109},{"$f":"промыш!G7","v":109},{"$f":"промыш!H7","v":111},{"$f":"промыш!I7","v":106},{"$f":"промыш!J7","v":108},{"$f":"промыш!K7","v":105},{"$f":"промыш!L7","v":107}]
["Добыча полезных ископаемых",null,null,null,null,null,null,null,null,null,null,{"$f":"промыш!C8","v":0},{"$f":"промыш!D8","v":0},{"$f":"промыш!D8","v":0},{"$f":"промыш!E8","v":0},{"$f":"промыш!G8","v":0},{"$f":"промыш!H8","v":0},{"$f":"промыш!I8","v":0},{"$f":"промыш!J8","v":0},{"$f":"промыш!K8","v":0},{"$f":"промыш!L8","v":0}]
["Объем отгруженных товаров собственного производства, выполненных работ и услуг собственными силами - РАЗДЕЛ C: Добыча полезных ископаемых","млн. руб. ",1,null,null,null,"04",null,null,null,null,{"$f":"промыш!C9","v":187.12299999999999},{"$f":"промыш!D9","v":196.91800000000001},{"$f":"промыш!E9","v":241},{"$f":"промыш!F9","v":251},{"$f":"промыш!G9","v":262.88280000000003},{"$f":"промыш!H9","v":261.73804999999999},{"$f":"промыш!I9","v":281.28459600000002},{"$f":"промыш!J9","v":282.99117966},{"$f":"промыш!K9","v":301.14328847760004},{"$f":"промыш!L9","v":306.05496080229}]
["Индекс производства - РАЗДЕЛ C: Добыча полезных ископаемых","% к предыдущему году",1,null,null,null,"02",null,null,null,null,{"$f":"промыш!C10","v":25.4},{"$f":"промыш!D10","v":204.7},{"$f":"промыш!E10","v":111.46263002115792},{"$f":"промыш!F10","v":96.434608882741671},{"$f":"промыш!G10","v":101},{"$f":"промыш!H10","v":101.5},{"$f":"промыш!I10","v":100},{"$f":"промыш!J10","v":102},{"$f":"промыш!K10","v":101},{"$f":"промыш!L10","v":103}]
["Индекс-дефлятор - РАЗДЕЛ C: Добыча полезных ископаемых","% к предыдущему году",1,null,null,null,"30",null,null,null,null,{"$f":"промыш!C11","v":153.4},{"$f":"промыш!D11","v":51.4},{"$f":"промыш!E11","v":109.8},{"$f":"промыш!F11","v":108},{"$f":"промыш!G11","v":108},{"$f":"промыш!H11","v":107},{"$f":"промыш!I11","v":107},{"$f":"промыш!J11","v":106},{"$f":"промыш!K11","v":106},{"$f":"промыш!L11","v":105}]
["Объем отгруженных товаров собственного производства, выполненных работ и услуг собственными силами - Подраздел CA: Добыча топливно-энергетических полезных ископаемых","млн. руб. ",1,null,null,null,"04",null,null,null,null,{"$f":"промыш!C12","v":0},{"$f":"промыш!D12","v":0},{"$f":"промыш!D12","v":0},{"$f":"промыш!E12","v":0},{"$f":"промыш!G12","v":0},{"$f":"промыш!H12","v":0},{"$f":"промыш!I12","v":0},{"$f":"промыш!J12","v":0},{"$f":"промыш!K12","v":0},{"$f":"промыш!L12","v":0}]
["Индекс производства - Подраздел CA: Добыча топливно-энергетических полезных ископаемых","% к предыдущему году",1,null,null,null,"02",null,null,null,null,{"$f":"промыш!C13","v":0},{"$f":"промыш!D13","v":0},{"$f":"промыш!D13","v":0},{"$f":"промыш!E13","v":0},{"$f":"промыш!G13","v":0},{"$f":"промыш!H13","v":0},{"$f":"промыш!I13","v":0},{"$f":"промыш!J13","v":0},{"$f":"промыш!K13","v":0},{"$f":"промыш!L13","v":0}]
["Индекс-дефлятор - Подраздел CA: Добыча топливно-энергетических полезных ископаемых","% к предыдущему году",1,null,null,null,"30",null,null,null,null,{"$f":"промыш!C14","v":0},{"$f":"промыш!D14","v":0},{"$f":"промыш!D14","v":0},{"$f":"промыш!E14","v":0},{"$f":"промыш!G14","v":0},{"$f":"промыш!H14","v":0},{"$f":"промыш!I14","v":0},{"$f":"промыш!J14","v":0},{"$f":"промыш!K14","v":0},{"$f":"промыш!L14","v":0}]
["Объем отгруженных товаров собственного производства, выполненных работ и услуг собственными силами - Подраздел CB: Добыча полезных ископаемых, кроме топливно-энергетических","млн. руб. ",1,null,null,null,"04",null,null,null,null,{"$f":"промыш!C15","v":0},{"$f":"промыш!D15","v":0},{"$f":"промыш!D15","v":0},{"$f":"промыш!E15","v":0},{"$f":"промыш!G15","v":0},{"$f":"промыш!H15","v":0},{"$f":"промыш!I15","v":0},{"$f":"промыш!J15","v":0},{"$f":"промыш!K15","v":0},{"$f":"промыш!L15","v":0}]
["Индекс производства - Подраздел CB: Добыча полезных ископаемых, кроме топливно-энергетических","% к предыдущему году",1,null,null,null,"02",null,null,null,null,{"$f":"промыш!C16","v":187.12299999999999},{"$f":"промыш!D16","v":196.91800000000001},{"$f":"промыш!E16","v":241},{"$f":"промыш!F16","v":251},{"$f":"промыш!G16","v":262.88280000000003},{"$f":"промыш!H16","v":261.73804999999999},{"$f":"промыш!I16","v":281.28459600000002},{"$f":"промыш!J16","v":282.99117966},{"$f":"промыш!K16","v":301.14328847760004},{"$f":"промыш!L16","v":306.05496080229}]
["Индекс-дефлятор - Подраздел CB: Добыча полезных ископаемых, кроме топливно-энергетических","% к предыдущему году",1,null,null,null,"30",null,null,null,null,{"$f":"промыш!C17","v":25.4},{"$f":"промыш!D17","v":204.7},{"$f":"промыш!E17","v":111.46263002115792},{"$f":"промыш!F17","v":96.434608882741671},{"$f":"промыш!G17","v":101},{"$f":"промыш!H17","v":101.5},{"$f":"промыш!I17","v":100},{"$f":"промыш!J17","v":102},{"$f":"промыш!K17","v":101},{"$f":"промыш!L17","v":103}]
["Обрабатывающие производства",null,null,null,null,null,null,null,null,null,null,{"$f":"промыш!C18","v":0},{"$f":"промыш!D18","v":0},{"$f":"промыш!D18","v":0},{"$f":"промыш!E18","v":0},{"$f":"промыш!G18","v":0},{"$f":"промыш!H18","v":0},{"$f":"промыш!I18","v":0},{"$f":"промыш!J18","v":0},{"$f":"промыш!K18","v":0},{"$f":"промыш!L18","v":0}]
["Объем отгруженных товаров собственного производства, выполненных работ и услуг собственными силами - РАЗДЕЛ D: Обрабатывающие производства","млн. руб. ",1,null,null,null,"04",null,null,null,null,{"$f":"промыш!C19","v":9172.6600000000017},{"$f":"промыш!D19","v":10661.261999999997},{"$f":"промыш!E19","v":11620.499999999998},{"$f":"промыш!F19","v":12162.699999999999},{"$f":"промыш!G19","v":13234.885380000002},{"$f":"промыш!H19","v":13274.579430000003},{"$f":"промыш!I19","v":14413.763185948803},{"$f":"промыш!J19","v":14678.578396904},{"$f":"промыш!K19","v":16078.81744853798},{"$f":"промыш!L19","v":16494.63620124145}]
["Индекс производства - РАЗДЕЛ D: Обрабатывающие производства","% к предыдущему году",1,null,null,null,"02",null,null,null,null,{"$f":"промыш!C20","v":109.38069216757742},{"$f":"промыш!D20","v":118.4},{"$f":"промыш!E20","v":99.269048385954065},{"$f":"промыш!F20","v":95.324127662399306},{"$f":"промыш!G20","v":105.45607762144489},{"$f":"промыш!H20","v":102.00160326243353},{"$f":"промыш!I20","v":101.78257180977566},{"$f":"промыш!J20","v":104.31754574071168},{"$f":"промыш!K20","v":105.23758098755947},{"$f":"промыш!L20","v":107.02110865061046}]
["Индекс-дефлятор - РАЗДЕЛ D: Обрабатывающие производства","% к предыдущему году",1,null,null,null,"30",null,null,null,null,{"$f":"промыш!C21","v":109.8},{"$f":"промыш!D21","v":98.2},{"$f":"промыш!E21","v":109.8},{"$f":"промыш!F21","v":108},{"$f":"промыш!G21","v":108},{"$f":"промыш!H21","v":107},{"$f":"промыш!I21","v":107},{"$f":"промыш!J21","v":106},{"$f":"промыш!K21","v":106},{"$f":"промыш!L21","v":105}]
["Объем отгруженных товаров собственного производства, выполненных работ и услуг собственными силами - Подраздел DA: Производство пищевых продуктов, включая напитки, и табака","млн. руб. ",1,null,null,null,"04",null,null,null,null,{"$f":"промыш!C22","v":620.38599999999997},{"$f":"промыш!D22","v":759.10500000000002},{"$f":"промыш!E22","v":683.3},{"$f":"промыш!F22","v":670},{"$f":"промыш!G22","v":730.83600000000013},{"$f":"промыш!H22","v":727.65350000000001},{"$f":"промыш!I22","v":793.72443780000003},{"$f":"промыш!J22","v":794.16102990000013},{"$f":"промыш!K22","v":874.84779053784018},{"$f":"промыш!L22","v":883.74239407272023}]
["Индекс производства -  Подраздел DA: Производство пищевых продуктов, включая напитки, и табака","% к предыдущему году",1,null,null,null,"02",null,null,null,null,{"$f":"промыш!C23","v":80.599999999999994},{"$f":"промыш!D23","v":124.60296464924082},{"$f":"промыш!E23","v":81.979870624414389},{"$f":"промыш!F23","v":89.301970481300316},{"$f":"промыш!G23","v":101},{"$f":"промыш!H23","v":101.5},{"$f":"промыш!I23","v":101},{"$f":"промыш!J23","v":102},{"$f":"промыш!K23","v":102},{"$f":"промыш!L23","v":104}]
["Индекс-дефлятор -  Подраздел DA: Производство пищевых продуктов, включая напитки, и табака","% к предыдущему году",1,null,null,null,"30",null,null,null,null,{"$f":"промыш!C24","v":0},{"$f":"промыш!D24","v":0},{"$f":"промыш!D24","v":0},{"$f":"промыш!E24","v":0},{"$f":"промыш!G24","v":0},{"$f":"промыш!H24","v":0},{"$f":"промыш!I24","v":0},{"$f":"промыш!J24","v":0},{"$f":"промыш!K24","v":0},{"$f":"промыш!L24","v":0}]
["Объем отгруженных товаров собственного производства, выполненных работ и услуг собственными силами - Подраздел DB: Текстильное и швейное производство","млн. руб. ",1,null,null,null,"04",null,null,null,null,{"$f":"промыш!C25","v":325.327},{"$f":"промыш!D25","v":364.30500000000001},{"$f":"промыш!E25","v":288.2},{"$f":"промыш!F25","v":320},{"$f":"промыш!G25","v":349.05599999999998},{"$f":"промыш!H25","v":352.67200000000003},{"$f":"промыш!I25","v":386.59904640000002},{"$f":"промыш!J25","v":388.67981120000007},{"$f":"промыш!K25","v":428.16968001792014},{"$f":"промыш!L25","v":432.52289390336011}]
["Индекс производства -  Подраздел DB: Текстильное и швейное производство","% к предыдущему году",1,null,null,null,"02",null,null,null,null,{"$f":"промыш!C26","v":98.5},{"$f":"промыш!D26","v":114.03378397459747},{"$f":"промыш!E26","v":72.048758960126932},{"$f":"промыш!F26","v":101.12386535862947},{"$f":"промыш!G26","v":101},{"$f":"промыш!H26","v":103},{"$f":"промыш!I26","v":101.5},{"$f":"промыш!J26","v":103},{"$f":"промыш!K26","v":102},{"$f":"промыш!L26","v":104}]
["Индекс-дефлятор -  Подраздел DB: Текстильное и швейное производство","% к предыдущему году",1,null,null,null,"30",null,null,null,null,{"$f":"промыш!C27","v":0},{"$f":"промыш!D27","v":0},{"$f":"промыш!D27","v":0},{"$f":"промыш!E27","v":0},{"$f":"промыш!G27","v":0},{"$f":"промыш!H27","v":0},{"$f":"промыш!I27","v":0},{"$f":"промыш!J27","v":0},{"$f":"промыш!K27","v":0},{"$f":"промыш!L27","v":0}]
["Объем отгруженных товаров собственного производства, выполненных работ и услуг собственными силами - Подраздел DC: Производство кожи, изделий из кожи и производство обуви","млн. руб. ",1,null,null,null,"04",null,null,null,null,{"$f":"промыш!C28","v":0.98599999999999999},{"$f":"промыш!D28","v":0},{"$f":"промыш!D28","v":0},{"$f":"промыш!E28","v":0},{"$f":"промыш!G28","v":0},{"$f":"промыш!H28","v":0},{"$f":"промыш!I28","v":0},{"$f":"промыш!J28","v":0},{"$f":"промыш!K28","v":0},{"$f":"промыш!L28","v":0}]
["Индекс производства -  Подраздел DC: Производство кожи, изделий из кожи и производство обуви","% к предыдущему году",1,null,null,null,"02",null,null,null,null,{"$f":"промыш!C29","v":0},{"$f":"промыш!D29","v":0},{"$f":"промыш!D29","v":0},{"$f":"промыш!E29","v":0},{"$f":"промыш!G29","v":0},{"$f":"промыш!H29","v":0},{"$f":"промыш!I29","v":0},{"$f":"промыш!J29","v":0},{"$f":"промыш!K29","v":0},{"$f":"промыш!L29","v":0}]
["Индекс-дефлятор -  Подраздел DC: Производство кожи, изделий из кожи и производство обуви","% к предыдущему году",1,null,null,null,"30",null,null,null,null,{"$f":"промыш!C30","v":0},{"$f":"промыш!D30","v":0},{"$f":"промыш!D30","v":0},{"$f":"промыш!E30","v":0},{"$f":"промыш!G30","v":0},{"$f":"промыш!H30","v":0},{"$f":"промыш!I30","v":0},{"$f":"промыш!J30","v":0},{"$f":"промыш!K30","v":0},{"$f":"промыш!L30","v":0}]
["Объем отгруженных товаров собственного производства, выполненных работ и услуг собственными силами - Подраздел DD: Обработка древесины и производство изделий из дерева","млн. руб. ",1,null,null,null,"04",null,null,null,null,{"$f":"промыш!C31","v":7.5780000000000003},{"$f":"промыш!D31","v":6.2880000000000003},{"$f":"промыш!E31","v":2.8},{"$f":"промыш!F31","v":5},{"$f":"промыш!G31","v":5.4},{"$f":"промыш!H31","v":5.4035000000000002},{"$f":"промыш!I31","v":5.8068900000000001},{"$f":"промыш!J31","v":5.8422641999999998},{"$f":"промыш!K31","v":6.37274178936},{"$f":"промыш!L31","v":6.4637642655960006}]
["Индекс производства -  Подраздел DD: Обработка древесины и производство изделий из дерева","% к предыдущему году",1,null,null,null,"02",null,null,null,null,{"$f":"промыш!C32","v":29.2},{"$f":"промыш!D32","v":84.498002847776206},{"$f":"промыш!E32","v":40.554883503200358},{"$f":"промыш!F32","v":165.34391534391534},{"$f":"промыш!G32","v":100},{"$f":"промыш!H32","v":101},{"$f":"промыш!I32","v":100.5},{"$f":"промыш!J32","v":102},{"$f":"промыш!K32","v":101},{"$f":"промыш!L32","v":103.4}]
["Индекс-дефлятор -  Подраздел DD: Обработка древесины и производство изделий из дерева","% к предыдущему году",1,null,null,null,"30",null,null,null,null,{"$f":"промыш!C33","v":0},{"$f":"промыш!D33","v":0},{"$f":"промыш!D33","v":0},{"$f":"промыш!E33","v":0},{"$f":"промыш!G33","v":0},{"$f":"промыш!H33","v":0},{"$f":"промыш!I33","v":0},{"$f":"промыш!J33","v":0},{"$f":"промыш!K33","v":0},{"$f":"промыш!L33","v":0}]
["Объем отгруженных товаров собственного производства, выполненных работ и услуг собственными силами - Подраздел DE: Целлюлозно-бумажное производство; издательская и полиграфическая деятельность","млн. руб. ",1,null,null,null,"04",null,null,null,null,{"$f":"промыш!C34","v":10.794},{"$f":"промыш!D34","v":18.170999999999999},{"$f":"промыш!E34","v":9.5},{"$f":"промыш!F34","v":11},{"$f":"промыш!G34","v":12.117600000000001},{"$f":"промыш!H34","v":12.240800000000002},{"$f":"промыш!I34","v":13.418364960000002},{"$f":"промыш!J34","v":13.490585680000002},{"$f":"промыш!K34","v":14.715530859744003},{"$f":"промыш!L34","v":14.867974477928005}]
["Индекс производства -  Подраздел DE: Целлюлозно-бумажное производство; издательская и полиграфическая деятельность","% к предыдущему году",1,null,null,null,"02",null,null,null,null,{"$f":"промыш!C35","v":352.6},{"$f":"промыш!D35","v":171.42925069256626},{"$f":"промыш!E35","v":47.614851783988172},{"$f":"промыш!F35","v":105.45489406576553},{"$f":"промыш!G35","v":102},{"$f":"промыш!H35","v":104},{"$f":"промыш!I35","v":101.5},{"$f":"промыш!J35","v":103},{"$f":"промыш!K35","v":101},{"$f":"промыш!L35","v":103}]
["Индекс-дефлятор -  Подраздел DE: Целлюлозно-бумажное производство; издательская и полиграфическая деятельность","% к предыдущему году",1,null,null,null,"30",null,null,null,null,{"$f":"промыш!C36","v":0},{"$f":"промыш!D36","v":0},{"$f":"промыш!D36","v":0},{"$f":"промыш!F36","v":0},{"$f":"промыш!G36","v":0},{"$f":"промыш!H36","v":0},{"$f":"промыш!I36","v":0},{"$f":"промыш!J36","v":0},{"$f":"промыш!K36","v":0},{"$f":"промыш!L36","v":0}]
["Объем отгруженных товаров собственного производства, выполненных работ и услуг собственными силами - Подраздел DF: Производство кокса, нефтепродуктов ","млн. руб. ",1,null,null,null,"04",null,null,null,null,{"$f":"промыш!C37","v":0},{"$f":"промыш!D37","v":0},{"$f":"промыш!D37","v":0},{"$f":"промыш!F37","v":0},{"$f":"промыш!G37","v":0},{"$f":"промыш!H37","v":0},{"$f":"промыш!I37","v":0},{"$f":"промыш!J37","v":0},{"$f":"промыш!K37","v":0},{"$f":"промыш!L37","v":0}]
["Индекс производства -  Подраздел DF: Производство кокса, нефтепродуктов ","% к предыдущему году",1,null,null,null,"02",null,null,null,null,{"$f":"промыш!C38","v":0},{"$f":"промыш!D38","v":0},{"$f":"промыш!D38","v":0},{"$f":"промыш!F38","v":0},{"$f":"промыш!G38","v":0},{"$f":"промыш!H38","v":0},{"$f":"промыш!I38","v":0},{"$f":"промыш!J38","v":0},{"$f":"промыш!K38","v":0},{"$f":"промыш!L38","v":0}]
["Индекс-дефлятор -  Подраздел DF: Производство кокса, нефтепродуктов ","% к предыдущему году",1,null,null,null,"30",null,null,null,null,{"$f":"промыш!C39","v":0},{"$f":"промыш!D39","v":0},{"$f":"промыш!D39","v":0},{"$f":"промыш!F39","v":0},{"$f":"промыш!G39","v":0},{"$f":"промыш!H39","v":0},{"$f":"промыш!I39","v":0},{"$f":"промыш!J39","v":0},{"$f":"промыш!K39","v":0},{"$f":"промыш!L39","v":0}]
["Объем отгруженных товаров собственного производства, выполненных работ и услуг собственными силами - Подраздел DG: Химическое производство","млн. руб. ",1,null,null,null,"04",null,null,null,null,{"$f":"промыш!C40","v":5857.6679999999997},{"$f":"промыш!D40","v":6671.12},{"$f":"промыш!E40","v":7265.7},{"$f":"промыш!F40","v":7587.1},{"$f":"промыш!G40","v":8276.0086800000008},{"$f":"промыш!H40","v":8280.5609400000012},{"$f":"промыш!I40","v":9068.2078966128011},{"$f":"промыш!J40","v":9214.6082140320013},{"$f":"промыш!K40","v":10250.330177289201},{"$f":"промыш!L40","v":10451.208636355097}]
["Индекс производства -  Подраздел DG: Химическое производство","% к предыдущему году",1,null,null,null,"02",null,null,null,null,{"$f":"промыш!C41","v":100.3},{"$f":"промыш!D41","v":115.97450080810191},{"$f":"промыш!E41","v":87.191936507724321},{"$f":"промыш!F41","v":84.688448361377326},{"$f":"промыш!G41","v":101},{"$f":"промыш!H41","v":102},{"$f":"промыш!I41","v":101.4},{"$f":"промыш!J41","v":104},{"$f":"промыш!K41","v":103},{"$f":"промыш!L41","v":106}]
["Индекс-дефлятор -  Подраздел DG: Химическое производство","% к предыдущему году",1,null,null,null,"30",null,null,null,null,{"$f":"промыш!C42","v":0},{"$f":"промыш!D42","v":0},{"$f":"промыш!D42","v":0},{"$f":"промыш!E42","v":0},{"$f":"промыш!G42","v":0},{"$f":"промыш!H42","v":0},{"$f":"промыш!I42","v":0},{"$f":"промыш!J42","v":0},{"$f":"промыш!K42","v":0},{"$f":"промыш!L42","v":0}]
["Объем отгруженных товаров собственного производства, выполненных работ и услуг собственными силами - Подраздел DH: Производство резиновых и пластмассовых изделий","млн. руб. ",1,null,null,null,"04",null,null,null,null,{"$f":"промыш!C43","v":303.11200000000002},{"$f":"промыш!D43","v":463.63400000000001},{"$f":"промыш!E43","v":421.4},{"$f":"промыш!F43","v":440},{"$f":"промыш!G43","v":479.952},{"$f":"промыш!H43","v":480.21600000000007},{"$f":"промыш!I43","v":524.10774240000012},{"$f":"промыш!J43","v":527.86303152000005},{"$f":"промыш!K43","v":581.91620594764811},{"$f":"промыш!L43","v":581.96899225080017}]
["Индекс производства -  Подраздел DH: Производство резиновых и пластмассовых изделий","% к предыдущему году",1,null,null,null,"02",null,null,null,null,{"$f":"промыш!C44","v":93.6},{"$f":"промыш!D44","v":155.7616930019455},{"$f":"промыш!E44","v":82.778378363003242},{"$f":"промыш!F44","v":96.679498672854137},{"$f":"промыш!G44","v":101},{"$f":"промыш!H44","v":102},{"$f":"промыш!I44","v":102},{"$f":"промыш!J44","v":103.7},{"$f":"промыш!K44","v":104},{"$f":"промыш!L44","v":105}]
["Индекс-дефлятор -  Подраздел DH: Производство резиновых и пластмассовых изделий","% к предыдущему году",1,null,null,null,"30",null,null,null,null,{"$f":"промыш!C45","v":0},{"$f":"промыш!D45","v":0},{"$f":"промыш!D45","v":0},{"$f":"промыш!E45","v":0},{"$f":"промыш!G45","v":0},{"$f":"промыш!H45","v":0},{"$f":"промыш!I45","v":0},{"$f":"промыш!J45","v":0},{"$f":"промыш!K45","v":0},{"$f":"промыш!L45","v":0}]
["Объем отгруженных товаров собственного производства, выполненных работ и услуг собственными силами - Подраздел DI: Производство прочих неметаллических минеральных продуктов","млн. руб. ",1,null,null,null,"04",null,null,null,null,{"$f":"промыш!C46","v":1907.38},{"$f":"промыш!D46","v":2255.6210000000001},{"$f":"промыш!E46","v":2792},{"$f":"промыш!F46","v":2953.9},{"$f":"промыш!G46","v":3190.2120000000004},{"$f":"промыш!H46","v":3223.8864600000002},{"$f":"промыш!I46","v":3413.5268400000004},{"$f":"промыш!J46","v":3519.8392370280008},{"$f":"промыш!K46","v":3690.7052194080006},{"$f":"промыш!L46","v":3880.622758823371}]
["Индекс производства -  Подраздел DI: Производство прочих неметаллических минеральных продуктов","% к предыдущему году",1,null,null,null,"02",null,null,null,null,{"$f":"промыш!C47","v":65.3},{"$f":"промыш!D47","v":120.4252112904621},{"$f":"промыш!E47","v":104.73193059393175},{"$f":"промыш!F47","v":89.961769075665913},{"$f":"промыш!G47","v":100},{"$f":"промыш!H47","v":102},{"$f":"промыш!I47","v":100},{"$f":"промыш!J47","v":103},{"$f":"промыш!K47","v":102},{"$f":"промыш!L47","v":105}]
["Индекс-дефлятор -  Подраздел DI: Производство прочих неметаллических минеральных продуктов","% к предыдущему году",1,null,null,null,"30",null,null,null,null,{"$f":"промыш!C48","v":0},{"$f":"промыш!D48","v":0},{"$f":"промыш!D48","v":0},{"$f":"промыш!E48","v":0},{"$f":"промыш!G48","v":0},{"$f":"промыш!H48","v":0},{"$f":"промыш!I48","v":0},{"$f":"промыш!J48","v":0},{"$f":"промыш!K48","v":0},{"$f":"промыш!L48","v":0}]
["Объем отгруженных товаров собственного производства, выполненных работ и услуг собственными силами - Подраздел DJ: Металлургическое производство и производство готовых металлических изделий","млн. руб.",1,null,null,null,"04",null,null,null,null,{"$f":"промыш!C49","v":67.921000000000006},{"$f":"промыш!D49","v":44.142000000000003},{"$f":"промыш!E49","v":18.899999999999999},{"$f":"промыш!F49","v":29},{"$f":"промыш!G49","v":31.633200000000002},{"$f":"промыш!H49","v":31.650600000000004},{"$f":"промыш!I49","v":33.847524000000007},{"$f":"промыш!J49","v":34.556125080000001},{"$f":"промыш!K49","v":36.416551071600004},{"$f":"промыш!L49","v":37.735288587360003}]
["Индекс производства -  Подраздел DJ: Металлургическое производство и производство готовых металлических изделий","% к предыдущему году",1,null,null,null,"02",null,null,null,null,{"$f":"промыш!C50","v":99.5},{"$f":"промыш!D50","v":66.181475777642845},{"$f":"промыш!E50","v":38.994868275334966},{"$f":"промыш!F50","v":142.07329022143836},{"$f":"промыш!G50","v":101},{"$f":"промыш!H50","v":102},{"$f":"промыш!I50","v":100},{"$f":"промыш!J50","v":103},{"$f":"промыш!K50","v":101.5},{"$f":"промыш!L50","v":104}]
["Индекс-дефлятор -  Подраздел DJ: Металлургическое производство и производство готовых металлических изделий","% к предыдущему году",1,null,null,null,"30",null,null,null,null,{"$f":"промыш!C51","v":0},{"$f":"промыш!D51","v":0},{"$f":"промыш!D51","v":0},{"$f":"промыш!E51","v":0},{"$f":"промыш!G51","v":0},{"$f":"промыш!H51","v":0},{"$f":"промыш!I51","v":0},{"$f":"промыш!J51","v":0},{"$f":"промыш!K51","v":0},{"$f":"промыш!L51","v":0}]
["Объем отгруженных товаров собственного производства, выполненных работ и услуг собственными силами - 38.9: Производство машин и оборудования (без производства оружия и боеприпасов)","млн. руб. ",1,null,null,null,"04",null,null,null,null,{"$f":"промыш!C52","v":66.896000000000001},{"$f":"промыш!D52","v":74.034999999999997},{"$f":"промыш!E52","v":77.599999999999994},{"$f":"промыш!F52","v":82.1},{"$f":"промыш!G52","v":89.554679999999991},{"$f":"промыш!H52","v":90.482410000000002},{"$f":"промыш!I52","v":97.26086021399999},{"$f":"промыш!J52","v":99.268252011000001},{"$f":"промыш!K52","v":105.1584420633768},{"$f":"промыш!L52","v":108.40093119601201}]
["Индекс производства -  38.9: Производство машин и оборудования (без производства оружия и боеприпасов)","% к предыдущему году",1,null,null,null,"02",null,null,null,null,{"$f":"промыш!C53","v":140.5},{"$f":"промыш!D53","v":112.70039617686643},{"$f":"промыш!E53","v":95.460191316493237},{"$f":"промыш!F53","v":96.356073836215813},{"$f":"промыш!G53","v":101},{"$f":"промыш!H53","v":103},{"$f":"промыш!I53","v":101.5},{"$f":"промыш!J53","v":103.5},{"$f":"промыш!K53","v":102},{"$f":"промыш!L53","v":104}]
["Индекс-дефлятор -  38.9: Производство машин и оборудования (без производства оружия и боеприпасов)","% к предыдущему году",1,null,null,null,"30",null,null,null,null,{"$f":"промыш!C54","v":0},{"$f":"промыш!D54","v":0},{"$f":"промыш!D54","v":0},{"$f":"промыш!E54","v":0},{"$f":"промыш!G54","v":0},{"$f":"промыш!H54","v":0},{"$f":"промыш!I54","v":0},{"$f":"промыш!J54","v":0},{"$f":"промыш!K54","v":0},{"$f":"промыш!L54","v":0}]
["Объем отгруженных товаров собственного производства, выполненных работ и услуг собственными силами - Подраздел DL: Производство электрооборудования, электронного и оптического оборудования","млн. руб. ",1,null,null,null,"04",null,null,null,null,{"$f":"промыш!C55","v":4.2709999999999999},{"$f":"промыш!D55","v":4.407},{"$f":"промыш!E55","v":60.8},{"$f":"промыш!F55","v":64.3},{"$f":"промыш!G55","v":69.791219999999981},{"$f":"промыш!H55","v":69.489010000000007},{"$f":"промыш!I55","v":76.916903561999987},{"$f":"промыш!J55","v":79.919310401000004},{"$f":"промыш!K55","v":89.685109553291994},{"$f":"промыш!L55","v":96.502567309207492}]
["Индекс производства - Подраздел DL: Производство электрооборудования, электронного и оптического оборудования","% к предыдущему году",1,null,null,null,"02",null,null,null,null,{"$f":"промыш!C56","v":24},{"$f":"промыш!D56","v":105.07562727073748},{"$f":"промыш!E56","v":1256.4875469271235},{"$f":"промыш!F56","v":97.922758284600391},{"$f":"промыш!G56","v":100.5},{"$f":"промыш!H56","v":101},{"$f":"промыш!I56","v":103},{"$f":"промыш!J56","v":108.5},{"$f":"промыш!K56","v":110},{"$f":"промыш!L56","v":115}]
["Индекс-дефлятор - Подраздел DL: Производство электрооборудования, электронного и оптического оборудования","% к предыдущему году",1,null,null,null,"30",null,null,null,null,{"$f":"промыш!C57","v":0},{"$f":"промыш!D57","v":0},{"$f":"промыш!D57","v":0},{"$f":"промыш!E57","v":0},{"$f":"промыш!G57","v":0},{"$f":"промыш!H57","v":0},{"$f":"промыш!I57","v":0},{"$f":"промыш!J57","v":0},{"$f":"промыш!K57","v":0},{"$f":"промыш!L57","v":0}]
["Объем отгруженных товаров собственного производства, выполненных работ и услуг собственными силами - Подраздел DM: Производство транспортных средств и оборудования","млн. руб. ",1,null,null,null,"04",null,null,null,null,{"$f":"промыш!C58","v":0.34100000000000003},{"$f":"промыш!D58","v":0.434},{"$f":"промыш!E58","v":0.3},{"$f":"промыш!F58","v":0.3},{"$f":"промыш!G58","v":0.32400000000000001},{"$f":"промыш!H58","v":0.32421},{"$f":"промыш!I58","v":0.34668000000000004},{"$f":"промыш!J58","v":0.35053585200000004},{"$f":"промыш!K58","v":0.5},{"$f":"промыш!L58","v":0.6}]
["Индекс производства - Подраздел DM: Производство транспортных средств и оборудования","% к предыдущему году",1,null,null,null,"02",null,null,null,null,{"$f":"промыш!C59","v":91.9},{"$f":"промыш!D59","v":129.60562858729864},{"$f":"промыш!E59","v":62.954848782453226},{"$f":"промыш!F59","v":92.592592592592581},{"$f":"промыш!G59","v":100},{"$f":"промыш!H59","v":101},{"$f":"промыш!I59","v":100},{"$f":"промыш!J59","v":102},{"$f":"промыш!K59","v":102},{"$f":"промыш!L59","v":103}]
["Индекс-дефлятор - Подраздел DM: Производство транспортных средств и оборудования","% к предыдущему году",1,null,null,null,"30",null,null,null,null,{"$f":"промыш!C60","v":0},{"$f":"промыш!D60","v":0},{"$f":"промыш!D60","v":0},{"$f":"промыш!E60","v":0},{"$f":"промыш!G60","v":0},{"$f":"промыш!H60","v":0},{"$f":"промыш!I60","v":0},{"$f":"промыш!J60","v":0},{"$f":"промыш!K60","v":0},{"$f":"промыш!L60","v":0}]
["Объем отгруженных товаров собственного производства, выполненных работ и услуг собственными силами - Подраздел DN: Прочие производства","млн. руб. ",1,null,null,null,"04",null,null,null,null,{"$f":"промыш!C61","v":0},{"$f":"промыш!D61","v":0},{"$f":"промыш!D61","v":0},{"$f":"промыш!E61","v":0},{"$f":"промыш!G61","v":0},{"$f":"промыш!H61","v":0},{"$f":"промыш!I61","v":0},{"$f":"промыш!J61","v":0},{"$f":"промыш!K61","v":0},{"$f":"промыш!L61","v":0}]
["Индекс производства - Подраздел DN: Прочие производства","% к предыдущему году",1,null,null,null,"02",null,null,null,null,{"$f":"промыш!C62","v":0},{"$f":"промыш!D62","v":0},{"$f":"промыш!D62","v":0},{"$f":"промыш!E62","v":0},{"$f":"промыш!G62","v":0},{"$f":"промыш!H62","v":0},{"$f":"промыш!I62","v":0},{"$f":"промыш!J62","v":0},{"$f":"промыш!K62","v":0},{"$f":"промыш!L62","v":0}]
["Индекс-дефлятор - Подраздел DN: Прочие производства","% к предыдущему году",1,null,null,null,"30",null,null,null,null,{"$f":"промыш!C63","v":0},{"$f":"промыш!D63","v":0},{"$f":"промыш!D63","v":0},{"$f":"промыш!E63","v":0},{"$f":"промыш!G63","v":0},{"$f":"промыш!H63","v":0},{"$f":"промыш!I63","v":0},{"$f":"промыш!J63","v":0},{"$f":"промыш!K63","v":0},{"$f":"промыш!L63","v":0}]
["Производство и распределение электроэнергии, газа и воды",null,null,null,null,null,null,null,null,null,null,{"$f":"промыш!C64","v":0},{"$f":"промыш!D64","v":0},{"$f":"промыш!D64","v":0},{"$f":"промыш!E64","v":0},{"$f":"промыш!G64","v":0},{"$f":"промыш!H64","v":0},{"$f":"промыш!I64","v":0},{"$f":"промыш!J64","v":0},{"$f":"промыш!K64","v":0},{"$f":"промыш!L64","v":0}]
["Объем отгруженных товаров собственного производства, выполненных работ и услуг собственными силами - РАЗДЕЛ E: Производство и распределение электроэнергии, газа и воды","млн. руб. ",1,null,null,null,"04",null,null,null,null,{"$f":"промыш!C65","v":7178.7830000000004},{"$f":"промыш!D65","v":7870.7809999999999},{"$f":"промыш!E65","v":7128.6},{"$f":"промыш!F65","v":7442},{"$f":"промыш!G65","v":8418.3904000000002},{"$f":"промыш!H65","v":8425.8324000000011},{"$f":"промыш!I65","v":9437.8574774400004},{"$f":"промыш!J65","v":9453.7839528000022},{"$f":"промыш!K65","v":10589.276089687683},{"$f":"промыш!L65","v":10665.286366351322}]
["Индекс производства - РАЗДЕЛ E: Производство и распределение электроэнергии, газа и воды","% к предыдущему году",1,null,null,null,"02",null,null,null,null,{"$f":"промыш!C66","v":108.4},{"$f":"промыш!D66","v":95.008222732382123},{"$f":"промыш!E66","v":75.009211580420725},{"$f":"промыш!F66","v":93.487146381914158},{"$f":"промыш!G66","v":101},{"$f":"промыш!H66","v":102},{"$f":"промыш!I66","v":101},{"$f":"промыш!J66","v":102},{"$f":"промыш!K66","v":102},{"$f":"промыш!L66","v":103.5}]
["Индекс-дефлятор - РАЗДЕЛ E: Производство и распределение электроэнергии, газа и воды","% к предыдущему году",1,null,null,null,"30",null,null,null,null,{"$f":"промыш!C67","v":113.2},{"$f":"промыш!D67","v":115.4},{"$f":"промыш!E67","v":113.2},{"$f":"промыш!F67","v":106},{"$f":"промыш!G67","v":112},{"$f":"промыш!H67","v":111},{"$f":"промыш!I67","v":111},{"$f":"промыш!J67","v":110},{"$f":"промыш!K67","v":110},{"$f":"промыш!L67","v":109}]
["Потребление электроэнергии","млн.кВт.ч.",1,null,null,null,"04",null,null,null,null,{"$f":"промыш!C68","v":0},{"$f":"промыш!D68","v":0},{"$f":"промыш!D68","v":0},{"$f":"промыш!E68","v":0},{"$f":"промыш!G68","v":0},{"$f":"промыш!H68","v":0},{"$f":"промыш!I68","v":0},{"$f":"промыш!J68","v":0},{"$f":"промыш!K68","v":0},{"$f":"промыш!L68","v":0}]
["в том числе по группам потребителей:",null,null,null,null,null,null,null,null,null,null,{"$f":"промыш!C69","v":0},{"$f":"промыш!D69","v":0},{"$f":"промыш!D69","v":0},{"$f":"промыш!E69","v":0},{"$f":"промыш!G69","v":0},{"$f":"промыш!H69","v":0},{"$f":"промыш!I69","v":0},{"$f":"промыш!J69","v":0},{"$f":"промыш!K69","v":0},{"$f":"промыш!L69","v":0}]
["Базовые потребители","млн. кВт. ч.",1,null,null,null,"04",null,null,null,null,{"$f":"промыш!C70","v":0},{"$f":"промыш!D70","v":0},{"$f":"промыш!D70","v":0},{"$f":"промыш!E70","v":0},{"$f":"промыш!G70","v":0},{"$f":"промыш!H70","v":0},{"$f":"промыш!I70","v":0},{"$f":"промыш!J70","v":0},{"$f":"промыш!K70","v":0},{"$f":"промыш!L70","v":0}]
["Население","млн. кВт. ч.",1,null,null,null,"04",null,null,null,null,{"$f":"промыш!C71","v":0},{"$f":"промыш!D71","v":0},{"$f":"промыш!D71","v":0},{"$f":"промыш!E71","v":0},{"$f":"промыш!G71","v":0},{"$f":"промыш!H71","v":0},{"$f":"промыш!I71","v":0},{"$f":"промыш!J71","v":0},{"$f":"промыш!K71","v":0},{"$f":"промыш!L71","v":0}]
["Прочие потребители","млн. кВт. ч.",1,null,null,null,"04",null,null,null,null,{"$f":"промыш!C72","v":0},{"$f":"промыш!D72","v":0},{"$f":"промыш!D72","v":0},{"$f":"промыш!E72","v":0},{"$f":"промыш!G72","v":0},{"$f":"промыш!H72","v":0},{"$f":"промыш!I72","v":0},{"$f":"промыш!J72","v":0},{"$f":"промыш!K72","v":0},{"$f":"промыш!L72","v":0}]
["Средние тарифы на электроэнергию, отпущенную различным категориям потребителей","руб./тыс.кВт.ч",1,null,null,null,"04",null,null,null,null,{"$f":"промыш!C73","v":0},{"$f":"промыш!D73","v":0},{"$f":"промыш!D73","v":0},{"$f":"промыш!E73","v":0},{"$f":"промыш!G73","v":0},{"$f":"промыш!H73","v":0},{"$f":"промыш!I73","v":0},{"$f":"промыш!J73","v":0},{"$f":"промыш!K73","v":0},{"$f":"промыш!L73","v":0}]
["Индекс тарифов ","за период с начала года к соотв. периоду предыдущего года,%",1,null,null,null,"02",null,null,null,null,{"$f":"промыш!C74","v":0},{"$f":"промыш!D74","v":0},{"$f":"промыш!D74","v":0},{"$f":"промыш!E74","v":0},{"$f":"промыш!G74","v":0},{"$f":"промыш!H74","v":0},{"$f":"промыш!I74","v":0},{"$f":"промыш!J74","v":0},{"$f":"промыш!K74","v":0},{"$f":"промыш!L74","v":0}]
[null,"% декабрь к декабрю предыдущего года",1,null,null,null,"02",null,null,null,null,{"$f":"промыш!C75","v":0},{"$f":"промыш!D75","v":0},{"$f":"промыш!D75","v":0},{"$f":"промыш!E75","v":0},{"$f":"промыш!G75","v":0},{"$f":"промыш!H75","v":0},{"$f":"промыш!I75","v":0},{"$f":"промыш!J75","v":0},{"$f":"промыш!K75","v":0},{"$f":"промыш!L75","v":0}]
[" в том числе по группам потребителей:",null,null,null,null,null,null,null,null,null,null,{"$f":"промыш!C76","v":0},{"$f":"промыш!D76","v":0},{"$f":"промыш!D76","v":0},{"$f":"промыш!E76","v":0},{"$f":"промыш!G76","v":0},{"$f":"промыш!H76","v":0},{"$f":"промыш!I76","v":0},{"$f":"промыш!J76","v":0},{"$f":"промыш!K76","v":0},{"$f":"промыш!L76","v":0}]
["Базовые потребители","руб./тыс.кВт.ч",1,null,null,null,"04",null,null,null,null,{"$f":"промыш!C77","v":0},{"$f":"промыш!D77","v":0},{"$f":"промыш!D77","v":0},{"$f":"промыш!E77","v":0},{"$f":"промыш!G77","v":0},{"$f":"промыш!H77","v":0},{"$f":"промыш!I77","v":0},{"$f":"промыш!J77","v":0},{"$f":"промыш!K77","v":0},{"$f":"промыш!L77","v":0}]
["Индекс тарифов ","за период с начала года к соотв. периоду предыдущего года,%",1,null,null,null,"02",null,null,null,null,{"$f":"промыш!C78","v":0},{"$f":"промыш!D78","v":0},{"$f":"промыш!D78","v":0},{"$f":"промыш!E78","v":0},{"$f":"промыш!G78","v":0},{"$f":"промыш!H78","v":0},{"$f":"промыш!I78","v":0},{"$f":"промыш!J78","v":0},{"$f":"промыш!K78","v":0},{"$f":"промыш!L78","v":0}]
[null,"% декабрь к декабрю предыдущего года",1,null,null,null,"02",null,null,null,null,{"$f":"промыш!C79","v":0},{"$f":"промыш!D79","v":0},{"$f":"промыш!D79","v":0},{"$f":"промыш!E79","v":0},{"$f":"промыш!G79","v":0},{"$f":"промыш!H79","v":0},{"$f":"промыш!I79","v":0},{"$f":"промыш!J79","v":0},{"$f":"промыш!K79","v":0},{"$f":"промыш!L79","v":0}]
["Население","руб./тыс.кВт.ч",1,null,null,null,"04",null,null,null,null,{"$f":"промыш!C80","v":0},{"$f":"промыш!D80","v":0},{"$f":"промыш!D80","v":0},{"$f":"промыш!E80","v":0},{"$f":"промыш!G80","v":0},{"$f":"промыш!H80","v":0},{"$f":"промыш!I80","v":0},{"$f":"промыш!J80","v":0},{"$f":"промыш!K80","v":0},{"$f":"промыш!L80","v":0}]
["Индекс тарифов ","за период с начала года к соотв. периоду предыдущего года,%",1,null,null,null,"02",null,null,null,null,{"$f":"промыш!C81","v":0},{"$f":"промыш!D81","v":0},{"$f":"промыш!D81","v":0},{"$f":"промыш!E81","v":0},{"$f":"промыш!G81","v":0},{"$f":"промыш!H81","v":0},{"$f":"промыш!I81","v":0},{"$f":"промыш!J81","v":0},{"$f":"промыш!K81","v":0},{"$f":"промыш!L81","v":0}]
[null,"% декабрь к декабрю предыдущего года",1,null,null,null,"02",null,null,null,null,{"$f":"промыш!C82","v":0},{"$f":"промыш!D82","v":0},{"$f":"промыш!D82","v":0},{"$f":"промыш!E82","v":0},{"$f":"промыш!G82","v":0},{"$f":"промыш!H82","v":0},{"$f":"промыш!I82","v":0},{"$f":"промыш!J82","v":0},{"$f":"промыш!K82","v":0},{"$f":"промыш!L82","v":0}]
["Прочие потребители","руб./тыс.кВт.ч",1,null,null,null,"04",null,null,null,null,{"$f":"промыш!C83","v":0},{"$f":"промыш!D83","v":0},{"$f":"промыш!D83","v":0},{"$f":"промыш!E83","v":0},{"$f":"промыш!G83","v":0},{"$f":"промыш!H83","v":0},{"$f":"промыш!I83","v":0},{"$f":"промыш!J83","v":0},{"$f":"промыш!K83","v":0},{"$f":"промыш!L83","v":0}]
["Индекс тарифов ","за период с начала года к соотв. периоду предыдущего года,%",1,null,null,null,"02",null,null,null,null,{"$f":"промыш!C84","v":0},{"$f":"промыш!D84","v":0},{"$f":"промыш!D84","v":0},{"$f":"промыш!E84","v":0},{"$f":"промыш!G84","v":0},{"$f":"промыш!H84","v":0},{"$f":"промыш!I84","v":0},{"$f":"промыш!J84","v":0},{"$f":"промыш!K84","v":0},{"$f":"промыш!L84","v":0}]
[null,"% декабрь к декабрю предыдущего года",1,null,null,null,"02",null,null,null,null,{"$f":"промыш!C85","v":0},{"$f":"промыш!D85","v":0},{"$f":"промыш!D85","v":0},{"$f":"промыш!E85","v":0},{"$f":"промыш!G85","v":0},{"$f":"промыш!H85","v":0},{"$f":"промыш!I85","v":0},{"$f":"промыш!J85","v":0},{"$f":"промыш!K85","v":0},{"$f":"промыш!L85","v":0}]
["2.4. Рыболовство и рыбоводство и предоставление услуг в этих областях"]
["Объем отгруженных товаров собственного производства, выполненных работ и услуг собственными силами - РАЗДЕЛ B: Рыболовство (05.01)","млн. руб. ",1,null,null,null,"04"]
["Индекс производства -  РАЗДЕЛ B: Рыболовство (05.01)","% к предыдущему году",1,null,null,null,"02"]
["Объем отгруженных товаров собственного производства, выполненных работ и услуг собственными силами - РАЗДЕЛ B: Рыбоводство (05.02)","млн. руб. ",1,null,null,null,"04"]
["Индекс производства -  РАЗДЕЛ B: Рыбоводство (05.02)","% к предыдущему году",1,null,null,null,"02"]
["2.4. Сельское хозяйство"]
["Продукция сельского хозяйства  в хозяйствах всех категорий","млн.руб. ",1,null,null,null,"04"]
["Индекс производства продукции сельского хозяйства в хозяйствах всех категорий","% к предыдущему году",1,null,null,null,"02"]
["Индекс-дефлятор продукции сельского хозяйства в хозяйствах всех категорий","% к предыдущему году",1,null,null,null,"30"]
["в том числе:"]
["Растениеводство","млн.руб. ",1,null,null,null,"04"]
["Индекс производства продукции растениеводства","% к предыдущему году",1,null,null,null,"02"]
["Индекс-дефлятор продукции растениеводства","% к предыдущему году",1,null,null,null,"30"]
["Животноводство","млн.руб. ",1,null,null,null,"04"]
["Индекс производства продукции животноводства","% к предыдущему году",1,null,null,null,"02"]
["Индекс-дефлятор продукции животноводства","% к предыдущему году",1,null,null,null,"30"]
["Продукция сельского хозяйства по категориям хозяйств:"]
["Продукция в сельскохозяйственных организациях","млн. руб. ",1,null,null,null,"04"]
["Индекс производства продукции в сельскохозяйственных организациях","% к предыдущему году",1,null,null,null,"02"]
["Продукция в крестьянских (фермерских) хозяйствах и у индивидуальных предпринимателей","млн. руб. ",1,null,null,null,"04"]
["Индекс производства продукции в крестьянских (фермерских) хозяйствах и у индивидуальных предпринимателей","% к предыдущему году",1,null,null,null,"02"]
["Продукция в хозяйствах населения","млн. руб. ",1,null,null,null,"04"]
["Индекс производства продукции в хозяйствах населения","% к предыдущему году",1,null,null,null,"02"]
["2.5. Транспорт и связь"]
["2.5.1. Транспорт"]
["Протяженность автомобильных дорог общего пользования с твердым покрытием","км",1,null,null,null,"04",null,null,null,null,{"$f":"трансп!C6","v":84.34},{"$f":"трансп!C6","v":84.34},{"$f":"трансп!D6","v":84.34},{"$f":"трансп!E6","v":84.34},{"$f":"трансп!F6","v":84.34},{"$f":"трансп!G6","v":84.34},{"$f":"трансп!H6","v":84.34},{"$f":"трансп!I6","v":84.34},{"$f":"трансп!J6","v":84.34},{"$f":"трансп!K6","v":94.34}]
["Протяженность автомобильных дорог федерального значения","км",1,null,null,null,"04",null,null,null,null,{"$f":"трансп!C7","v":0},{"$f":"трансп!C7","v":0},{"$f":"трансп!E7","v":0},{"$f":"трансп!E7","v":0},{"$f":"трансп!F7","v":0},{"$f":"трансп!G7","v":0},{"$f":"трансп!H7","v":0},{"$f":"трансп!I7","v":0},{"$f":"трансп!J7","v":0},{"$f":"трансп!K7","v":0}]
["Густота автомобильных дорог общего пользования с твердым покрытием","километров дорог на 1 000 квадратных километров территории",1,null,null,null,"04",null,null,null,null,{"$f":"трансп!C8","v":0},{"$f":"трансп!C8","v":0},{"$f":"трансп!E8","v":0},{"$f":"трансп!E8","v":0},{"$f":"трансп!F8","v":0},{"$f":"трансп!G8","v":0},{"$f":"трансп!H8","v":0},{"$f":"трансп!I8","v":0},{"$f":"трансп!J8","v":0},{"$f":"трансп!K8","v":0}]
["Удельный вес автомобильных дорог с твердым покрытием в общей протяженности автомобильных дорог общего пользования","%",1,null,null,null,"04",null,null,null,null,{"$f":"трансп!C9","v":100},{"$f":"трансп!C9","v":100},{"$f":"трансп!D9","v":100},{"$f":"трансп!E9","v":100},{"$f":"трансп!F9","v":100},{"$f":"трансп!G9","v":100},{"$f":"трансп!H9","v":100},{"$f":"трансп!I9","v":100},{"$f":"трансп!J9","v":100},{"$f":"трансп!K9","v":100}]
["2.5.2. Связь",null,null,null,null,null,null,null,null,null,null,{"$f":"трансп!C10","v":0},{"$f":"трансп!C10","v":0},{"$f":"трансп!E10","v":0},{"$f":"трансп!E10","v":0},{"$f":"трансп!F10","v":0},{"$f":"трансп!G10","v":0},{"$f":"трансп!H10","v":0},{"$f":"трансп!I10","v":0},{"$f":"трансп!J10","v":0},{"$f":"трансп!K10","v":0}]
["Объем  услуг связи - всего",null,null,null,null,null,null,null,null,null,null,{"$f":"трансп!C11","v":0},{"$f":"трансп!C11","v":0},{"$f":"трансп!E11","v":0},{"$f":"трансп!E11","v":0},{"$f":"трансп!F11","v":0},{"$f":"трансп!G11","v":0},{"$f":"трансп!H11","v":0},{"$f":"трансп!I11","v":0},{"$f":"трансп!J11","v":0},{"$f":"трансп!K11","v":0}]
["               в ценах соответствующих лет","млн. руб.",1,null,null,null,"04",null,null,null,null,{"$f":"трансп!C12","v":3.9},{"$f":"трансп!C12","v":3.9},{"$f":"трансп!D12","v":13.6965},{"$f":"трансп!E12","v":15},{"$f":"трансп!F12","v":15.0588},{"$f":"трансп!G12","v":15.147749999999998},{"$f":"трансп!H12","v":15.121294019999999},{"$f":"трансп!I12","v":15.210764639999999},{"$f":"трансп!J12","v":15.415705614569397},{"$f":"трансп!K12","v":15.706179244324799}]
["               в сопоставимых ценах","в % к пред.году",1,null,null,null,"02",null,null,null,null,{"$f":"трансп!C13","v":104},{"$f":"трансп!C13","v":104},{"$f":"трансп!D13","v":322.78704751131221},{"$f":"трансп!E13","v":104.70079340167223},{"$f":"трансп!F13","v":94},{"$f":"трансп!G13","v":95},{"$f":"трансп!H13","v":95},{"$f":"трансп!I13","v":96},{"$f":"трансп!J13","v":97},{"$f":"трансп!K13","v":99}]
[null,null,null,null,null,null,null,null,null,null,null,{"$f":"трансп!C14","v":0},{"$f":"трансп!D14","v":0},{"$f":"трансп!E14","v":0},{"$f":"трансп!E14","v":0},{"$f":"трансп!F14","v":0},{"$f":"трансп!G14","v":0},{"$f":"трансп!H14","v":0},{"$f":"трансп!I14","v":0},{"$f":"трансп!J14","v":0},{"$f":"трансп!K14","v":0}]
["в том числе:",null,null,null,null,null,null,null,null,null,null,{"$f":"трансп!C15","v":0},{"$f":"трансп!C15","v":0},{"$f":"трансп!E15","v":0},{"$f":"трансп!E15","v":0},{"$f":"трансп!F15","v":0},{"$f":"трансп!G15","v":0},{"$f":"трансп!H15","v":0},{"$f":"трансп!I15","v":0},{"$f":"трансп!J15","v":0},{"$f":"трансп!K15","v":0}]
["почтовая связь",null,null,null,null,null,null,null,null,null,null,{"$f":"трансп!C16","v":0},{"$f":"трансп!C16","v":0},{"$f":"трансп!E16","v":0},{"$f":"трансп!E16","v":0},{"$f":"трансп!F16","v":0},{"$f":"трансп!G16","v":0},{"$f":"трансп!H16","v":0},{"$f":"трансп!I16","v":0},{"$f":"трансп!J16","v":0},{"$f":"трансп!K16","v":0}]
["               в ценах соответствующих лет","млн. руб.",1,null,null,null,"04",null,null,null,null,{"$f":"трансп!C17","v":0},{"$f":"трансп!C17","v":0},{"$f":"трансп!E17","v":0},{"$f":"трансп!E17","v":0},{"$f":"трансп!F17","v":0},{"$f":"трансп!G17","v":0},{"$f":"трансп!H17","v":0},{"$f":"трансп!I17","v":0},{"$f":"трансп!J17","v":0},{"$f":"трансп!K17","v":0}]
["               в сопоставимых ценах","в % к пред.году",1,null,null,null,"02",null,null,null,null,{"$f":"трансп!C18","v":0},{"$f":"трансп!C18","v":0},{"$f":"трансп!E18","v":0},{"$f":"трансп!E18","v":0},{"$f":"трансп!F18","v":0},{"$f":"трансп!G18","v":0},{"$f":"трансп!H18","v":0},{"$f":"трансп!I18","v":0},{"$f":"трансп!J18","v":0},{"$f":"трансп!K18","v":0}]
[null,null,null,null,null,null,null,null,null,null,null,{"$f":"трансп!C19","v":0},{"$f":"трансп!D19","v":0},{"$f":"трансп!E19","v":0},{"$f":"трансп!E19","v":0},{"$f":"трансп!F19","v":0},{"$f":"трансп!G19","v":0},{"$f":"трансп!H19","v":0},{"$f":"трансп!I19","v":0},{"$f":"трансп!J19","v":0},{"$f":"трансп!K19","v":0}]
[" междугородная, внутризоновая и международная телнфонная связь",null,null,null,null,null,null,null,null,null,null,{"$f":"трансп!C20","v":0},{"$f":"трансп!C20","v":0},{"$f":"трансп!E20","v":0},{"$f":"трансп!E20","v":0},{"$f":"трансп!F20","v":0},{"$f":"трансп!G20","v":0},{"$f":"трансп!H20","v":0},{"$f":"трансп!I20","v":0},{"$f":"трансп!J20","v":0},{"$f":"трансп!K20","v":0}]
["               в ценах соответствующих лет","млн. руб.",1,null,null,null,"04",null,null,null,null,{"$f":"трансп!C21","v":0},{"$f":"трансп!C21","v":0},{"$f":"трансп!E21","v":0},{"$f":"трансп!E21","v":0},{"$f":"трансп!F21","v":0},{"$f":"трансп!G21","v":0},{"$f":"трансп!H21","v":0},{"$f":"трансп!I21","v":0},{"$f":"трансп!J21","v":0},{"$f":"трансп!K21","v":0}]
["               в сопоставимых ценах","в % к пред.году",1,null,null,null,"02",null,null,null,null,{"$f":"трансп!C22","v":0},{"$f":"трансп!C22","v":0},{"$f":"трансп!E22","v":0},{"$f":"трансп!E22","v":0},{"$f":"трансп!F22","v":0},{"$f":"трансп!G22","v":0},{"$f":"трансп!H22","v":0},{"$f":"трансп!I22","v":0},{"$f":"трансп!J22","v":0},{"$f":"трансп!K22","v":0}]
[null,null,null,null,null,null,null,null,null,null,null,{"$f":"трансп!C23","v":0},{"$f":"трансп!D23","v":0},{"$f":"трансп!E23","v":0},{"$f":"трансп!E23","v":0},{"$f":"трансп!F23","v":0},{"$f":"трансп!G23","v":0},{"$f":"трансп!H23","v":0},{"$f":"трансп!I23","v":0},{"$f":"трансп!J23","v":0},{"$f":"трансп!K23","v":0}]
[" местная телефонная связь",null,null,null,null,null,null,null,null,null,null,{"$f":"трансп!C24","v":0},{"$f":"трансп!C24","v":0},{"$f":"трансп!E24","v":0},{"$f":"трансп!E24","v":0},{"$f":"трансп!F24","v":0},{"$f":"трансп!G24","v":0},{"$f":"трансп!H24","v":0},{"$f":"трансп!I24","v":0},{"$f":"трансп!J24","v":0},{"$f":"трансп!K24","v":0}]
["               в ценах соответствующих лет","млн. руб.",1,null,null,null,"04",null,null,null,null,{"$f":"трансп!C25","v":0},{"$f":"трансп!C25","v":0},{"$f":"трансп!E25","v":0},{"$f":"трансп!E25","v":0},{"$f":"трансп!F25","v":0},{"$f":"трансп!G25","v":0},{"$f":"трансп!H25","v":0},{"$f":"трансп!I25","v":0},{"$f":"трансп!J25","v":0},{"$f":"трансп!K25","v":0}]
["               в сопоставимых ценах","в % к пред.году",1,null,null,null,"02",null,null,null,null,{"$f":"трансп!C26","v":0},{"$f":"трансп!C26","v":0},{"$f":"трансп!E26","v":0},{"$f":"трансп!E26","v":0},{"$f":"трансп!F26","v":0},{"$f":"трансп!G26","v":0},{"$f":"трансп!H26","v":0},{"$f":"трансп!I26","v":0},{"$f":"трансп!J26","v":0},{"$f":"трансп!K26","v":0}]
[null,null,null,null,null,null,null,null,null,null,null,{"$f":"трансп!C27","v":0},{"$f":"трансп!C27","v":0},{"$f":"трансп!E27","v":0},{"$f":"трансп!E27","v":0},{"$f":"трансп!F27","v":0},{"$f":"трансп!G27","v":0},{"$f":"трансп!H27","v":0},{"$f":"трансп!I27","v":0},{"$f":"трансп!J27","v":0},{"$f":"трансп!K27","v":0}]
["документальная электросвязь",null,null,null,null,null,null,null,null,null,null,{"$f":"трансп!C28","v":0},{"$f":"трансп!C28","v":0},{"$f":"трансп!E28","v":0},{"$f":"трансп!E28","v":0},{"$f":"трансп!F28","v":0},{"$f":"трансп!G28","v":0},{"$f":"трансп!H28","v":0},{"$f":"трансп!I28","v":0},{"$f":"трансп!J28","v":0},{"$f":"трансп!K28","v":0}]
["               в ценах соответствующих лет","млн. руб.",1,null,null,null,"04",null,null,null,null,{"$f":"трансп!C29","v":0},{"$f":"трансп!C29","v":0},{"$f":"трансп!E29","v":0},{"$f":"трансп!E29","v":0},{"$f":"трансп!F29","v":0},{"$f":"трансп!G29","v":0},{"$f":"трансп!H29","v":0},{"$f":"трансп!I29","v":0},{"$f":"трансп!J29","v":0},{"$f":"трансп!K29","v":0}]
["               в сопоставимых ценах","в % к пред.году",1,null,null,null,"02",null,null,null,null,{"$f":"трансп!C30","v":0},{"$f":"трансп!C30","v":0},{"$f":"трансп!E30","v":0},{"$f":"трансп!E30","v":0},{"$f":"трансп!F30","v":0},{"$f":"трансп!G30","v":0},{"$f":"трансп!H30","v":0},{"$f":"трансп!I30","v":0},{"$f":"трансп!J30","v":0},{"$f":"трансп!K30","v":0}]
[null,null,null,null,null,null,null,null,null,null,null,{"$f":"трансп!C31","v":0},{"$f":"трансп!D31","v":0},{"$f":"трансп!E31","v":0},{"$f":"трансп!E31","v":0},{"$f":"трансп!F31","v":0},{"$f":"трансп!G31","v":0},{"$f":"трансп!H31","v":0},{"$f":"трансп!I31","v":0},{"$f":"трансп!J31","v":0},{"$f":"трансп!K31","v":0}]
["подвижная связь",null,null,null,null,null,null,null,null,null,null,{"$f":"трансп!C32","v":0},{"$f":"трансп!C32","v":0},{"$f":"трансп!E32","v":0},{"$f":"трансп!E32","v":0},{"$f":"трансп!F32","v":0},{"$f":"трансп!G32","v":0},{"$f":"трансп!H32","v":0},{"$f":"трансп!I32","v":0},{"$f":"трансп!J32","v":0},{"$f":"трансп!K32","v":0}]
["               в ценах соответствующих лет","млн. руб.",1,null,null,null,"04",null,null,null,null,{"$f":"трансп!C33","v":0},{"$f":"трансп!C33","v":0},{"$f":"трансп!E33","v":0},{"$f":"трансп!E33","v":0},{"$f":"трансп!F33","v":0},{"$f":"трансп!G33","v":0},{"$f":"трансп!H33","v":0},{"$f":"трансп!I33","v":0},{"$f":"трансп!J33","v":0},{"$f":"трансп!K33","v":0}]
["               в сопоставимых ценах","в % к пред.году",1,null,null,null,"02",null,null,null,null,{"$f":"трансп!C34","v":0},{"$f":"трансп!C34","v":0},{"$f":"трансп!E34","v":0},{"$f":"трансп!E34","v":0},{"$f":"трансп!F34","v":0},{"$f":"трансп!G34","v":0},{"$f":"трансп!H34","v":0},{"$f":"трансп!I34","v":0},{"$f":"трансп!J34","v":0},{"$f":"трансп!K34","v":0}]
[null,null,null,null,null,null,null,null,null,null,null,{"$f":"трансп!C35","v":0},{"$f":"трансп!D35","v":0},{"$f":"трансп!E35","v":0},{"$f":"трансп!E35","v":0},{"$f":"трансп!F35","v":0},{"$f":"трансп!G35","v":0},{"$f":"трансп!H35","v":0},{"$f":"трансп!I35","v":0},{"$f":"трансп!J35","v":0},{"$f":"трансп!K35","v":0}]
["Плотность телефонных аппаратов фиксированной электросвязи на 100 человек населения","единиц",1,null,null,null,"04",null,null,null,null,{"$f":"трансп!C36","v":0},{"$f":"трансп!C36","v":0},{"$f":"трансп!E36","v":0},{"$f":"трансп!E36","v":0},{"$f":"трансп!F36","v":0},{"$f":"трансп!G36","v":0},{"$f":"трансп!H36","v":0},{"$f":"трансп!I36","v":0},{"$f":"трансп!J36","v":0},{"$f":"трансп!K36","v":0}]
[null,null,null,null,null,null,null,null,null,null,null,{"$f":"трансп!C37","v":0},{"$f":"трансп!D37","v":0},{"$f":"трансп!E37","v":0},{"$f":"трансп!E37","v":0},{"$f":"трансп!F37","v":0},{"$f":"трансп!G37","v":0},{"$f":"трансп!H37","v":0},{"$f":"трансп!I37","v":0},{"$f":"трансп!J37","v":0},{"$f":"трансп!K37","v":0}]
["Количество абонентов, подключенных к сетям подвижной связи","млн.ед.",1,null,null,null,"04",null,null,null,null,{"$f":"трансп!C38","v":0},{"$f":"трансп!C38","v":0},{"$f":"трансп!E38","v":0},{"$f":"трансп!E38","v":0},{"$f":"трансп!F38","v":0},{"$f":"трансп!G38","v":0},{"$f":"трансп!H38","v":0},{"$f":"трансп!I38","v":0},{"$f":"трансп!J38","v":0},{"$f":"трансп!K38","v":0}]
[null,null,null,null,null,null,null,null,null,null,null,{"$f":"трансп!C39","v":0},{"$f":"трансп!D39","v":0},{"$f":"трансп!E39","v":0},{"$f":"трансп!E39","v":0},{"$f":"трансп!F39","v":0},{"$f":"трансп!G39","v":0},{"$f":"трансп!H39","v":0},{"$f":"трансп!I39","v":0},{"$f":"трансп!J39","v":0},{"$f":"трансп!K39","v":0}]
["Количество почтовых ящиков на 10000 человек","единиц",1,null,null,null,"04",null,null,null,null,{"$f":"трансп!C40","v":0},{"$f":"трансп!C40","v":0},{"$f":"трансп!E40","v":0},{"$f":"трансп!E40","v":0},{"$f":"трансп!F40","v":0},{"$f":"трансп!G40","v":0},{"$f":"трансп!H40","v":0},{"$f":"трансп!I40","v":0},{"$f":"трансп!J40","v":0},{"$f":"трансп!K40","v":0}]
[null,null,null,null,null,null,null,null,null,null,null,{"$f":"трансп!C41","v":0},{"$f":"трансп!D41","v":0},{"$f":"трансп!E41","v":0},{"$f":"трансп!E41","v":0},{"$f":"трансп!F41","v":0},{"$f":"трансп!G41","v":0},{"$f":"трансп!H41","v":0},{"$f":"трансп!I41","v":0},{"$f":"трансп!J41","v":0},{"$f":"трансп!K41","v":0}]
["Деятельность,  связаная с использованием вычислительной техники и информационных технологий",null,null,null,null,null,null,null,null,null,null,{"$f":"трансп!C42","v":0},{"$f":"трансп!C42","v":0},{"$f":"трансп!E42","v":0},{"$f":"трансп!E42","v":0},{"$f":"трансп!F42","v":0},{"$f":"трансп!G42","v":0},{"$f":"трансп!H42","v":0},{"$f":"трансп!I42","v":0},{"$f":"трансп!J42","v":0},{"$f":"трансп!K42","v":0}]
[null,null,null,null,null,null,null,null,null,null,null,{"$f":"трансп!C43","v":0},{"$f":"трансп!D43","v":0},{"$f":"трансп!E43","v":0},{"$f":"трансп!E43","v":0},{"$f":"трансп!F43","v":0},{"$f":"трансп!G43","v":0},{"$f":"трансп!H43","v":0},{"$f":"трансп!I43","v":0},{"$f":"трансп!J43","v":0},{"$f":"трансп!K43","v":0}]
[" Наличие персональных компьютеров","штук",1,null,null,null,"04",null,null,null,null,{"$f":"трансп!C44","v":0},{"$f":"трансп!C44","v":0},{"$f":"трансп!E44","v":0},{"$f":"трансп!E44","v":0},{"$f":"трансп!F44","v":0},{"$f":"трансп!G44","v":0},{"$f":"трансп!H44","v":0},{"$f":"трансп!I44","v":0},{"$f":"трансп!J44","v":0},{"$f":"трансп!K44","v":0}]
[null,"в % к пред.году",1,null,null,null,"02",null,null,null,null,{"$f":"трансп!C45","v":0},{"$f":"трансп!C45","v":0},{"$f":"трансп!E45","v":0},{"$f":"трансп!E45","v":0},{"$f":"трансп!F45","v":0},{"$f":"трансп!G45","v":0},{"$f":"трансп!H45","v":0},{"$f":"трансп!I45","v":0},{"$f":"трансп!J45","v":0},{"$f":"трансп!K45","v":0}]
[null,null,null,null,null,null,null,null,null,null,null,{"$f":"трансп!C46","v":0},{"$f":"трансп!D46","v":0},{"$f":"трансп!E46","v":0},{"$f":"трансп!E46","v":0},{"$f":"трансп!F46","v":0},{"$f":"трансп!G46","v":0},{"$f":"трансп!H46","v":0},{"$f":"трансп!I46","v":0},{"$f":"трансп!J46","v":0},{"$f":"трансп!K46","v":0}]
[" в том числе подключенных к сети Интернет","штук",1,null,null,null,"04",null,null,null,null,{"$f":"трансп!C47","v":0},{"$f":"трансп!C47","v":0},{"$f":"трансп!E47","v":0},{"$f":"трансп!E47","v":0},{"$f":"трансп!F47","v":0},{"$f":"трансп!G47","v":0},{"$f":"трансп!H47","v":0},{"$f":"трансп!I47","v":0},{"$f":"трансп!J47","v":0},{"$f":"трансп!K47","v":0}]
[null,"в % к пред.году",1,null,null,null,"02",null,null,null,null,{"$f":"трансп!C48","v":0},{"$f":"трансп!C48","v":0},{"$f":"трансп!E48","v":0},{"$f":"трансп!E48","v":0},{"$f":"трансп!F48","v":0},{"$f":"трансп!G48","v":0},{"$f":"трансп!H48","v":0},{"$f":"трансп!I48","v":0},{"$f":"трансп!J48","v":0},{"$f":"трансп!K48","v":0}]
[null,null,null,null,null,null,null,null,null,null,null,{"$f":"трансп!C49","v":0},{"$f":"трансп!D49","v":0},{"$f":"трансп!E49","v":0},{"$f":"трансп!E49","v":0},{"$f":"трансп!F49","v":0},{"$f":"трансп!G49","v":0},{"$f":"трансп!H49","v":0},{"$f":"трансп!I49","v":0},{"$f":"трансп!J49","v":0},{"$f":"трансп!K49","v":0}]
["Количество компьютеров на 100 человек населения","единиц",1,null,null,null,"04",null,null,null,null,{"$f":"трансп!C50","v":0},{"$f":"трансп!C50","v":0},{"$f":"трансп!E50","v":0},{"$f":"трансп!E50","v":0},{"$f":"трансп!F50","v":0},{"$f":"трансп!G50","v":0},{"$f":"трансп!H50","v":0},{"$f":"трансп!I50","v":0},{"$f":"трансп!J50","v":0},{"$f":"трансп!K50","v":0}]
[null,"в % к пред.году",1,null,null,null,"02",null,null,null,null,{"$f":"трансп!C51","v":0},{"$f":"трансп!C51","v":0},{"$f":"трансп!E51","v":0},{"$f":"трансп!E51","v":0},{"$f":"трансп!F51","v":0},{"$f":"трансп!G51","v":0},{"$f":"трансп!H51","v":0},{"$f":"трансп!I51","v":0},{"$f":"трансп!J51","v":0},{"$f":"трансп!K51","v":0}]
[null,null,null,null,null,null,null,null,null,null,null,{"$f":"трансп!C52","v":0},{"$f":"трансп!D52","v":0},{"$f":"трансп!E52","v":0},{"$f":"трансп!E52","v":0},{"$f":"трансп!F52","v":0},{"$f":"трансп!G52","v":0},{"$f":"трансп!H52","v":0},{"$f":"трансп!I52","v":0},{"$f":"трансп!J52","v":0},{"$f":"трансп!K52","v":0}]
["Количество пользователей Интернет на 100 человек населения","единиц",1,null,null,null,"04",null,null,null,null,{"$f":"трансп!C53","v":0},{"$f":"трансп!C53","v":0},{"$f":"трансп!E53","v":0},{"$f":"трансп!E53","v":0},{"$f":"трансп!F53","v":0},{"$f":"трансп!G53","v":0},{"$f":"трансп!H53","v":0},{"$f":"трансп!I53","v":0},{"$f":"трансп!J53","v":0},{"$f":"трансп!K53","v":0}]
[null,"в % к пред.году",1,null,null,null,"02",null,null,null,null,{"$f":"трансп!C54","v":0},{"$f":"трансп!C54","v":0},0,{"$f":"трансп!E54","v":0},{"$f":"трансп!F54","v":0},{"$f":"трансп!G54","v":0},{"$f":"трансп!H54","v":0},{"$f":"трансп!I54","v":0},{"$f":"трансп!J54","v":0},{"$f":"трансп!K54","v":0}]
[null,null,null,null,null,null,null,null,null,null,null,null,{"$f":"трансп!C55","v":0}]
["2.6. Производство важнейших видов продукции в натуральном выражении ",null,null,null,null,null,null,null,null,null,null,null,{"$f":"трансп!C56","v":0}]
["Валовой сбор зерна (в весе после доработки)","тыс. тонн",1,null,null,null,"04",null,null,null,null,{"$f":"продукц!C5","v":0},{"$f":"трансп!C57","v":0},0,{"$f":"продукц!F5","v":0},{"$f":"продукц!G5","v":0},{"$f":"продукц!H5","v":0},{"$f":"продукц!I5","v":0},{"$f":"продукц!J5","v":0},{"$f":"продукц!K5","v":0},{"$f":"продукц!L5","v":0}]
["Валовой сбор сахарной свеклы (фабричной)","тыс. тонн",1,null,null,null,"04",null,null,null,null,{"$f":"продукц!C6","v":0},{"$f":"трансп!C58","v":0},{"$f":"продукц!F6","v":0},{"$f":"продукц!F6","v":0},{"$f":"продукц!G6","v":0},{"$f":"продукц!H6","v":0},{"$f":"продукц!I6","v":0},{"$f":"продукц!J6","v":0},{"$f":"продукц!K6","v":0},{"$f":"продукц!L6","v":0}]
["Валовой сбор масличных культур – всего","тыс. тонн",1,null,null,null,"04",null,null,null,null,{"$f":"продукц!C7","v":0},{"$f":"трансп!C59","v":0},{"$f":"продукц!F7","v":0},{"$f":"продукц!F7","v":0},{"$f":"продукц!G7","v":0},{"$f":"продукц!H7","v":0},{"$f":"продукц!I7","v":0},{"$f":"продукц!J7","v":0},{"$f":"продукц!K7","v":0},{"$f":"продукц!L7","v":0}]
["       в том числе подсолнечника","тыс. тонн",1,null,null,null,"04",null,null,null,null,{"$f":"продукц!C8","v":0},{"$f":"трансп!C60","v":0},{"$f":"продукц!F8","v":0},{"$f":"продукц!F8","v":0},{"$f":"продукц!G8","v":0},{"$f":"продукц!H8","v":0},{"$f":"продукц!I8","v":0},{"$f":"продукц!J8","v":0},{"$f":"продукц!K8","v":0},{"$f":"продукц!L8","v":0}]
["Валовой сбор картофеля","тыс. тонн",1,null,null,null,"04",null,null,null,null,{"$f":"продукц!C9","v":0},{"$f":"трансп!C61","v":0},{"$f":"продукц!F9","v":0},{"$f":"продукц!F9","v":0},{"$f":"продукц!G9","v":0},{"$f":"продукц!H9","v":0},{"$f":"продукц!I9","v":0},{"$f":"продукц!J9","v":0},{"$f":"продукц!K9","v":0},{"$f":"продукц!L9","v":0}]
["Валовой сбор овощей","тыс. тонн",1,null,null,null,"04",null,null,null,null,{"$f":"продукц!C10","v":0},{"$f":"трансп!C62","v":0},{"$f":"продукц!F10","v":0},{"$f":"продукц!F10","v":0},{"$f":"продукц!G10","v":0},{"$f":"продукц!H10","v":0},{"$f":"продукц!I10","v":0},{"$f":"продукц!J10","v":0},{"$f":"продукц!K10","v":0},{"$f":"продукц!L10","v":0}]
["Производство скота и птицы на убой (в живом весе)","тыс. тонн",1,null,null,null,"04",null,null,null,null,{"$f":"продукц!C11","v":0},{"$f":"трансп!C63","v":0},{"$f":"продукц!F11","v":0},{"$f":"продукц!F11","v":0},{"$f":"продукц!G11","v":0},{"$f":"продукц!H11","v":0},{"$f":"продукц!I11","v":0},{"$f":"продукц!J11","v":0},{"$f":"продукц!K11","v":0},{"$f":"продукц!L11","v":0}]
["Производство молока","тыс. тонн",1,null,null,null,"04",null,null,null,null,{"$f":"продукц!C12","v":0},{"$f":"трансп!C64","v":0},{"$f":"продукц!F12","v":0},{"$f":"продукц!F12","v":0},{"$f":"продукц!G12","v":0},{"$f":"продукц!H12","v":0},{"$f":"продукц!I12","v":0},{"$f":"продукц!J12","v":0},{"$f":"продукц!K12","v":0},{"$f":"продукц!L12","v":0}]
["Производство яиц","млн. штук",1,null,null,null,"04",null,null,null,null,{"$f":"продукц!C13","v":0},{"$f":"трансп!C65","v":0},{"$f":"продукц!F13","v":0},{"$f":"продукц!F13","v":0},{"$f":"продукц!G13","v":0},{"$f":"продукц!H13","v":0},{"$f":"продукц!I13","v":0},{"$f":"продукц!J13","v":0},{"$f":"продукц!K13","v":0},{"$f":"продукц!L13","v":0}]
["Валовой сбор льноволокна","тонн",1,null,null,null,"04",null,null,null,null,{"$f":"продукц!C14","v":0},{"$f":"трансп!C66","v":0},{"$f":"продукц!F14","v":0},{"$f":"продукц!F14","v":0},{"$f":"продукц!G14","v":0},{"$f":"продукц!H14","v":0},{"$f":"продукц!I14","v":0},{"$f":"продукц!J14","v":0},{"$f":"продукц!K14","v":0},{"$f":"продукц!L14","v":0}]
["Производство деловой древесины","тыс. плот. куб. м",1,null,null,null,"04",null,null,null,null,{"$f":"продукц!C15","v":0},{"$f":"трансп!C67","v":0},{"$f":"продукц!F15","v":0},{"$f":"продукц!F15","v":0},{"$f":"продукц!G15","v":0},{"$f":"продукц!H15","v":0},{"$f":"продукц!I15","v":0},{"$f":"продукц!J15","v":0},{"$f":"продукц!K15","v":0},{"$f":"продукц!L15","v":0}]
["Добыча угля","тыс. тонн",1,null,null,null,"04",null,null,null,null,{"$f":"продукц!C16","v":0},{"$f":"трансп!C68","v":0},{"$f":"продукц!F16","v":0},{"$f":"продукц!F16","v":0},{"$f":"продукц!G16","v":0},{"$f":"продукц!H16","v":0},{"$f":"продукц!I16","v":0},{"$f":"продукц!J16","v":0},{"$f":"продукц!K16","v":0},{"$f":"продукц!L16","v":0}]
["Добыча нефти, включая газовый конденсат","тыс. тонн",1,null,null,null,"04",null,null,null,null,{"$f":"продукц!C17","v":0},{"$f":"трансп!C69","v":0},{"$f":"продукц!F17","v":0},{"$f":"продукц!F17","v":0},{"$f":"продукц!G17","v":0},{"$f":"продукц!H17","v":0},{"$f":"продукц!I17","v":0},{"$f":"продукц!J17","v":0},{"$f":"продукц!K17","v":0},{"$f":"продукц!L17","v":0}]
["Добыча газа горючего природного (естественного)","млн. куб. м ",1,null,null,null,"04",null,null,null,null,{"$f":"продукц!C18","v":0},{"$f":"трансп!C70","v":0},{"$f":"продукц!F18","v":0},{"$f":"продукц!F18","v":0},{"$f":"продукц!G18","v":0},{"$f":"продукц!H18","v":0},{"$f":"продукц!I18","v":0},{"$f":"продукц!J18","v":0},{"$f":"продукц!K18","v":0},{"$f":"продукц!L18","v":0}]
["Производство мяса, включая субпродукты 1 категории","тыс. тонн",1,null,null,null,"04",null,null,null,null,{"$f":"продукц!C19","v":0},{"$f":"трансп!C71","v":0},{"$f":"продукц!F19","v":0},{"$f":"продукц!F19","v":0},{"$f":"продукц!G19","v":0},{"$f":"продукц!H19","v":0},{"$f":"продукц!I19","v":0},{"$f":"продукц!J19","v":0},{"$f":"продукц!K19","v":0},{"$f":"продукц!L19","v":0}]
["Производство цельномолочной продукции (в пересчете на молоко)","тыс. тонн",1,null,null,null,"04",null,null,null,null,{"$f":"продукц!C20","v":0},{"$f":"трансп!C72","v":0},{"$f":"продукц!F20","v":0},{"$f":"продукц!F20","v":0},{"$f":"продукц!G20","v":0},{"$f":"продукц!H20","v":0},{"$f":"продукц!I20","v":0},{"$f":"продукц!J20","v":0},{"$f":"продукц!K20","v":0},{"$f":"продукц!L20","v":0}]
["Производство сахара-песка","тыс. тонн",1,null,null,null,"04",null,null,null,null,{"$f":"продукц!C21","v":0},{"$f":"трансп!C73","v":0},{"$f":"продукц!F21","v":0},{"$f":"продукц!F21","v":0},{"$f":"продукц!G21","v":0},{"$f":"продукц!H21","v":0},{"$f":"продукц!I21","v":0},{"$f":"продукц!J21","v":0},{"$f":"продукц!K21","v":0},{"$f":"продукц!L21","v":0}]
["Производство масел растительных","тыс. тонн",1,null,null,null,"04",null,null,null,null,{"$f":"продукц!C22","v":0},{"$f":"трансп!C74","v":0},{"$f":"продукц!F22","v":0},{"$f":"продукц!F22","v":0},{"$f":"продукц!G22","v":0},{"$f":"продукц!H22","v":0},{"$f":"продукц!I22","v":0},{"$f":"продукц!J22","v":0},{"$f":"продукц!K22","v":0},{"$f":"продукц!L22","v":0}]
["Производство товарной пищевой рыбной продукции, включая консервы рыбные","тыс. тонн",1,null,null,null,"04",null,null,null,null,{"$f":"продукц!C23","v":0},{"$f":"трансп!C75","v":0},{"$f":"продукц!F23","v":0},{"$f":"продукц!F23","v":0},{"$f":"продукц!G23","v":0},{"$f":"продукц!H23","v":0},{"$f":"продукц!I23","v":0},{"$f":"продукц!J23","v":0},{"$f":"продукц!K23","v":0},{"$f":"продукц!L23","v":0}]
["Производство спирта этилового из пищевого сырья и технического","тыс. дкл",1,null,null,null,"04",null,null,null,null,{"$f":"продукц!C24","v":0},{"$f":"трансп!C76","v":0},{"$f":"продукц!F24","v":0},{"$f":"продукц!F24","v":0},{"$f":"продукц!G24","v":0},{"$f":"продукц!H24","v":0},{"$f":"продукц!I24","v":0},{"$f":"продукц!J24","v":0},{"$f":"продукц!K24","v":0},{"$f":"продукц!L24","v":0}]
["Производство спирта этилового из пищевого сырья","тыс. дкл",1,null,null,null,"04",null,null,null,null,{"$f":"продукц!C25","v":0},{"$f":"трансп!C77","v":0},{"$f":"продукц!F25","v":0},{"$f":"продукц!F25","v":0},{"$f":"продукц!G25","v":0},{"$f":"продукц!H25","v":0},{"$f":"продукц!I25","v":0},{"$f":"продукц!J25","v":0},{"$f":"продукц!K25","v":0},{"$f":"продукц!L25","v":0}]
["Производство водки и ликеро-водочных изделий","тыс. дкл",1,null,null,null,"04",null,null,null,null,{"$f":"продукц!C26","v":0},{"$f":"трансп!C78","v":0},{"$f":"продукц!F26","v":0},{"$f":"продукц!F26","v":0},{"$f":"продукц!G26","v":0},{"$f":"продукц!H26","v":0},{"$f":"продукц!I26","v":0},{"$f":"продукц!J26","v":0},{"$f":"продукц!K26","v":0},{"$f":"продукц!L26","v":0}]
["Производство коньяков","тыс. дкл",1,null,null,null,"04",null,null,null,null,{"$f":"продукц!C27","v":0},{"$f":"трансп!C79","v":0},{"$f":"продукц!F27","v":0},{"$f":"продукц!F27","v":0},{"$f":"продукц!G27","v":0},{"$f":"продукц!H27","v":0},{"$f":"продукц!I27","v":0},{"$f":"продукц!J27","v":0},{"$f":"продукц!K27","v":0},{"$f":"продукц!L27","v":0}]
["Производство вин виноградных","тыс. дкл",1,null,null,null,"04",null,null,null,null,{"$f":"продукц!C28","v":0},{"$f":"трансп!C80","v":0},{"$f":"продукц!F28","v":0},{"$f":"продукц!F28","v":0},{"$f":"продукц!G28","v":0},{"$f":"продукц!H28","v":0},{"$f":"продукц!I28","v":0},{"$f":"продукц!J28","v":0},{"$f":"продукц!K28","v":0},{"$f":"продукц!L28","v":0}]
["Производство вин плодовых","тыс. дкл",1,null,null,null,"04",null,null,null,null,{"$f":"продукц!C29","v":0},{"$f":"трансп!C81","v":0},{"$f":"продукц!F29","v":0},{"$f":"продукц!F29","v":0},{"$f":"продукц!G29","v":0},{"$f":"продукц!H29","v":0},{"$f":"продукц!I29","v":0},{"$f":"продукц!J29","v":0},{"$f":"продукц!K29","v":0},{"$f":"продукц!L29","v":0}]
["Производство вин шампанских и игристых","тыс. дкл",1,null,null,null,"04",null,null,null,null,{"$f":"продукц!C30","v":0},{"$f":"трансп!C82","v":0},{"$f":"продукц!F30","v":0},{"$f":"продукц!F30","v":0},{"$f":"продукц!G30","v":0},{"$f":"продукц!H30","v":0},{"$f":"продукц!I30","v":0},{"$f":"продукц!J30","v":0},{"$f":"продукц!K30","v":0},{"$f":"продукц!L30","v":0}]
["Hапитки винные (виноградные и плодовые) с содержанием спирта более 20% объемных ","тыс. дкл",1,null,null,null,"04",null,null,null,null,{"$f":"продукц!C31","v":0},{"$f":"трансп!C83","v":0},{"$f":"продукц!F31","v":0},{"$f":"продукц!F31","v":0},{"$f":"продукц!G31","v":0},{"$f":"продукц!H31","v":0},{"$f":"продукц!I31","v":0},{"$f":"продукц!J31","v":0},{"$f":"продукц!K31","v":0},{"$f":"продукц!L31","v":0}]
["Hапитки винные (виноградные и плодовые) с содержанием спирта до 20% объемных включительно","тыс. дкл",1,null,null,null,"04",null,null,null,null,{"$f":"продукц!C32","v":0},{"$f":"трансп!C84","v":0},{"$f":"продукц!F32","v":0},{"$f":"продукц!F32","v":0},{"$f":"продукц!G32","v":0},{"$f":"продукц!H32","v":0},{"$f":"продукц!I32","v":0},{"$f":"продукц!J32","v":0},{"$f":"продукц!K32","v":0},{"$f":"продукц!L32","v":0}]
["Напитки слабоалкогольные с содержанием этилового спирта не более 9%","тыс. дкл",1,null,null,null,"04",null,null,null,null,{"$f":"продукц!C33","v":0},{"$f":"трансп!C85","v":0},{"$f":"продукц!F33","v":0},{"$f":"продукц!F33","v":0},{"$f":"продукц!G33","v":0},{"$f":"продукц!H33","v":0},{"$f":"продукц!I33","v":0},{"$f":"продукц!J33","v":0},{"$f":"продукц!K33","v":0},{"$f":"продукц!L33","v":0}]
["Производство пива","тыс. дкл",1,null,null,null,"04",null,null,null,null,{"$f":"продукц!C34","v":4306},{"$f":"продукц!D34","v":5597},{"$f":"продукц!E34","v":5492.9},{"$f":"продукц!F34","v":6100},{"$f":"продукц!G34","v":6100},{"$f":"продукц!H34","v":6112},{"$f":"продукц!I34","v":6112},{"$f":"продукц!J34","v":6115},{"$f":"продукц!K34","v":6115},{"$f":"продукц!L34","v":6120}]
["Производство хлопчатобумажных готовых тканей","тыс. кв. м",1,null,null,null,"04",null,null,null,null,{"$f":"продукц!C35","v":0},{"$f":"продукц!D35","v":0},{"$f":"продукц!F35","v":0},{"$f":"продукц!F35","v":0},{"$f":"продукц!G35","v":0},{"$f":"продукц!H35","v":0},{"$f":"продукц!I35","v":0},{"$f":"продукц!J35","v":0},{"$f":"продукц!K35","v":0},{"$f":"продукц!L35","v":0}]
["Производство трикотажных изделий","тыс. штук",1,null,null,null,"04",null,null,null,null,{"$f":"продукц!C36","v":753},{"$f":"продукц!D36","v":780.4},{"$f":"продукц!E36","v":955.2},{"$f":"продукц!F36","v":958},{"$f":"продукц!G36","v":1000},{"$f":"продукц!H36","v":1100},{"$f":"продукц!I36","v":1100},{"$f":"продукц!J36","v":1200},{"$f":"продукц!K36","v":1200},{"$f":"продукц!L36","v":1300}]
["Производство обуви","тыс. пар",1,null,null,null,"04",null,null,null,null,{"$f":"продукц!C37","v":0},{"$f":"продукц!D37","v":0},{"$f":"продукц!F37","v":0},{"$f":"продукц!F37","v":0},{"$f":"продукц!G37","v":0},{"$f":"продукц!H37","v":0},{"$f":"продукц!I37","v":0},{"$f":"продукц!J37","v":0},{"$f":"продукц!K37","v":0},{"$f":"продукц!L37","v":0}]
["Производство пиломатериалов","тыс. куб. м",1,null,null,null,"04",null,null,null,null,{"$f":"продукц!C38","v":0},{"$f":"продукц!D38","v":0},{"$f":"продукц!F38","v":0},{"$f":"продукц!F38","v":0},{"$f":"продукц!G38","v":0},{"$f":"продукц!H38","v":0},{"$f":"продукц!I38","v":0},{"$f":"продукц!J38","v":0},{"$f":"продукц!K38","v":0},{"$f":"продукц!L38","v":0}]
["Производство бумаги","тыс. тонн",1,null,null,null,"04",null,null,null,null,{"$f":"продукц!C39","v":0},{"$f":"продукц!D39","v":0},{"$f":"продукц!F39","v":0},{"$f":"продукц!F39","v":0},{"$f":"продукц!G39","v":0},{"$f":"продукц!H39","v":0},{"$f":"продукц!I39","v":0},{"$f":"продукц!J39","v":0},{"$f":"продукц!K39","v":0},{"$f":"продукц!L39","v":0}]
["Производство автомобильного бензина","тыс. тонн",1,null,null,null,"04",null,null,null,null,{"$f":"продукц!C40","v":0},{"$f":"продукц!D40","v":0},{"$f":"продукц!F40","v":0},{"$f":"продукц!F40","v":0},{"$f":"продукц!G40","v":0},{"$f":"продукц!H40","v":0},{"$f":"продукц!I40","v":0},{"$f":"продукц!J40","v":0},{"$f":"продукц!K40","v":0},{"$f":"продукц!L40","v":0}]
["Производство дизельного топлива","тыс. тонн",1,null,null,null,"04",null,null,null,null,{"$f":"продукц!C41","v":0},{"$f":"продукц!D41","v":0},{"$f":"продукц!F41","v":0},{"$f":"продукц!F41","v":0},{"$f":"продукц!G41","v":0},{"$f":"продукц!H41","v":0},{"$f":"продукц!I41","v":0},{"$f":"продукц!J41","v":0},{"$f":"продукц!K41","v":0},{"$f":"продукц!L41","v":0}]
["Производство смазочных нефтяных масел","тыс. тонн",1,null,null,null,"04",null,null,null,null,{"$f":"продукц!C42","v":0},{"$f":"продукц!D42","v":0},{"$f":"продукц!F42","v":0},{"$f":"продукц!F42","v":0},{"$f":"продукц!G42","v":0},{"$f":"продукц!H42","v":0},{"$f":"продукц!I42","v":0},{"$f":"продукц!J42","v":0},{"$f":"продукц!K42","v":0},{"$f":"продукц!L42","v":0}]
["Производство топочного мазута","тыс. тонн",1,null,null,null,"04",null,null,null,null,{"$f":"продукц!C43","v":0},{"$f":"продукц!D43","v":0},{"$f":"продукц!F43","v":0},{"$f":"продукц!F43","v":0},{"$f":"продукц!G43","v":0},{"$f":"продукц!H43","v":0},{"$f":"продукц!I43","v":0},{"$f":"продукц!J43","v":0},{"$f":"продукц!K43","v":0},{"$f":"продукц!L43","v":0}]
["Производство минеральных удобрений (в пересчете на 100% питательных веществ) ","тыс. тонн",1,null,null,null,"04",null,null,null,null,{"$f":"продукц!C44","v":0},{"$f":"продукц!D44","v":0},{"$f":"продукц!F44","v":0},{"$f":"продукц!F44","v":0},{"$f":"продукц!G44","v":0},{"$f":"продукц!H44","v":0},{"$f":"продукц!I44","v":0},{"$f":"продукц!J44","v":0},{"$f":"продукц!K44","v":0},{"$f":"продукц!L44","v":0}]
["Производство полиэтилена","тонн",1,null,null,null,"04",null,null,null,null,{"$f":"продукц!C45","v":0},{"$f":"продукц!D45","v":0},{"$f":"продукц!F45","v":0},{"$f":"продукц!F45","v":0},{"$f":"продукц!G45","v":0},{"$f":"продукц!H45","v":0},{"$f":"продукц!I45","v":0},{"$f":"продукц!J45","v":0},{"$f":"продукц!K45","v":0},{"$f":"продукц!L45","v":0}]
["Производство шин для грузовых автомобилей, автобусов и троллейбусов","тыс. штук",1,null,null,null,"04",null,null,null,null,{"$f":"продукц!C46","v":0},{"$f":"продукц!D46","v":0},{"$f":"продукц!F46","v":0},{"$f":"продукц!F46","v":0},{"$f":"продукц!G46","v":0},{"$f":"продукц!H46","v":0},{"$f":"продукц!I46","v":0},{"$f":"продукц!J46","v":0},{"$f":"продукц!K46","v":0},{"$f":"продукц!L46","v":0}]
["Производство шин для легковых автомобилей","тыс. штук",1,null,null,null,"04",null,null,null,null,{"$f":"продукц!C47","v":0},{"$f":"продукц!D47","v":0},{"$f":"продукц!F47","v":0},{"$f":"продукц!F47","v":0},{"$f":"продукц!G47","v":0},{"$f":"продукц!H47","v":0},{"$f":"продукц!I47","v":0},{"$f":"продукц!J47","v":0},{"$f":"продукц!K47","v":0},{"$f":"продукц!L47","v":0}]
["Производство цемента","тыс. тонн",1,null,null,null,"04",null,null,null,null,{"$f":"продукц!C48","v":0},{"$f":"продукц!D48","v":0},{"$f":"продукц!F48","v":0},{"$f":"продукц!F48","v":0},{"$f":"продукц!G48","v":0},{"$f":"продукц!H48","v":0},{"$f":"продукц!I48","v":0},{"$f":"продукц!J48","v":0},{"$f":"продукц!K48","v":0},{"$f":"продукц!L48","v":0}]
["Производство строительного кирпича","млн. условных кирпичей",1,null,null,null,"04",null,null,null,null,{"$f":"продукц!C49","v":23.6},{"$f":"продукц!D49","v":21.1},{"$f":"продукц!E49","v":10.7},{"$f":"продукц!F49","v":11},{"$f":"продукц!G49","v":12},{"$f":"продукц!H49","v":13},{"$f":"продукц!I49","v":13},{"$f":"продукц!J49","v":14},{"$f":"продукц!K49","v":14},{"$f":"продукц!L49","v":15}]
["Производство блоков и камней мелких стеновых (без блоков из ячеистого бетона)","млн. условных кирпичей",1,null,null,null,"04",null,null,null,null,{"$f":"продукц!C50","v":9},{"$f":"продукц!D50","v":10.4},{"$f":"продукц!E50","v":5.5},{"$f":"продукц!F50","v":8},{"$f":"продукц!G50","v":8},{"$f":"продукц!H50","v":9},{"$f":"продукц!I50","v":9},{"$f":"продукц!J50","v":10},{"$f":"продукц!K50","v":10},{"$f":"продукц!L50","v":11}]
["Производство блоков крупных стеновых (включая бетонные блоки стен подвалов)","млн. условных кирпичей",1,null,null,null,"04",null,null,null,null,{"$f":"продукц!C51","v":0.8},{"$f":"продукц!D51","v":1.4},{"$f":"продукц!E51","v":2.1},2.5,{"$f":"продукц!G51","v":2.6},{"$f":"продукц!H51","v":2.7},{"$f":"продукц!I51","v":2.7},{"$f":"продукц!J51","v":2.8},{"$f":"продукц!K51","v":2.8},{"$f":"продукц!L51","v":2.9}]
["Производство блоков мелких стеновых из ячеистого бетона","млн. условных кирпичей",1,null,null,null,"04",null,null,null,null,{"$f":"продукц!C52","v":0},{"$f":"продукц!D52","v":0.8},{"$f":"продукц!E52","v":0.5},{"$f":"продукц!F52","v":1},{"$f":"продукц!G52","v":1.2},{"$f":"продукц!H52","v":1.4},{"$f":"продукц!I52","v":1.4},{"$f":"продукц!J52","v":1.5},{"$f":"продукц!K52","v":1.5},{"$f":"продукц!L52","v":1.6}]
["Производство готового проката черных металлов","тыс. тонн",1,null,null,null,"04",null,null,null,null,{"$f":"продукц!C53","v":0},{"$f":"продукц!D53","v":0},{"$f":"продукц!F53","v":0},{"$f":"продукц!F53","v":0},{"$f":"продукц!G53","v":0},{"$f":"продукц!H53","v":0},{"$f":"продукц!I53","v":0},{"$f":"продукц!J53","v":0},{"$f":"продукц!K53","v":0},{"$f":"продукц!L53","v":0}]
["Производство стальных труб","тыс. тонн",1,null,null,null,"04",null,null,null,null,{"$f":"продукц!C54","v":0},{"$f":"продукц!D54","v":0},{"$f":"продукц!F54","v":0},{"$f":"продукц!F54","v":0},{"$f":"продукц!G54","v":0},{"$f":"продукц!H54","v":0},{"$f":"продукц!I54","v":0},{"$f":"продукц!J54","v":0},{"$f":"продукц!K54","v":0},{"$f":"продукц!L54","v":0}]
["Производство металлорежущих станков","штук",1,null,null,null,"04",null,null,null,null,{"$f":"продукц!C55","v":0},{"$f":"продукц!D55","v":0},{"$f":"продукц!F55","v":0},{"$f":"продукц!F55","v":0},{"$f":"продукц!G55","v":0},{"$f":"продукц!H55","v":0},{"$f":"продукц!I55","v":0},{"$f":"продукц!J55","v":0},{"$f":"продукц!K55","v":0},{"$f":"продукц!L55","v":0}]
["Производство тракторов","штук",1,null,null,null,"04",null,null,null,null,{"$f":"продукц!C56","v":0},{"$f":"продукц!D56","v":0},{"$f":"продукц!F56","v":0},{"$f":"продукц!F56","v":0},{"$f":"продукц!G56","v":0},{"$f":"продукц!H56","v":0},{"$f":"продукц!I56","v":0},{"$f":"продукц!J56","v":0},{"$f":"продукц!K56","v":0},{"$f":"продукц!L56","v":0}]
["Производство телевизоров","тыс. штук",1,null,null,null,"04",null,null,null,null,{"$f":"продукц!C57","v":0},{"$f":"продукц!D57","v":0},{"$f":"продукц!F57","v":0},{"$f":"продукц!F57","v":0},{"$f":"продукц!G57","v":0},{"$f":"продукц!H57","v":0},{"$f":"продукц!I57","v":0},{"$f":"продукц!J57","v":0},{"$f":"продукц!K57","v":0},{"$f":"продукц!L57","v":0}]
["Производство бытовых холодильников и морозильников","тыс. штук",1,null,null,null,"04",null,null,null,null,{"$f":"продукц!C58","v":0},{"$f":"продукц!D58","v":0},{"$f":"продукц!F58","v":0},{"$f":"продукц!F58","v":0},{"$f":"продукц!G58","v":0},{"$f":"продукц!H58","v":0},{"$f":"продукц!I58","v":0},{"$f":"продукц!J58","v":0},{"$f":"продукц!K58","v":0},{"$f":"продукц!L58","v":0}]
["Производство бытовых стиральных машин","тыс. штук",1,null,null,null,"04",null,null,null,null,{"$f":"продукц!C59","v":0},{"$f":"продукц!D59","v":0},{"$f":"продукц!F59","v":0},{"$f":"продукц!F59","v":0},{"$f":"продукц!G59","v":0},{"$f":"продукц!H59","v":0},{"$f":"продукц!I59","v":0},{"$f":"продукц!J59","v":0},{"$f":"продукц!K59","v":0},{"$f":"продукц!L59","v":0}]
["Производство электропылесосов","тыс. штук",1,null,null,null,"04",null,null,null,null,{"$f":"продукц!C60","v":0},{"$f":"продукц!D60","v":0},{"$f":"продукц!F60","v":0},{"$f":"продукц!F60","v":0},{"$f":"продукц!G60","v":0},{"$f":"продукц!H60","v":0},{"$f":"продукц!I60","v":0},{"$f":"продукц!J60","v":0},{"$f":"продукц!K60","v":0},{"$f":"продукц!L60","v":0}]
["Производство ювелирных изделий в фактических ценах (без НДС и акциза)","тыс. руб.",1,null,null,null,"04",null,null,null,null,{"$f":"продукц!C61","v":0},{"$f":"продукц!D61","v":0},{"$f":"продукц!F61","v":0},{"$f":"продукц!F61","v":0},{"$f":"продукц!G61","v":0},{"$f":"продукц!H61","v":0},{"$f":"продукц!I61","v":0},{"$f":"продукц!J61","v":0},{"$f":"продукц!K61","v":0},{"$f":"продукц!L61","v":0}]
["Производство грузовых автомобилей","штук",1,null,null,null,"04",null,null,null,null,{"$f":"продукц!C62","v":0},{"$f":"продукц!D62","v":0},{"$f":"продукц!F62","v":0},{"$f":"продукц!F62","v":0},{"$f":"продукц!G62","v":0},{"$f":"продукц!H62","v":0},{"$f":"продукц!I62","v":0},{"$f":"продукц!J62","v":0},{"$f":"продукц!K62","v":0},{"$f":"продукц!L62","v":0}]
["Производство легковых автомобилей","тыс. штук",1,null,null,null,"04",null,null,null,null,{"$f":"продукц!C63","v":0},{"$f":"продукц!D63","v":0},{"$f":"продукц!F63","v":0},{"$f":"продукц!F63","v":0},{"$f":"продукц!G63","v":0},{"$f":"продукц!H63","v":0},{"$f":"продукц!I63","v":0},{"$f":"продукц!J63","v":0},{"$f":"продукц!K63","v":0},{"$f":"продукц!L63","v":0}]
["Производство мотоциклов","штук",1,null,null,null,"04",null,null,null,null,{"$f":"продукц!C64","v":0},{"$f":"продукц!D64","v":0},{"$f":"продукц!F64","v":0},{"$f":"продукц!F64","v":0},{"$f":"продукц!G64","v":0},{"$f":"продукц!H64","v":0},{"$f":"продукц!I64","v":0},{"$f":"продукц!J64","v":0},{"$f":"продукц!K64","v":0},{"$f":"продукц!L64","v":0}]
["Производство электроэнергии","млн. кВт. ч",1,null,null,null,"04",null,null,null,null,{"$f":"продукц!C65","v":3309.5},{"$f":"продукц!D65","v":3297.6},{"$f":"продукц!E65","v":3414.2},{"$f":"продукц!F65","v":3332},{"$f":"продукц!G65","v":3335},{"$f":"продукц!H65","v":3340},{"$f":"продукц!I65","v":3340},{"$f":"продукц!J65","v":3350},{"$f":"продукц!K65","v":3350},{"$f":"продукц!L65","v":3400}]
["в том числе:",null,null,null,null,null,null,null,null,null,null,{"$f":"продукц!C66","v":0},{"$f":"продукц!D66","v":0},{"$f":"продукц!F66","v":0},{"$f":"продукц!F66","v":0},{"$f":"продукц!G66","v":0},{"$f":"продукц!H66","v":0},{"$f":"продукц!I66","v":0},{"$f":"продукц!J66","v":0},{"$f":"продукц!K66","v":0},{"$f":"продукц!L66","v":0}]
["Производство электроэнергии, вырабатываемой АЭС","млн. кВт. ч",1,null,null,null,"04",null,null,null,null,{"$f":"продукц!C67","v":0},{"$f":"продукц!D67","v":0},{"$f":"продукц!F67","v":0},{"$f":"продукц!F67","v":0},{"$f":"продукц!G67","v":0},{"$f":"продукц!H67","v":0},{"$f":"продукц!I67","v":0},{"$f":"продукц!J67","v":0},{"$f":"продукц!K67","v":0},{"$f":"продукц!L67","v":0}]
["Производство электроэнергии, вырабатываемой ТЭС","млн. кВт. ч",1,null,null,null,"04",null,null,null,null,{"$f":"продукц!C68","v":1003.6},{"$f":"продукц!D68","v":1123},{"$f":"продукц!E68","v":1231.7},{"$f":"продукц!F68","v":1232},{"$f":"продукц!G68","v":1235},{"$f":"продукц!H68","v":1240},{"$f":"продукц!I68","v":1240},{"$f":"продукц!J68","v":1250},{"$f":"продукц!K68","v":1250},{"$f":"продукц!L68","v":1300}]
["Производство электроэнергии, вырабатываемой ГЭС","млн. кВт. ч",1,null,null,null,"04",null,null,null,null,{"$f":"продукц!C69","v":2305.9},{"$f":"продукц!D69","v":2174.6},2182.5,2100,2100,2100,2100,2100,2100,2100]
["2.7. Строительство"]
["Объем выполненных работ по виду деятельности \"строительство\" (Раздел F)","млн. руб. ",1,null,null,null,"04",null,null,null,null,{"$f":"строит!C5","v":652.5},{"$f":"строит!D5","v":491.6},{"$f":"строит!E5","v":781.6},{"$f":"строит!F5","v":750},{"$f":"строит!G5","v":750},{"$f":"строит!H5","v":790},{"$f":"строит!I5","v":798.75},{"$f":"строит!J5","v":875.12249999999995},{"$f":"строит!K5","v":849.30288749999988},{"$f":"строит!L5","v":931.77355503750005}]
[null,"% к предыдущему году в сопоставимых ценах",1,null,null,null,"02",null,null,null,null,{"$f":"строит!C6","v":35.5},{"$f":"строит!D6","v":80.2},{"$f":"строит!E6","v":140.69999999999999},{"$f":"строит!F6","v":89.763340747386323},{"$f":"строит!G6","v":93.45794392523365},{"$f":"строит!H6","v":99.277411247251024},{"$f":"строит!I6","v":100},{"$f":"строит!J6","v":105},{"$f":"строит!K6","v":100.5},{"$f":"строит!L6","v":101.5}]
["Индекс-дефлятор по объему работ, выполненных по виду деятельности \"строительство\" (Раздел F)","% к предыдущему году",1,null,null,null,"30",null,null,null,null,{"$f":"строит!C7","v":0},{"$f":"строит!D7","v":93.941391731399463},{"$f":"строит!E7","v":113},{"$f":"строит!F7","v":106.9},{"$f":"строит!G7","v":107},{"$f":"строит!H7","v":106.1},{"$f":"строит!I7","v":106.5},{"$f":"строит!J7","v":105.5},{"$f":"строит!K7","v":105.8},{"$f":"строит!L7","v":104.9}]
["3. Рынок товаров и услуг"]
["Индекс потребительских цен","декабрь к декабрю предыдущего года, %",1,null,null,null,"02",null,null,null,null,{"$f":"потребит!C5","v":109.8},{"$f":"потребит!C5","v":109.8},{"$f":"потребит!D5","v":106.2},{"$f":"потребит!F5","v":105.8},{"$f":"потребит!G5","v":105.7},{"$f":"потребит!H5","v":105},{"$f":"потребит!I5","v":105.5},{"$f":"потребит!J5","v":104.5},{"$f":"потребит!K5","v":105},{"$f":"потребит!L5","v":104}]
["Индекс потребительских цен за период с начала года (на конец периода)","к соответствующему периоду предыдущего года, %",1,null,null,null,"02",null,null,null,null,{"$f":"потребит!C6","v":107.1},{"$f":"потребит!C6","v":107.1},{"$f":"потребит!D6","v":108.8},{"$f":"потребит!F6","v":104.6},{"$f":"потребит!G6","v":106.8},{"$f":"потребит!H6","v":106.3},{"$f":"потребит!I6","v":105.7},{"$f":"потребит!J6","v":104.6},{"$f":"потребит!K6","v":105.1},{"$f":"потребит!L6","v":104.3}]
["Оборот розничной торговли ","млн. руб.",1,null,null,null,"04",null,null,null,null,{"$f":"потребит!C7","v":6485.9},{"$f":"потребит!C7","v":6485.9},{"$f":"потребит!D7","v":7677.6452096000003},{"$f":"потребит!F7","v":8617.0665221562376},{"$f":"потребит!G7","v":9847.2389388592637},{"$f":"потребит!H7","v":9892.7370500962479},{"$f":"потребит!I7","v":11189.171425252309},{"$f":"потребит!J7","v":11196.32279666153},{"$f":"потребит!K7","v":12700.604701375391},{"$f":"потребит!L7","v":12647.019145102166}]
[null,"% к предыдущему году в сопоставимых ценах",1,null,null,null,"02",null,null,null,null,{"$f":"потребит!C8","v":117},{"$f":"потребит!C8","v":117},{"$f":"потребит!D8","v":108.8},{"$f":"потребит!F8","v":107.3},{"$f":"потребит!G8","v":107},{"$f":"потребит!H8","v":108},{"$f":"потребит!I8","v":107.5},{"$f":"потребит!J8","v":108.2},{"$f":"потребит!K8","v":108},{"$f":"потребит!L8","v":108.3}]
["Индекс-дефлятор оборота розничной торговли","% к предыдущему году",1,null,null,null,"30",null,null,null,null,{"$f":"потребит!C9","v":107.1},{"$f":"потребит!C9","v":107.1},{"$f":"потребит!D9","v":108.8},{"$f":"потребит!F9","v":104.6},{"$f":"потребит!G9","v":106.8},{"$f":"потребит!H9","v":106.3},{"$f":"потребит!I9","v":105.7},{"$f":"потребит!J9","v":104.6},{"$f":"потребит!K9","v":105.1},{"$f":"потребит!L9","v":104.3}]
["Оборот общественного питания","млн. руб. ",1,null,null,null,"04",null,null,null,null,{"$f":"потребит!C10","v":93.2},{"$f":"потребит!C10","v":93.2},{"$f":"потребит!D10","v":99.373568000000006},{"$f":"потребит!F10","v":102.90530460672001},{"$f":"потребит!G10","v":108.8038366667772},{"$f":"потребит!H10","v":109.38833879694336},{"$f":"потребит!I10","v":115.00565535678349},{"$f":"потребит!J10","v":115.5644044054188},{"$f":"потребит!K10","v":122.07965321777924},{"$f":"потребит!L10","v":124.14968400869736}]
[null,"% к предыдущему году в сопоставимых ценах",1,null,null,null,"02",null,null,null,null,{"$f":"потребит!C11","v":97},{"$f":"потребит!C11","v":97},{"$f":"потребит!D11","v":98},{"$f":"потребит!F11","v":99},{"$f":"потребит!G11","v":99},{"$f":"потребит!H11","v":100},{"$f":"потребит!I11","v":100},{"$f":"потребит!J11","v":101},{"$f":"потребит!K11","v":101},{"$f":"потребит!L11","v":103}]
["Индекс цен на продукцию общественного питания","декабрь к декабрю предыдущего года, %",1,null,null,null,"02",null,null,null,null,{"$f":"потребит!C12","v":107.1},{"$f":"потребит!C12","v":107.1},{"$f":"потребит!D12","v":108.8},{"$f":"потребит!F12","v":104.6},{"$f":"потребит!G12","v":106.8},{"$f":"потребит!H12","v":106.3},{"$f":"потребит!I12","v":105.7},{"$f":"потребит!J12","v":104.6},{"$f":"потребит!K12","v":105.1},{"$f":"потребит!L12","v":104.3}]
["Объем платных услуг населению ","млн. руб. ",1,null,null,null,"04",null,null,null,null,{"$f":"потребит!C13","v":1229.7},{"$f":"потребит!C13","v":1229.7},{"$f":"потребит!D13","v":1023.4958},{"$f":"потребит!F13","v":1101.0996747222225},{"$f":"потребит!G13","v":1077.1971770163946},{"$f":"потребит!H13","v":1100.392826568137},{"$f":"потребит!I13","v":1073.3512778196257},{"$f":"потребит!J13","v":1104.9739542316386},{"$f":"потребит!K13","v":1094.3733942141969},{"$f":"потребит!L13","v":1145.7013320597321}]
[null,"% к предыдущему году в сопоставимых ценах",1,null,null,null,"02",null,null,null,null,{"$f":"потребит!C14","v":77.8},{"$f":"потребит!C14","v":77.8},{"$f":"потребит!D14","v":76.499394280766694},{"$f":"потребит!F14","v":102.85108676281068},{"$f":"потребит!G14","v":91.600389330884767},{"$f":"потребит!H14","v":94.012987067418464},{"$f":"потребит!I14","v":94.269604219740287},{"$f":"потребит!J14","v":96.000303516238503},{"$f":"потребит!K14","v":97.010989085483757},{"$f":"потребит!L14","v":99.411143267451209}]
[null,null,null,null,null,null,null,null,null,null,null,{"$f":"потребит!C15","v":0},{"$f":"потребит!D15","v":0},null,{"$f":"потребит!E15","v":1170},{"$f":"потребит!G15","v":0},{"$f":"потребит!H15","v":0},{"$f":"потребит!I15","v":0},{"$f":"потребит!J15","v":0},{"$f":"потребит!K15","v":0},{"$f":"потребит!L15","v":0}]
["в том числе:",null,null,null,null,null,null,null,null,null,null,{"$f":"потребит!C16","v":0},{"$f":"потребит!C16","v":0},{"$f":"потребит!E16","v":0},{"$f":"потребит!F16","v":0},{"$f":"потребит!G16","v":0},{"$f":"потребит!H16","v":0},{"$f":"потребит!I16","v":0},{"$f":"потребит!J16","v":0},{"$f":"потребит!K16","v":0},{"$f":"потребит!L16","v":0}]
["бытовые услуги","млн. руб. в ценах соответствующих лет",1,null,null,null,"04",null,null,null,null,{"$f":"потребит!C17","v":116.5},{"$f":"потребит!C17","v":116.5},{"$f":"потребит!D17","v":55.994399999999999},{"$f":"потребит!F17","v":57},{"$f":"потребит!G17","v":54.78840000000001},{"$f":"потребит!H17","v":54.834854999999997},{"$f":"потребит!I17","v":52.699318308000002},{"$f":"потребит!J17","v":52.768677663600002},{"$f":"потребит!K17","v":52.063764529205514},{"$f":"потребит!L17","v":53.386598879040754}]
[null,"% к предыдущему году в сопоставимых ценах",1,null,null,null,"02",null,null,null,null,{"$f":"потребит!C18","v":105.9},{"$f":"потребит!C18","v":105.9},{"$f":"потребит!D18","v":44.176344357485483},{"$f":"потребит!F18","v":97.31921020564225},{"$f":"потребит!G18","v":90},{"$f":"потребит!H18","v":90.5},{"$f":"потребит!I18","v":91},{"$f":"потребит!J18","v":92},{"$f":"потребит!K18","v":94},{"$f":"потребит!L18","v":97}]
["транспортные услуги","млн. руб. в ценах соответствующих лет",1,null,null,null,"04",null,null,null,null,{"$f":"потребит!C19","v":184.2},{"$f":"потребит!C19","v":184.2},{"$f":"потребит!D19","v":172.33109999999999},{"$f":"потребит!F19","v":200.2},{"$f":"потребит!G19","v":215.95173600000001},{"$f":"потребит!H19","v":217.06885199999996},{"$f":"потребит!I19","v":232.82620465104},{"$f":"потребит!J19","v":233.86563976775997},{"$f":"потребит!K19","v":253.02015268524329},{"$f":"потребит!L19","v":253.67873676888459}]
[null,"% к предыдущему году в сопоставимых ценах",1,null,null,null,"02",null,null,null,null,{"$f":"потребит!C20","v":105.8},{"$f":"потребит!C20","v":105.8},{"$f":"потребит!D20","v":85.989443619467323},{"$f":"потребит!F20","v":100},{"$f":"потребит!G20","v":101},{"$f":"потребит!H20","v":102},{"$f":"потребит!I20","v":102},{"$f":"потребит!J20","v":103},{"$f":"потребит!K20","v":103.4},{"$f":"потребит!L20","v":104}]
["услуги связи","млн. руб. в ценах соответствующих лет",1,null,null,null,"04",null,null,null,null,{"$f":"потребит!C21","v":3.9},{"$f":"потребит!C21","v":3.9},{"$f":"потребит!D21","v":13.6965},{"$f":"потребит!F21","v":15},{"$f":"потребит!G21","v":15.0588},{"$f":"потребит!H21","v":15.147749999999998},{"$f":"потребит!I21","v":15.121294019999999},{"$f":"потребит!J21","v":15.210764639999999},{"$f":"потребит!K21","v":15.415705614569397},{"$f":"потребит!L21","v":15.706179244324799}]
[null,"% к предыдущему году в сопоставимых ценах",1,null,null,null,"02",null,null,null,null,{"$f":"потребит!C22","v":104},{"$f":"потребит!C22","v":104},{"$f":"потребит!D22","v":322.78704751131221},{"$f":"потребит!F22","v":104.70079340167223},{"$f":"потребит!G22","v":94},{"$f":"потребит!H22","v":95},{"$f":"потребит!I22","v":95},{"$f":"потребит!J22","v":96},{"$f":"потребит!K22","v":97},{"$f":"потребит!L22","v":99}]
["жилищные услуги","млн. руб. в ценах соответствующих лет",1,null,null,null,"04",null,null,null,null,{"$f":"потребит!C23","v":211.6},{"$f":"потребит!C23","v":211.6},{"$f":"потребит!D23","v":82.749700000000004},{"$f":"потребит!F23","v":90},{"$f":"потребит!G23","v":93.236400000000003},{"$f":"потребит!H23","v":93.660930000000008},{"$f":"потребит!I23","v":96.579857304000001},{"$f":"потребит!J23","v":96.989639452200009},{"$f":"потребит!K23","v":100.99790287637148},{"$f":"потребит!L23","v":101.1601939486446}]
[null,"% к предыдущему году в сопоставимых ценах",1,null,null,null,"02",null,null,null,null,{"$f":"потребит!C24","v":105.9},{"$f":"потребит!C24","v":105.9},{"$f":"потребит!D24","v":35.94362455520961},{"$f":"потребит!F24","v":103.97870325760724},{"$f":"потребит!G24","v":97},{"$f":"потребит!H24","v":97.9},{"$f":"потребит!I24","v":98},{"$f":"потребит!J24","v":99},{"$f":"потребит!K24","v":99.5},{"$f":"потребит!L24","v":100}]
["коммунальные услуги","млн. руб. в ценах соответствующих лет",1,null,null,null,"04",null,null,null,null,{"$f":"потребит!C25","v":396.7},{"$f":"потребит!C25","v":396.7},{"$f":"потребит!D25","v":407.62979999999999},{"$f":"потребит!F25","v":408},{"$f":"потребит!G25","v":413.95679999999999},{"$f":"потребит!H25","v":425.89732799999996},{"$f":"потребит!I25","v":428.80129084799995},{"$f":"потребит!J25","v":441.03371903711997},{"$f":"потребит!K25","v":443.91010433102923},{"$f":"потребит!L25","v":459.9981689557161}]
[null,"% к предыдущему году в сопоставимых ценах",1,null,null,null,"02",null,null,null,null,{"$f":"потребит!C26","v":105.9},{"$f":"потребит!C26","v":105.9},{"$f":"потребит!D26","v":94.444099482495275},{"$f":"потребит!F26","v":95.689118257956864},{"$f":"потребит!G26","v":95},{"$f":"потребит!H26","v":98.2},{"$f":"потребит!I26","v":98},{"$f":"потребит!J26","v":99},{"$f":"потребит!K26","v":98.5},{"$f":"потребит!L26","v":100}]
["услуги учреждений культуры","млн. руб. в ценах соответствующих лет",1,null,null,null,"04",null,null,null,null,{"$f":"потребит!C27","v":26.2},{"$f":"потребит!C27","v":26.2},{"$f":"потребит!D27","v":12.4254},{"$f":"потребит!F27","v":14.217830812108039},{"$f":"потребит!G27","v":11.388482480498539},{"$f":"потребит!H27","v":12.090843322616676},{"$f":"потребит!I27","v":9.6301007855095637},{"$f":"потребит!J27","v":10.749968798138486},{"$f":"потребит!K27","v":9.1091123330134955},{"$f":"потребит!L27","v":10.875850932764687}]
[null,"% к предыдущему году в сопоставимых ценах",1,null,null,null,"02",null,null,null,null,{"$f":"потребит!C28","v":105.9},{"$f":"потребит!C28","v":105.9},{"$f":"потребит!D28","v":43.589329815895823},{"$f":"потребит!F28","v":109.39343987408662},{"$f":"потребит!G28","v":75},{"$f":"потребит!H28","v":80},{"$f":"потребит!I28","v":80},{"$f":"потребит!J28","v":85},{"$f":"потребит!K28","v":90},{"$f":"потребит!L28","v":97}]
["туристские услуги","млн. руб. в ценах соответствующих лет",1,null,null,null,"04",null,null,null,null,{"$f":"потребит!C29","v":0},{"$f":"потребит!C29","v":0},{"$f":"потребит!E29","v":0},{"$f":"потребит!F29","v":0},{"$f":"потребит!G29","v":0},{"$f":"потребит!H29","v":0},{"$f":"потребит!I29","v":0},{"$f":"потребит!J29","v":0},{"$f":"потребит!K29","v":0},{"$f":"потребит!L29","v":0}]
[null,"% к предыдущему году в сопоставимых ценах",1,null,null,null,"02",null,null,null,null,{"$f":"потребит!C30","v":0},{"$f":"потребит!C30","v":0},{"$f":"потребит!E30","v":85},{"$f":"потребит!F30","v":0},{"$f":"потребит!G30","v":0},{"$f":"потребит!H30","v":0},{"$f":"потребит!I30","v":0},{"$f":"потребит!J30","v":0},{"$f":"потребит!K30","v":0},{"$f":"потребит!L30","v":0}]
["услуги физической культуры и спорта","млн. руб. в ценах соответствующих лет",1,null,null,null,"04",null,null,null,null,{"$f":"потребит!C31","v":11},{"$f":"потребит!C31","v":11},{"$f":"потребит!D31","v":14.3085},{"$f":"потребит!F31","v":16.372578120225334},{"$f":"потребит!G31","v":12.589857671328472},{"$f":"потребит!H31","v":13.053037906349648},{"$f":"потребит!I31","v":9.9806096689456449},{"$f":"потребит!J31","v":10.64971256703255},{"$f":"потребит!K31","v":8.1819041944082613},{"$f":"потребит!L31","v":8.8861201659319597}]
[null,"% к предыдущему году в сопоставимых ценах",1,null,null,null,"02",null,null,null,null,{"$f":"потребит!C32","v":105.9},{"$f":"потребит!C32","v":105.9},{"$f":"потребит!D32","v":119.55631684491979},{"$f":"потребит!F32","v":109.39343987408662},{"$f":"потребит!G32","v":72},{"$f":"потребит!H32","v":75},{"$f":"потребит!I32","v":75},{"$f":"потребит!J32","v":78},{"$f":"потребит!K32","v":78},{"$f":"потребит!L32","v":80}]
["медицинские услуги","млн. руб. в ценах соответствующих лет",1,null,null,null,"04",null,null,null,null,{"$f":"потребит!C33","v":94.1},{"$f":"потребит!C33","v":94.1},{"$f":"потребит!D33","v":99.540800000000004},{"$f":"потребит!F33","v":117.82768555582895},{"$f":"потребит!G33","v":105.70557326584527},{"$f":"потребит!H33","v":108.96822187888617},{"$f":"потребит!I33","v":94.971172300698683},{"$f":"потребит!J33","v":101.44287647593029},{"$f":"потребит!K33","v":89.83323187923088},{"$f":"потребит!L33","v":102.63077255946344}]
[null,"% к предыдущему году в сопоставимых ценах",1,null,null,null,"02",null,null,null,null,{"$f":"потребит!C34","v":105.9},{"$f":"потребит!C34","v":105.9},{"$f":"потребит!D34","v":97.226042382946815},{"$f":"потребит!F34","v":113.16562745595168},{"$f":"потребит!G34","v":84},{"$f":"потребит!H34","v":87},{"$f":"потребит!I34","v":85},{"$f":"потребит!J34","v":89},{"$f":"потребит!K34","v":90},{"$f":"потребит!L34","v":97}]
["санаторно-оздоровительные услуги","млн. руб. в ценах соответствующих лет",1,null,null,null,"04",null,null,null,null,{"$f":"потребит!C35","v":39.799999999999997},{"$f":"потребит!C35","v":39.799999999999997},{"$f":"потребит!D35","v":32.853099999999998},{"$f":"потребит!F35","v":34.999761531962612},{"$f":"потребит!G35","v":25.79202426813389},{"$f":"потребит!H35","v":26.415370021018141},{"$f":"потребит!I35","v":19.083518755992262},{"$f":"потребит!J35","v":20.170248240649034},{"$f":"потребит!K35","v":15.443719223661857},{"$f":"потребит!L35","v":17.25080651029749}]
[null,"% к предыдущему году в сопоставимых ценах",1,null,null,null,"02",null,null,null,null,{"$f":"потребит!C36","v":105.9},{"$f":"потребит!C36","v":105.9},{"$f":"потребит!D36","v":75.869004951226714},{"$f":"потребит!F36","v":101.84906471035653},{"$f":"потребит!G36","v":69},{"$f":"потребит!H36","v":71},{"$f":"потребит!I36","v":70},{"$f":"потребит!J36","v":73},{"$f":"потребит!K36","v":77},{"$f":"потребит!L36","v":82}]
["ветеринарные услуги","млн. руб. в ценах соответствующих лет",1,null,null,null,"04",null,null,null,null,{"$f":"потребит!C37","v":0.7},{"$f":"потребит!C37","v":0.7},{"$f":"потребит!D37","v":0.7},{"$f":"потребит!F37","v":0.64446567440303848},{"$f":"потребит!G37","v":0.41297360415746709},{"$f":"потребит!H37","v":0.44529355772877943},{"$f":"потребит!I37","v":0.28373351473638775},{"$f":"потребит!J37","v":0.32604394296901229},{"$f":"потребит!K37","v":0.22365294299095761},{"$f":"потребит!L37","v":0.27205106601334383}]
[null,"% к предыдущему году в сопоставимых ценах",1,null,null,null,"02",null,null,null,null,{"$f":"потребит!C38","v":108.9},{"$f":"потребит!C38","v":108.9},{"$f":"потребит!D38","v":91.911764705882348},{"$f":"потребит!F38","v":88.017710243517968},{"$f":"потребит!G38","v":60},{"$f":"потребит!H38","v":65},{"$f":"потребит!I38","v":65},{"$f":"потребит!J38","v":70},{"$f":"потребит!K38","v":75},{"$f":"потребит!L38","v":80}]
["услуги правового характера","млн. руб. в ценах соответствующих лет",1,null,null,null,"04",null,null,null,null,{"$f":"потребит!C39","v":5.4},{"$f":"потребит!C39","v":5.4},{"$f":"потребит!D39","v":3.802},{"$f":"потребит!F39","v":3.2503429003106725},{"$f":"потребит!G39","v":2.1175333926943969},{"$f":"потребит!H39","v":2.3494778620605663},{"$f":"потребит!I39","v":1.4100866615291259},{"$f":"потребит!J39","v":1.7202876906007467},{"$f":"потребит!K39","v":0.96330070282362235},{"$f":"потребит!L39","v":1.3456950459724339}]
[null,"% к предыдущему году в сопоставимых ценах",1,null,null,null,"02",null,null,null,null,{"$f":"потребит!C40","v":105},{"$f":"потребит!C40","v":105},{"$f":"потребит!D40","v":64.712690631808272},{"$f":"потребит!F40","v":81.730730940409558},{"$f":"потребит!G40","v":61},{"$f":"потребит!H40","v":68},{"$f":"потребит!I40","v":63},{"$f":"потребит!J40","v":70},{"$f":"потребит!K40","v":65},{"$f":"потребит!L40","v":75}]
["услуги в системе образования","млн. руб. в ценах соответствующих лет",1,null,null,null,"04",null,null,null,null,{"$f":"потребит!C41","v":77.599999999999994},{"$f":"потребит!C41","v":77.599999999999994},{"$f":"потребит!D41","v":114.2178},{"$f":"потребит!F41","v":130.69433226545573},{"$f":"потребит!G41","v":117.24849936198564},{"$f":"потребит!H41","v":120.8674254224161},{"$f":"потребит!I41","v":105.34191425177599},{"$f":"потребит!J41","v":112.52032102274406},{"$f":"потребит!K41","v":99.642916690754902},{"$f":"потребит!L41","v":113.83793398192039}]
[null,"% к предыдущему году в сопоставимых ценах",1,null,null,null,"02",null,null,null,null,{"$f":"потребит!C42","v":105.9},{"$f":"потребит!C42","v":105.9},{"$f":"потребит!D42","v":135.28298400545785},{"$f":"потребит!F42","v":109.39343987408662},{"$f":"потребит!G42","v":84},{"$f":"потребит!H42","v":87},{"$f":"потребит!I42","v":85},{"$f":"потребит!J42","v":89},{"$f":"потребит!K42","v":90},{"$f":"потребит!L42","v":97}]
["прочие виды платных услуг населению","млн. руб. в ценах соответствующих лет",1,null,null,null,"04",null,null,null,null,{"$f":"потребит!C43","v":62},{"$f":"потребит!C43","v":62},{"$f":"потребит!D43","v":13.246700000000001},{"$f":"потребит!F43","v":12.89267786192837},{"$f":"потребит!G43","v":8.9500969717506766},{"$f":"потребит!H43","v":9.5934415970608988},{"$f":"потребит!I43","v":6.6221767493983243},{"$f":"потребит!J43","v":7.5260549328942759},{"$f":"потребит!K43","v":5.5679262108941119},{"$f":"потребит!L43","v":6.6722240007574189}]
[]
["4. Внешнеэкономическая деятельность"]
["Экспорт товаров"," млн. долл. США",1,null,null,null,"04"]
[]
["Импорт товаров"," млн. долл. США",1,null,null,null,"04"]
[]
["Страны дальнего зарубежья"]
["Экспорт товаров - всего"," млн. долл. США",1,null,null,null,"04"]
["в том числе по группам товаров:"]
["Продовольственные товары и сельскохозяйственное сырье (кроме текстильного) (код ТН ВЭД 01-24)"," млн. долл. США",1,null,null,null,"04"]
["Топливно-энергетические товары (27)"," млн. долл. США",1,null,null,null,"04"]
["Продукция химической промышленности, каучук (28-40) "," млн. долл. США",1,null,null,null,"04"]
["Древесина и целлюлозно-бумажные изделия (44-49)"," млн. долл. США",1,null,null,null,"04"]
["Металлы и изделия из них (72-83)"," млн. долл. США",1,null,null,null,"04"]
["Машины, оборудование и транспортные средства (84-90)"," млн. долл. США",1,null,null,null,"04"]
[]
["Импорт товаров - всего"," млн. долл. США",1,null,null,null,"04"]
["в том числе по группам товаров:"]
["Продовольственные товары и сельскохозяйственное сырье (кроме текстильного) (код ТН ВЭД 01-24)"," млн. долл. США",1,null,null,null,"04"]
["Продукция химической промышленности, каучук (28-40) "," млн. долл. США",1,null,null,null,"04"]
["Текстиль, текстильные  изделия  и обувь (50 - 67)"," млн. долл. США",1,null,null,null,"04"]
["Металлы и изделия из них (72-83)"," млн. долл. США",1,null,null,null,"04"]
["Машины, оборудование и транспортные средства (84-90)"," млн. долл. США",1,null,null,null,"04"]
[]
[]
[]
[]
[]
[]
["Государства-участники СНГ "]
["Экспорт товаров - всего"," млн. долл. США",1,null,null,null,"04"]
["в том числе по группам товаров:"]
["Продовольственные товары и сельскохозяйственное сырье (кроме текстильного) (код ТН ВЭД 01-24)"," млн. долл. США",1,null,null,null,"04"]
["Топливно-энергетические товары (27)"," млн. долл. США",1,null,null,null,"04"]
["Продукция химической промышленности, каучук (28-40) "," млн. долл. США",1,null,null,null,"04"]
["Древесина и целлюлозно-бумажные изделия (44-49)"," млн. долл. США",1,null,null,null,"04"]
["Металлы и изделия из них (72-83)"," млн. долл. США",1,null,null,null,"04"]
["Машины, оборудование и транспортные средства (84-90)"," млн. долл. США",1,null,null,null,"04"]
[]
["Импорт товаров - всего"," млн. долл. США",1,null,null,null,"04"]
["в том числе по группам товаров:"]
["Продовольственные товары и сельскохозяйственное сырье (кроме текстильного) (код ТН ВЭД 01-24)"," млн. долл. США",1,null,null,null,"04"]
["Продукция химической промышленности, каучук (28-40) "," млн. долл. США",1,null,null,null,"04"]
["Текстиль, текстильные  изделия  и обувь (50 - 67)"," млн. долл. США",1,null,null,null,"04"]
["Металлы и изделия из них (72-83)"," млн. долл. США",1,null,null,null,"04"]
["Машины, оборудование и транспортные средства (84-90)"," млн. долл. США",1,null,null,null,"04"]
[]
[]
["5. Малое и среднее предпринимательство *"]
["Число средних предприятий ( на конец года)"," единиц",null,null,null,null,null,null,null,null,null,null,{"$f":"предприн!D39","v":0},{"$f":"предприн!E39","v":4},{"$f":"предприн!F39","v":4},{"$f":"предприн!G39","v":4},{"$f":"предприн!H39","v":4},{"$f":"предприн!I39","v":4},{"$f":"предприн!J39","v":4},{"$f":"предприн!K39","v":4},{"$f":"предприн!L39","v":4}]
["в том числе по видам экономической деятельности:"," единиц",null,null,null,null,null,null,null,null,null,null,{"$f":"предприн!D40","v":0},{"$f":"предприн!E40","v":0},{"$f":"предприн!F40","v":0},{"$f":"предприн!G40","v":0},{"$f":"предприн!H40","v":0},{"$f":"предприн!I40","v":0},{"$f":"предприн!J40","v":0},{"$f":"предприн!K40","v":0},{"$f":"предприн!L40","v":0}]
[" Добыча полезных ископаемых"," единиц",null,null,null,null,null,null,null,null,null,null,{"$f":"предприн!D41","v":0},{"$f":"предприн!E41","v":0},{"$f":"предприн!F41","v":0},{"$f":"предприн!G41","v":0},{"$f":"предприн!H41","v":0},{"$f":"предприн!I41","v":0},{"$f":"предприн!J41","v":0},{"$f":"предприн!K41","v":0},{"$f":"предприн!L41","v":0}]
[" Обрабатывающие производства"," единиц",null,null,null,null,null,null,null,null,null,null,{"$f":"предприн!D42","v":0},{"$f":"предприн!E42","v":4},{"$f":"предприн!F42","v":4},{"$f":"предприн!G42","v":4},{"$f":"предприн!H42","v":4},{"$f":"предприн!I42","v":4},{"$f":"предприн!J42","v":4},{"$f":"предприн!K42","v":4},{"$f":"предприн!L42","v":4}]
[" Производство и распределение электроэнергии, газа и воды"," единиц",null,null,null,null,null,null,null,null,null,null,{"$f":"предприн!D43","v":0},{"$f":"предприн!E43","v":0},{"$f":"предприн!F43","v":0},{"$f":"предприн!G43","v":0},{"$f":"предприн!H43","v":0},{"$f":"предприн!I43","v":0},{"$f":"предприн!J43","v":0},{"$f":"предприн!K43","v":0},{"$f":"предприн!L43","v":0}]
[" Строительство"," единиц",null,null,null,null,null,null,null,null,null,null,{"$f":"предприн!D44","v":0},{"$f":"предприн!E44","v":0},{"$f":"предприн!F44","v":0},{"$f":"предприн!G44","v":0},{"$f":"предприн!H44","v":0},{"$f":"предприн!I44","v":0},{"$f":"предприн!J44","v":0},{"$f":"предприн!K44","v":0},{"$f":"предприн!L44","v":0}]
[" Оптовая и розничная торговля; ремонт автотранспортных средств, мотоциклов, бытовых изделий и предметов личного пользования"," единиц",null,null,null,null,null,null,null,null,null,null,{"$f":"предприн!D45","v":0},{"$f":"предприн!E45","v":0},{"$f":"предприн!F45","v":0},{"$f":"предприн!G45","v":0},{"$f":"предприн!H45","v":0},{"$f":"предприн!I45","v":0},{"$f":"предприн!J45","v":0},{"$f":"предприн!K45","v":0},{"$f":"предприн!L45","v":0}]
["транспорт и связь"," единиц",null,null,null,null,null,null,null,null,null,null,{"$f":"предприн!D46","v":0},0,0,0,0,0,0,0,0]
["операции с недвижимым имуществом, аренда и предоставление услуг, в том числе:"," единиц",null,null,null,null,null,null,null,null,null,null,{"$f":"предприн!D47","v":0},{"$f":"предприн!E47","v":0},{"$f":"предприн!F47","v":0},{"$f":"предприн!G47","v":0},{"$f":"предприн!H47","v":0},{"$f":"предприн!I47","v":0},{"$f":"предприн!J47","v":0},{"$f":"предприн!K47","v":0},{"$f":"предприн!L47","v":0}]
["           научные исследования и разработки"," единиц",null,null,null,null,null,null,null,null,null,null,{"$f":"предприн!D48","v":0},{"$f":"предприн!E48","v":0},{"$f":"предприн!F48","v":0},{"$f":"предприн!G48","v":0},{"$f":"предприн!H48","v":0},{"$f":"предприн!I48","v":0},{"$f":"предприн!J48","v":0},{"$f":"предприн!K48","v":0},{"$f":"предприн!L48","v":0}]
["Число малых предприятий, включая микропредприятия ( на конец года)"," единиц",1,null,null,null,"04",null,null,null,null,{"$f":"предприн!C5","v":0.6},{"$f":"предприн!D5","v":608},{"$f":"предприн!E5","v":617},{"$f":"предприн!F5","v":630},{"$f":"предприн!G5","v":630},{"$f":"предприн!H5","v":642.80961182994452},{"$f":"предприн!I5","v":642.80961182994452},{"$f":"предприн!J5","v":652.12569316081328},{"$f":"предприн!K5","v":652.12569316081328},{"$f":"предприн!L5","v":662.60628465804064}]
["в том числе по видам экономической деятельности:",null,null,null,null,null,null,null,null,null,null,{"$f":"предприн!C6","v":0},{"$f":"предприн!D6","v":0},{"$f":"предприн!E6","v":0},{"$f":"предприн!F6","v":0},{"$f":"предприн!G6","v":0},{"$f":"предприн!H6","v":0},{"$f":"предприн!I6","v":0},{"$f":"предприн!J6","v":0},{"$f":"предприн!K6","v":0},{"$f":"предприн!L6","v":0}]
[" Добыча полезных ископаемых","единиц",1,null,null,null,"04",null,null,null,null,{"$f":"предприн!C7","v":0},{"$f":"предприн!D7","v":0},{"$f":"предприн!E7","v":0},{"$f":"предприн!F7","v":0},{"$f":"предприн!G7","v":0},{"$f":"предприн!H7","v":0},{"$f":"предприн!I7","v":0},{"$f":"предприн!J7","v":0},{"$f":"предприн!K7","v":0},{"$f":"предприн!L7","v":0}]
[" Обрабатывающие производства","единиц",1,null,null,null,"04",null,null,null,null,{"$f":"предприн!C8","v":130},{"$f":"предприн!D8","v":130},{"$f":"предприн!E8","v":130},{"$f":"предприн!F8","v":132},{"$f":"предприн!G8","v":132},{"$f":"предприн!H8","v":135},{"$f":"предприн!I8","v":135},{"$f":"предприн!J8","v":137},{"$f":"предприн!K8","v":137},{"$f":"предприн!L8","v":140}]
[" Производство и распределение электроэнергии, газа и воды","единиц",1,null,null,null,"04",null,null,null,null,{"$f":"предприн!C9","v":0},{"$f":"предприн!D9","v":0},{"$f":"предприн!E9","v":0},{"$f":"предприн!F9","v":0},{"$f":"предприн!G9","v":0},{"$f":"предприн!H9","v":0},{"$f":"предприн!I9","v":0},{"$f":"предприн!J9","v":0},{"$f":"предприн!K9","v":0},{"$f":"предприн!L9","v":0}]
[" Строительство","единиц",1,null,null,null,"04",null,null,null,null,{"$f":"предприн!C10","v":102},{"$f":"предприн!D10","v":101},{"$f":"предприн!E10","v":101},{"$f":"предприн!F10","v":101},{"$f":"предприн!G10","v":101},{"$f":"предприн!H10","v":102},{"$f":"предприн!I10","v":102},{"$f":"предприн!J10","v":103},{"$f":"предприн!K10","v":103},{"$f":"предприн!L10","v":104}]
[" Оптовая и розничная торговля; ремонт автотранспортных средств, мотоциклов, бытовых изделий и предметов личного пользования","единиц",1,null,null,null,"04",null,null,null,null,{"$f":"предприн!C11","v":300},{"$f":"предприн!D11","v":305},{"$f":"предприн!E11","v":305},{"$f":"предприн!F11","v":308},{"$f":"предприн!G11","v":308},{"$f":"предприн!H11","v":315},{"$f":"предприн!I11","v":315},{"$f":"предприн!J11","v":320},{"$f":"предприн!K11","v":320},{"$f":"предприн!L11","v":325}]
["транспорт и связь","единиц",null,null,null,null,null,null,null,null,null,null,0,0,0,0,0,0,0,0,0]
["операции с недвижимым имуществом, аренда и предоставление услуг, в том числе:","единиц",null,null,null,null,null,null,null,null,null,null,0,0,0,0,0,0,0,0,0]
["           научные исследования и разработки","единиц",null,null,null,null,null,null,null,null,null,null,0,0,0,0,0,0,0,0,0]
["Среднесписочная численность работников (без внешних совместителей) средних предприятий","тыс. человек",null,null,null,null,null,null,null,null,null,null,{"$f":"предприн!D46","v":0},{"$f":"предприн!E46","v":0.93500000000000005},{"$f":"предприн!F46","v":0.93500000000000005},{"$f":"предприн!G46","v":0.93500000000000005},{"$f":"предприн!H46","v":0.93500000000000005},{"$f":"предприн!I46","v":0.93500000000000005},{"$f":"предприн!J46","v":0.93500000000000005},{"$f":"предприн!K46","v":0.93500000000000005},{"$f":"предприн!L46","v":0.93500000000000005}]
["в том числе по видам экономической деятельности:",null,null,null,null,null,null,null,null,null,null,null,{"$f":"предприн!D47","v":0},{"$f":"предприн!E47","v":0},{"$f":"предприн!F47","v":0},{"$f":"предприн!G47","v":0},{"$f":"предприн!H47","v":0},{"$f":"предприн!I47","v":0},{"$f":"предприн!J47","v":0},{"$f":"предприн!K47","v":0},{"$f":"предприн!L47","v":0}]
[" Добыча полезных ископаемых","тыс. человек",null,null,null,null,null,null,null,null,null,null,{"$f":"предприн!D48","v":0},{"$f":"предприн!E48","v":0},{"$f":"предприн!F48","v":0},{"$f":"предприн!G48","v":0},{"$f":"предприн!H48","v":0},{"$f":"предприн!I48","v":0},{"$f":"предприн!J48","v":0},{"$f":"предприн!K48","v":0},{"$f":"предприн!L48","v":0}]
[" Обрабатывающие производства","тыс. человек",null,null,null,null,null,null,null,null,null,null,{"$f":"предприн!D49","v":0},{"$f":"предприн!E49","v":0.93500000000000005},{"$f":"предприн!F49","v":0.93500000000000005},{"$f":"предприн!G49","v":0.93500000000000005},{"$f":"предприн!H49","v":0.93500000000000005},{"$f":"предприн!I49","v":0.93500000000000005},{"$f":"предприн!J49","v":0.93500000000000005},{"$f":"предприн!K49","v":0.93500000000000005},{"$f":"предприн!L49","v":0.93500000000000005}]
[" Производство и распределение электроэнергии, газа и воды","тыс. человек",null,null,null,null,null,null,null,null,null,null,{"$f":"предприн!D50","v":0},{"$f":"предприн!E50","v":0},{"$f":"предприн!F50","v":0},{"$f":"предприн!G50","v":0},{"$f":"предприн!H50","v":0},{"$f":"предприн!I50","v":0},{"$f":"предприн!J50","v":0},{"$f":"предприн!K50","v":0},{"$f":"предприн!L50","v":0}]
[" Строительство","тыс. человек",null,null,null,null,null,null,null,null,null,null,{"$f":"предприн!D51","v":0},0,0,0,0,0,0,0,0]
[" Оптовая и розничная торговля; ремонт автотранспортных средств, мотоциклов, бытовых изделий и предметов личного пользования","тыс. человек",null,null,null,null,null,null,null,null,null,null,{"$f":"предприн!D52","v":0},{"$f":"предприн!E52","v":0},{"$f":"предприн!F52","v":0},{"$f":"предприн!G52","v":0},{"$f":"предприн!H52","v":0},{"$f":"предприн!I52","v":0},{"$f":"предприн!J52","v":0},{"$f":"предприн!K52","v":0},{"$f":"предприн!L52","v":0}]
["транспорт и связь","единиц",null,null,null,null,null,null,null,null,null,null,{"$f":"предприн!D53","v":0},0,0,0,0,0,0,0,0]
["операции с недвижимым имуществом, аренда и предоставление услуг, в том числе:","единиц",null,null,null,null,null,null,null,null,null,null,{"$f":"предприн!D54","v":0},0,0,0,0,0,0,0,0]
["           научные исследования и разработки","единиц",null,null,null,null,null,null,null,null,null,null,{"$f":"предприн!D55","v":0},0,0,0,0,0,0,0,0]
["Среднесписочная численность работников (без внешних совместителей) малых предприятий, включая микропредприятия","тыс. человек",1,null,null,null,"04",null,null,null,null,{"$f":"предприн!C12","v":4.2},{"$f":"предприн!D12","v":4.2},{"$f":"предприн!E12","v":4.968},{"$f":"предприн!F12","v":5.04},{"$f":"предприн!G12","v":5.0442627572596557},{"$f":"предприн!H12","v":5.1153087115872573},{"$f":"предприн!I12","v":5.1153087115872573},{"$f":"предприн!J12","v":5.1863546659148581},{"$f":"предприн!K12","v":5.1863546659148581},{"$f":"предприн!L12","v":5.2810826050183257}]
["в том числе по видам экономической деятельности:",null,null,null,null,null,null,null,null,null,null,{"$f":"предприн!C13","v":0},{"$f":"предприн!D13","v":0},{"$f":"предприн!E13","v":0},{"$f":"предприн!F13","v":0},{"$f":"предприн!G13","v":0},{"$f":"предприн!H13","v":0},{"$f":"предприн!I13","v":0},{"$f":"предприн!J13","v":0},{"$f":"предприн!K13","v":0},{"$f":"предприн!L13","v":0}]
[" Добыча полезных ископаемых","тыс. человек",1,null,null,null,"04",null,null,null,null,{"$f":"предприн!C14","v":0},{"$f":"предприн!D14","v":0},{"$f":"предприн!E14","v":0},{"$f":"предприн!F14","v":0},{"$f":"предприн!G14","v":0},{"$f":"предприн!H14","v":0},{"$f":"предприн!I14","v":0},{"$f":"предприн!J14","v":0},{"$f":"предприн!K14","v":0},{"$f":"предприн!L14","v":0}]
[" Обрабатывающие производства","тыс. человек",1,null,null,null,"04",null,null,null,null,{"$f":"предприн!C15","v":0.69},{"$f":"предприн!D15","v":0.7},{"$f":"предприн!E15","v":0.79488000000000003},{"$f":"предприн!F15","v":0.80640000000000001},{"$f":"предприн!G15","v":0.81},{"$f":"предприн!H15","v":0.82},{"$f":"предприн!I15","v":0.82},{"$f":"предприн!J15","v":0.83},{"$f":"предприн!K15","v":0.83},{"$f":"предприн!L15","v":0.85}]
[" Производство и распределение электроэнергии, газа и воды","тыс. человек",1,null,null,null,"04",null,null,null,null,{"$f":"предприн!C16","v":0},{"$f":"предприн!D16","v":0},{"$f":"предприн!E16","v":0},{"$f":"предприн!F16","v":0},{"$f":"предприн!G16","v":0},{"$f":"предприн!H16","v":0},{"$f":"предприн!I16","v":0},{"$f":"предприн!J16","v":0},{"$f":"предприн!K16","v":0},{"$f":"предприн!L16","v":0}]
[" Строительство","тыс. человек",1,null,null,null,"04",null,null,null,null,{"$f":"предприн!C17","v":0.75},{"$f":"предприн!D17","v":0.79},{"$f":"предприн!E17","v":0.84456000000000009},{"$f":"предприн!F17","v":0.85},{"$f":"предприн!G17","v":0.85},{"$f":"предприн!H17","v":0.86},{"$f":"предприн!I17","v":0.86},{"$f":"предприн!J17","v":0.87},{"$f":"предприн!K17","v":0.87},{"$f":"предприн!L17","v":0.89}]
[" Оптовая и розничная торговля; ремонт автотранспортных средств, мотоциклов, бытовых изделий и предметов личного пользования","тыс. человек",1,null,null,null,"04",null,null,null,null,{"$f":"предприн!C18","v":2.25},{"$f":"предприн!D18","v":2.2999999999999998},{"$f":"предприн!E18","v":2.5833599999999999},{"$f":"предприн!F18","v":2.6},{"$f":"предприн!G18","v":2.6},{"$f":"предприн!H18","v":2.64},{"$f":"предприн!I18","v":2.64},{"$f":"предприн!J18","v":2.68},{"$f":"предприн!K18","v":2.68},{"$f":"предприн!L18","v":2.72}]
["транспорт и связь","единиц",null,null,null,null,null,null,null,null,null,null,0,0,0,0,0,0,0,0,0]
["операции с недвижимым имуществом, аренда и предоставление услуг, в том числе:","единиц",null,null,null,null,null,null,null,null,null,null,0,0,0,0,0,0,0,0,0]
["           научные исследования и разработки","единиц",null,null,null,null,null,null,null,null,null,null,0,0,0,0,0,0,0,0,0]
["Оборот средних предприятий","млн. руб. ",null,null,null,null,null,null,null,null,null,null,{"$f":"предприн!D53","v":0},{"$f":"предприн!E53","v":1219.9939999999999},{"$f":"предприн!F53","v":1330.7694552},{"$f":"предприн!G53","v":1451.6033217321601},{"$f":"предприн!H53","v":1576.5137875672124},{"$f":"предприн!I53","v":1712.1727989873709},{"$f":"предприн!J53","v":1851.2012302651456},{"$f":"предприн!K53","v":2001.5187701626755},{"$f":"предприн!L53","v":2154.1345763875797}]
["Индекс производства","% к предыдущему году"]
["в том числе по видам экономической деятельности:"]
[" Добыча полезных ископаемых","млн. руб. "]
["Индекс производства - РАЗДЕЛ C: Добыча полезных ископаемых","% к предыдущему году"]
[" Обрабатывающие производства","млн. руб. ",null,null,null,null,null,null,null,null,null,null,{"$f":"предприн!D60","v":0},{"$f":"предприн!E60","v":1219.9939999999999},{"$f":"предприн!F60","v":1330.7694552},{"$f":"предприн!G60","v":1451.6033217321601},{"$f":"предприн!H60","v":1576.5137875672124},{"$f":"предприн!I60","v":1712.1727989873709},{"$f":"предприн!J60","v":1851.2012302651456},{"$f":"предприн!K60","v":2001.5187701626755},{"$f":"предприн!L60","v":2154.1345763875797}]
["Индекс производства - РАЗДЕЛ D: Обрабатывающие производства","% к предыдущему году",null,null,null,null,null,null,null,null,null,null,{"$f":"предприн!D59","v":0}]
[" Производство и распределение электроэнергии, газа и воды","млн. руб. ",null,null,null,null,null,null,null,null,null,null,0,0,0,0,0,0,0,0,0]
["Индекс производства - РАЗДЕЛ E: Производство и распределение электроэнергии, газа и воды","% к предыдущему году",null,null,null,null,null,null,null,null,null,null,{"$f":"предприн!D61","v":0},{"$f":"предприн!E61","v":68},0,0,0,0,0,0,0]
[" Строительство","млн. руб. ",null,null,null,null,null,null,null,null,null,null,{"$f":"предприн!D62","v":0},0,0,0,0,0,0,0,0]
["Индекс производства - РАЗДЕЛ F: Строительство","% к предыдущему году",null,null,null,null,null,null,null,null,null,null,{"$f":"предприн!D63","v":0},{"$f":"предприн!E63","v":0},0,0,0,0,0,0,0]
[" Оптовая и розничная торговля; ремонт автотранспортных средств, мотоциклов, бытовых изделий и предметов личного пользования","млн. руб. ",null,null,null,null,null,null,null,null,null,null,{"$f":"предприн!D64","v":0},{"$f":"предприн!E64","v":0},0,0,0,0,0,0,0]
["Индекс производства - РАЗДЕЛ G: Оптовая и розничная торговля; ремонт автотранспортных средств, мотоциклов, бытовых изделий и предметов личного пользования","% к предыдущему году",null,null,null,null,null,null,null,null,null,null,{"$f":"предприн!D65","v":0},{"$f":"предприн!E65","v":0},0,0,0,0,0,0,0]
["транспорт и связь","млн. руб. ",null,null,null,null,null,null,null,null,null,null,{"$f":"предприн!D66","v":0},{"$f":"предприн!E66","v":0},0,0,0,0,0,0,0]
["операции с недвижимым имуществом, аренда и предоставление услуг, в том числе:","млн. руб. ",null,null,null,null,null,null,null,null,null,null,{"$f":"предприн!D67","v":0},{"$f":"предприн!E67","v":0},0,0,0,0,0,0,0]
["           научные исследования и разработки","млн. руб. ",null,null,null,null,null,null,null,null,null,null,{"$f":"предприн!D68","v":0},{"$f":"предприн!E68","v":0},0,0,0,0,0,0,0]
["операции с недвижимым имуществом, аренда и предоставление услуг, в том числе:","млн. руб. ",null,null,null,null,null,null,null,null,null,null,{"$f":"предприн!D69","v":0},{"$f":"предприн!E69","v":0},0,0,0,0,0,0,0]
["           научные исследования и разработки","млн. руб. ",null,null,null,null,null,null,null,null,null,null,{"$f":"предприн!D70","v":0},{"$f":"предприн!E70","v":0},0,0,0,0,0,0,0]
["Оборот малых предприятий, включая микропредприятия","млн. руб. ",null,null,null,null,null,null,null,null,null,null,{"$f":"предприн!D19","v":5205.45},{"$f":"предприн!E19","v":5932.7308231999996},{"$f":"предприн!F19","v":6607.2676859105441},{"$f":"предприн!G19","v":6718.965067197596},{"$f":"предприн!H19","v":6763.2006761192051},{"$f":"предприн!I19","v":6856.8549121857914},{"$f":"предприн!J19","v":6916.5367893456078},{"$f":"предприн!K19","v":7072.7600646309984},{"$f":"предприн!L19","v":7170.7506546207906}]
["Индекс производства","% к предыдущему году"]
["в том числе по видам экономической деятельности:",null,1,null,null,null,"04",null,null,null,null,{"$f":"предприн!C19","v":4705.5027369999998}]
[" Добыча полезных ископаемых","млн. руб. ",1,null,null,null,"02",null,null,null,null,{"$f":"предприн!C20","v":109},{"$f":"предприн!D20","v":112.65},{"$f":"предприн!E20","v":103.79920441027191},{"$f":"предприн!F20","v":117.52759991772413},{"$f":"предприн!G20","v":94.157891686078045},{"$f":"предприн!H20","v":95.663572234510596},{"$f":"предприн!I20","v":95.375932971445621},{"$f":"предприн!J20","v":96.478502108767103},{"$f":"предприн!K20","v":97.310140593091035},{"$f":"предприн!L20","v":98.738524000249328}]
["Индекс производства - РАЗДЕЛ C: Добыча полезных ископаемых","% к предыдущему году",null,null,null,null,null,null,null,null,null,{"$f":"предприн!C22","v":0},{"$f":"предприн!D22","v":0},{"$f":"предприн!E22","v":0},{"$f":"предприн!F22","v":0},{"$f":"предприн!G22","v":0},{"$f":"предприн!H22","v":0},{"$f":"предприн!I22","v":0},{"$f":"предприн!J22","v":0},{"$f":"предприн!K22","v":0},{"$f":"предприн!L22","v":0}]
[" Обрабатывающие производства","млн. руб. ",1,null,null,null,"04",null,null,null,null,{"$f":"предприн!C23","v":0},{"$f":"предприн!D23","v":0},{"$f":"предприн!E23","v":0},{"$f":"предприн!F23","v":0},{"$f":"предприн!G23","v":0},{"$f":"предприн!H23","v":0},{"$f":"предприн!I23","v":0},{"$f":"предприн!J23","v":0},{"$f":"предприн!K23","v":0},{"$f":"предприн!L23","v":0}]
["Индекс производства - РАЗДЕЛ D: Обрабатывающие производства","% к предыдущему году",1,null,null,null,"02",null,null,null,null,{"$f":"предприн!C24","v":0},{"$f":"предприн!D24","v":0},{"$f":"предприн!E24","v":0},{"$f":"предприн!F24","v":0},{"$f":"предприн!G24","v":0},{"$f":"предприн!H24","v":0},{"$f":"предприн!I24","v":0},{"$f":"предприн!J24","v":0},{"$f":"предприн!K24","v":0},{"$f":"предприн!L24","v":0}]
[" Производство и распределение электроэнергии, газа и воды","млн. руб. ",1,null,null,null,"04",null,null,null,null,{"$f":"предприн!C26","v":855.53884000000005},{"$f":"предприн!D26","v":831.74},{"$f":"предприн!E26","v":812.79296279999994},{"$f":"предприн!F26","v":930.48538381343997},{"$f":"предприн!G26","v":894.38255092147858},{"$f":"предприн!H26","v":915.96981182595039},{"$f":"предприн!I26","v":861.29039653738391},{"$f":"предприн!J26","v":922.38160050873205},{"$f":"предприн!K26","v":867.31942931314552},{"$f":"предприн!L26","v":939.44566011814368}]
["Индекс производства - РАЗДЕЛ E: Производство и распределение электроэнергии, газа и воды","% к предыдущему году",1,null,null,null,"02",null,null,null,null,{"$f":"предприн!C27","v":104},{"$f":"предприн!D27","v":99},{"$f":"предприн!E27","v":89},{"$f":"предприн!F27","v":106},{"$f":"предприн!G27","v":89},{"$f":"предприн!H27","v":92},{"$f":"предприн!I27","v":90},{"$f":"предприн!J27","v":95},{"$f":"предприн!K27","v":95},{"$f":"предприн!L27","v":97}]
[" Строительство","млн. руб. ",1,null,null,null,"04",null,null,null,null,{"$f":"предприн!C29","v":0},{"$f":"предприн!D29","v":0},{"$f":"предприн!E29","v":0},{"$f":"предприн!F29","v":0},{"$f":"предприн!G29","v":0},{"$f":"предприн!H29","v":0},{"$f":"предприн!I29","v":0},{"$f":"предприн!J29","v":0},{"$f":"предприн!K29","v":0},{"$f":"предприн!L29","v":0}]
["Индекс производства - РАЗДЕЛ F: Строительство","% к предыдущему году",1,null,null,null,"02",null,null,null,null,{"$f":"предприн!C30","v":0},{"$f":"предприн!D30","v":0},{"$f":"предприн!E30","v":0},{"$f":"предприн!F30","v":0},{"$f":"предприн!G30","v":0},{"$f":"предприн!H30","v":0},{"$f":"предприн!I30","v":0},{"$f":"предприн!J30","v":0},{"$f":"предприн!K30","v":0},{"$f":"предприн!L30","v":0}]
[" Оптовая и розничная торговля; ремонт автотранспортных средств, мотоциклов, бытовых изделий и предметов личного пользования","млн. руб. ",1,null,null,null,"04",null,null,null,null,{"$f":"предприн!C32","v":826.04920200000004},{"$f":"предприн!D32","v":973.17},{"$f":"предприн!E32","v":1058.8089600000001},{"$f":"предприн!F32","v":1173.9650224896002},{"$f":"предприн!G32","v":1015.5736616553035},{"$f":"предприн!H32","v":1060.7360960704782},{"$f":"предприн!I32","v":912.4421563142073},{"$f":"предприн!J32","v":987.48166127585102},{"$f":"предприн!K32","v":863.07903565760864},{"$f":"предприн!L32","v":1009.3445052564982}]
["Индекс производства - РАЗДЕЛ G: Оптовая и розничная торговля; ремонт автотранспортных средств, мотоциклов, бытовых изделий и предметов личного пользования","% к предыдущему году",1,null,null,null,"02",null,null,null,null,{"$f":"предприн!C33","v":106},{"$f":"предприн!D33","v":110},{"$f":"предприн!E33","v":100},{"$f":"предприн!F33","v":106},{"$f":"предприн!G33","v":81},{"$f":"предприн!H33","v":85},{"$f":"предприн!I33","v":85},{"$f":"предприн!J33","v":89},{"$f":"предприн!K33","v":90},{"$f":"предприн!L33","v":98}]
[null,null,1,null,null,null,"04",null,null,null,null,{"$f":"предприн!C35","v":3023.9146949999999},{"$f":"предприн!D35","v":3400.54},{"$f":"предприн!E35","v":4061.1289004},{"$f":"предприн!F35","v":4502.8172796075041},{"$f":"предприн!G35","v":4809.0088546208144},{"$f":"предприн!H35","v":4786.4947682227767},{"$f":"предприн!I35","v":5083.1223593342002},{"$f":"предприн!J35","v":5006.6735275610245},{"$f":"предприн!K35","v":5342.3615996602439},{"$f":"предприн!L35","v":5221.9604892461484}]
["транспорт и связь","единиц",1,null,null,null,"02",null,null,null,null,{"$f":"предприн!C36","v":107},{"$f":"предприн!D36","v":105},{"$f":"предприн!E36","v":105.5},{"$f":"предприн!F36","v":106},{"$f":"предприн!G36","v":100},{"$f":"предприн!H36","v":100},{"$f":"предприн!I36","v":100},{"$f":"предприн!J36","v":100},{"$f":"предприн!K36","v":100},{"$f":"предприн!L36","v":100}]
["операции с недвижимым имуществом, аренда и предоставление услуг, в том числе:","единиц"]
["           научные исследования и разработки","единиц",null,null,null,null,null,null,null,null,null,null,0,0,0,0,0,0,0,0,0]
["операции с недвижимым имуществом, аренда и предоставление услуг, в том числе:","единиц",null,null,null,null,null,null,null,null,null,null,0,0,0,0,0,0,0,0,0]
["           научные исследования и разработки","единиц",null,null,null,null,null,null,null,null,null,null,0,0,0,0,0,0,0,0,0]
["6. Инвестиции"]
["Объем инвестиций (в основной капитал) за счет всех источников финансирования","млн. руб. ",1,null,null,null,"04",null,null,null,null,{"$f":"инвест!C5","v":1044.9000000000001},{"$f":"инвест!E5","v":1257.498},{"$f":"инвест!G5","v":13655.302},{"$f":"инвест!H5","v":14259.560559172858},{"$f":"инвест!I5","v":3126.8940358364271},{"$f":"инвест!J5","v":3289.1142902353336},{"$f":"инвест!K5","v":3441.1549709194301},{"$f":"инвест!L5","v":3703.2529203459453},{"$f":"инвест!M5","v":3714.1289840535837},{"$f":"инвест!N5","v":4085.4919518006081}]
["Индекс физического объема","% к предыдущему году в сопоставимых ценах",1,null,null,null,"02",null,null,null,null,{"$f":"инвест!C6","v":42.8},{"$f":"инвест!E6","v":119.7475156517156},{"$f":"инвест!G6","v":960.98268570584969},{"$f":"инвест!H6","v":97.684830513120687},{"$f":"инвест!I6","v":20.493835434035255},{"$f":"инвест!J6","v":21.739894829042591},{"$f":"инвест!K6","v":103.33357610019081},{"$f":"инвест!L6","v":106.72150712370006},{"$f":"инвест!M6","v":102.01571618210184},{"$f":"инвест!N6","v":105.16845578662081}]
["Индекс-дефлятор","% к предыдущему году",1,null,null,null,"30",null,null,null,null,{"$f":"инвест!C7","v":96.1},{"$f":"инвест!E7","v":100.5},{"$f":"инвест!G7","v":113},{"$f":"инвест!H7","v":106.9},{"$f":"инвест!I7","v":107},{"$f":"инвест!J7","v":106.1},{"$f":"инвест!K7","v":106.5},{"$f":"инвест!L7","v":105.5},{"$f":"инвест!M7","v":105.8},{"$f":"инвест!N7","v":104.9}]
["Объем инвестиций в основной капитал за счет всех источников финансирования (без субъектов малого предпринимательства и параметров неформальной деятельности) - всего","млн. руб. ",1,null,null,null,"04",null,null,null,null,{"$f":"инвест!C8","v":967.42000000000007},{"$f":"инвест!E8","v":1164.3499999999999},{"$f":"инвест!G8","v":12527.8},{"$f":"инвест!H8","v":12963.236871975325},{"$f":"инвест!I8","v":2895.2722554040988},{"$f":"инвест!J8","v":3045.4761946623457},{"$f":"инвест!K8","v":3186.2546027031758},{"$f":"инвест!L8","v":3428.9378892092086},{"$f":"инвест!M8","v":3439.0083185681328},{"$f":"инвест!N8","v":3782.8629183338962}]
["Индекс физического объема","% к предыдущему году в сопоставимых ценах",1,null,null,null,"02",null,null,null,null,{"$f":"инвест!C9","v":42.8},{"$f":"инвест!E9","v":119.7},{"$f":"инвест!G9","v":952.16633079111705},{"$f":"инвест!H9","v":96.796786599365049},{"$f":"инвест!I9","v":20.873350905035906},{"$f":"инвест!J9","v":22.142485474024859},{"$f":"инвест!K9","v":103.33357610019081},{"$f":"инвест!L9","v":106.72150712370006},{"$f":"инвест!M9","v":102.01571618210184},{"$f":"инвест!N9","v":105.16845578662081}]
["Индекс-дефлятор","% к предыдущему году",1,null,null,null,"30",null,null,null,null,{"$f":"инвест!C10","v":96.1},{"$f":"инвест!E10","v":100.5},{"$f":"инвест!G10","v":113},{"$f":"инвест!H10","v":106.9},{"$f":"инвест!I10","v":107},{"$f":"инвест!J10","v":106.1},{"$f":"инвест!K10","v":106.5},{"$f":"инвест!L10","v":105.5},{"$f":"инвест!M10","v":105.8},{"$f":"инвест!N10","v":104.9}]
["в том числе по видам экономической деятельности (без субъектов малого предпринимательства и параметров неформальной деятельности):",null,null,null,null,null,null,null,null,null,null,{"$f":"инвест!C11","v":0},{"$f":"инвест!E11","v":0},{"$f":"инвест!F11","v":0},{"$f":"инвест!H11","v":0},{"$f":"инвест!I11","v":0},{"$f":"инвест!J11","v":0},{"$f":"инвест!K11","v":0},{"$f":"инвест!L11","v":0},{"$f":"инвест!M11","v":0},{"$f":"инвест!N11","v":0}]
["РАЗДЕЛ A: Сельское хозяйство, охота и лесное хозяйство","млн. руб. ",1,null,null,null,"04",null,null,null,null,{"$f":"инвест!C12","v":0},{"$f":"инвест!E12","v":0},{"$f":"инвест!F12","v":0},{"$f":"инвест!H12","v":0},{"$f":"инвест!I12","v":0},{"$f":"инвест!J12","v":0},{"$f":"инвест!K12","v":0},{"$f":"инвест!L12","v":0},{"$f":"инвест!M12","v":0},{"$f":"инвест!N12","v":0}]
["Индекс физического объема","% к предыдущему году в сопоставимых ценах",1,null,null,null,"02",null,null,null,null,{"$f":"инвест!C13","v":0},{"$f":"инвест!E13","v":0},{"$f":"инвест!F13","v":0},{"$f":"инвест!H13","v":0},{"$f":"инвест!I13","v":0},{"$f":"инвест!J13","v":0},{"$f":"инвест!K13","v":0},{"$f":"инвест!L13","v":0},{"$f":"инвест!M13","v":0},{"$f":"инвест!N13","v":0}]
["РАЗДЕЛ B: Рыболовство, рыбоводство","млн. руб. ",1,null,null,null,"04",null,null,null,null,{"$f":"инвест!C14","v":0},{"$f":"инвест!E14","v":0},{"$f":"инвест!F14","v":0},{"$f":"инвест!H14","v":0},{"$f":"инвест!I14","v":0},{"$f":"инвест!J14","v":0},{"$f":"инвест!K14","v":0},{"$f":"инвест!L14","v":0},{"$f":"инвест!M14","v":0},{"$f":"инвест!N14","v":0}]
["Индекс физического объема","% к предыдущему году в сопоставимых ценах",1,null,null,null,"02",null,null,null,null,{"$f":"инвест!C15","v":0},{"$f":"инвест!E15","v":0},{"$f":"инвест!F15","v":0},{"$f":"инвест!H15","v":0},{"$f":"инвест!I15","v":0},{"$f":"инвест!J15","v":0},{"$f":"инвест!K15","v":0},{"$f":"инвест!L15","v":0},{"$f":"инвест!M15","v":0},{"$f":"инвест!N15","v":0}]
["РАЗДЕЛ C: Добыча полезных ископаемых","млн. руб. ",1,null,null,null,"04",null,null,null,null,{"$f":"инвест!C16","v":0},{"$f":"инвест!E16","v":0},{"$f":"инвест!F16","v":0},{"$f":"инвест!H16","v":0},{"$f":"инвест!I16","v":0},{"$f":"инвест!J16","v":0},{"$f":"инвест!K16","v":0},{"$f":"инвест!L16","v":0},{"$f":"инвест!M16","v":0},{"$f":"инвест!N16","v":0}]
["Индекс физического объема","% к предыдущему году в сопоставимых ценах",1,null,null,null,"02",null,null,null,null,{"$f":"инвест!C17","v":0},{"$f":"инвест!E17","v":0},{"$f":"инвест!F17","v":0},{"$f":"инвест!H17","v":0},{"$f":"инвест!I17","v":0},{"$f":"инвест!J17","v":0},{"$f":"инвест!K17","v":0},{"$f":"инвест!L17","v":0},{"$f":"инвест!M17","v":0},{"$f":"инвест!N17","v":0}]
["Подраздел CA: Добыча топливно-энергетических полезных ископаемых","млн. руб. ",1,null,null,null,"04",null,null,null,null,{"$f":"инвест!C18","v":0},{"$f":"инвест!E18","v":0},{"$f":"инвест!F18","v":0},{"$f":"инвест!H18","v":0},{"$f":"инвест!I18","v":0},{"$f":"инвест!J18","v":0},{"$f":"инвест!K18","v":0},{"$f":"инвест!L18","v":0},{"$f":"инвест!M18","v":0},{"$f":"инвест!N18","v":0}]
["Индекс физического объема","% к предыдущему году в сопоставимых ценах",1,null,null,null,"02",null,null,null,null,{"$f":"инвест!C19","v":0},{"$f":"инвест!E19","v":0},{"$f":"инвест!F19","v":0},{"$f":"инвест!H19","v":0},{"$f":"инвест!I19","v":0},{"$f":"инвест!J19","v":0},{"$f":"инвест!K19","v":0},{"$f":"инвест!L19","v":0},{"$f":"инвест!M19","v":0},{"$f":"инвест!N19","v":0}]
["Подраздел CB: Добыча полезных ископаемых, кроме топливно-энергетических","млн. руб. ",1,null,null,null,"04",null,null,null,null,{"$f":"инвест!C20","v":0},{"$f":"инвест!E20","v":0},{"$f":"инвест!F20","v":0},{"$f":"инвест!H20","v":0},{"$f":"инвест!I20","v":0},{"$f":"инвест!J20","v":0},{"$f":"инвест!K20","v":0},{"$f":"инвест!L20","v":0},{"$f":"инвест!M20","v":0},{"$f":"инвест!N20","v":0}]
["Индекс физического объема","% к предыдущему году в сопоставимых ценах",1,null,null,null,"02",null,null,null,null,{"$f":"инвест!C21","v":0},{"$f":"инвест!E21","v":0},{"$f":"инвест!F21","v":0},{"$f":"инвест!H21","v":0},{"$f":"инвест!I21","v":0},{"$f":"инвест!J21","v":0},{"$f":"инвест!K21","v":0},{"$f":"инвест!L21","v":0},{"$f":"инвест!M21","v":0},{"$f":"инвест!N21","v":0}]
["РАЗДЕЛ D: Обрабатывающие производства","млн. руб. ",1,null,null,null,"04",null,null,null,null,{"$f":"инвест!C22","v":415.62},{"$f":"инвест!E22","v":380.33962930279222},{"$f":"инвест!G22","v":9942.305027504719},{"$f":"инвест!H22","v":11185.978790768428},{"$f":"инвест!I22","v":1049.0585061222178},{"$f":"инвест!J22","v":1149.8396680244959},{"$f":"инвест!K22","v":1156.5418172094203},{"$f":"инвест!L22","v":1292.9439709807527},{"$f":"инвест!M22","v":1293.183662117759},{"$f":"инвест!N22","v":1474.9717628756111}]
["Индекс физического объема","% к предыдущему году в сопоставимых ценах",1,null,null,null,"02",null,null,null,null,{"$f":"инвест!C23","v":0},{"$f":"инвест!E23","v":0},{"$f":"инвест!F23","v":0},{"$f":"инвест!H23","v":0},{"$f":"инвест!I23","v":0},{"$f":"инвест!J23","v":0},{"$f":"инвест!K23","v":0},{"$f":"инвест!L23","v":0},{"$f":"инвест!M23","v":0},{"$f":"инвест!N23","v":0}]
["Подраздел DA: Производство пищевых продуктов, включая напитки, и табака","млн. руб. ",1,null,null,null,"04",null,null,null,null,{"$f":"инвест!C24","v":43.9},{"$f":"инвест!E24","v":37.938407033617914},{"$f":"инвест!G24","v":36.92502750471926},{"$f":"инвест!H24","v":22.544033504469724},{"$f":"инвест!I24","v":24.122115849782606},{"$f":"инвест!J24","v":24.158411743724802},{"$f":"инвест!K24","v":25.849500565785537},{"$f":"инвест!L24","v":26.144716357293856},{"$f":"инвест!M24","v":27.974846502304423},{"$f":"инвест!N24","v":28.571730376741442}]
["Индекс физического объема","% к предыдущему году в сопоставимых ценах",1,null,null,null,"02",null,null,null,null,{"$f":"инвест!C25","v":34.5},{"$f":"инвест!E25","v":85.990111024870899},{"$f":"инвест!G25","v":86.131754192911444},{"$f":"инвест!H25","v":57.112752157635363},{"$f":"инвест!I25","v":100},{"$f":"инвест!J25","v":101},{"$f":"инвест!K25","v":101},{"$f":"инвест!L25","v":102},{"$f":"инвест!M25","v":102},{"$f":"инвест!N25","v":103}]
["Подраздел DB: Текстильное и швейное производство","млн. руб. ",1,null,null,null,"04",null,null,null,null,{"$f":"инвест!C26","v":0.1},{"$f":"инвест!E26","v":8.3127868757900195E-2},{"$f":"инвест!G26","v":0.2},{"$f":"инвест!H26","v":0.3},{"$f":"инвест!I26","v":0.32100000000000001},{"$f":"инвест!J26","v":0.32307449999999993},{"$f":"инвест!K26","v":0.34739261999999999},{"$f":"инвест!L26","v":0.35992114672499992},{"$f":"инвест!M26","v":0.37595524121639995},{"$f":"инвест!N26","v":0.39715139014223394}]
["Индекс физического объема","% к предыдущему году в сопоставимых ценах",1,null,null,null,"02",null,null,null,null,{"$f":"инвест!C27","v":33.200000000000003},{"$f":"инвест!E27","v":82.714297271542478},{"$f":"инвест!G27","v":212.91433677668687},{"$f":"инвест!H27","v":140.3180542563143},{"$f":"инвест!I27","v":100},{"$f":"инвест!J27","v":101.5},{"$f":"инвест!K27","v":102},{"$f":"инвест!L27","v":105},{"$f":"инвест!M27","v":102},{"$f":"инвест!N27","v":104}]
["Подраздел DC: Производство кожи, изделий из кожи и производство обуви","млн. руб. ",1,null,null,null,"04",null,null,null,null,{"$f":"инвест!C28","v":0},{"$f":"инвест!E28","v":0},{"$f":"инвест!F28","v":0},{"$f":"инвест!H28","v":0},{"$f":"инвест!I28","v":0},{"$f":"инвест!J28","v":0},{"$f":"инвест!K28","v":0},{"$f":"инвест!L28","v":0},{"$f":"инвест!M28","v":0},{"$f":"инвест!N28","v":0}]
["Индекс физического объема","% к предыдущему году в сопоставимых ценах",1,null,null,null,"02",null,null,null,null,{"$f":"инвест!C29","v":0},{"$f":"инвест!E29","v":0},{"$f":"инвест!F29","v":0},{"$f":"инвест!H29","v":0},{"$f":"инвест!I29","v":0},{"$f":"инвест!J29","v":0},{"$f":"инвест!K29","v":0},{"$f":"инвест!L29","v":0},{"$f":"инвест!M29","v":0},{"$f":"инвест!N29","v":0}]
["Подраздел DD: Обработка древесины и производство изделий из дерева","млн. руб. ",1,null,null,null,"04",null,null,null,null,{"$f":"инвест!C30","v":0.2},{"$f":"инвест!E30","v":0.16460964110475285},{"$f":"инвест!G30","v":0.2},{"$f":"инвест!H30","v":0.2},{"$f":"инвест!I30","v":0.22470000000000004},{"$f":"инвест!J30","v":0.22493200000000002},{"$f":"инвест!K30","v":0.25271110200000008},{"$f":"инвест!L30","v":0.25535855164000004},{"$f":"инвест!M30","v":0.28689533276754009},{"$f":"инвест!N30","v":0.29802896561904407}]
["Индекс физического объема","% к предыдущему году в сопоставимых ценах",1,null,null,null,"02",null,null,null,null,{"$f":"инвест!C31","v":32.9},{"$f":"инвест!E31","v":81.89534383321039},{"$f":"инвест!G31","v":107.52174007222689},{"$f":"инвест!H31","v":93.545369504209546},{"$f":"инвест!I31","v":105},{"$f":"инвест!J31","v":106},{"$f":"инвест!K31","v":106},{"$f":"инвест!L31","v":107},{"$f":"инвест!M31","v":107},{"$f":"инвест!N31","v":110}]
["Подраздел DE: Целлюлозно-бумажное производство; издательская и полиграфическая деятельность","млн. руб. ",1,null,null,null,"04",null,null,null,null,{"$f":"инвест!C32","v":0},{"$f":"инвест!E32","v":0},{"$f":"инвест!F32","v":0},{"$f":"инвест!H32","v":0},{"$f":"инвест!I32","v":0},{"$f":"инвест!J32","v":0},{"$f":"инвест!K32","v":0},{"$f":"инвест!L32","v":0},{"$f":"инвест!M32","v":0},{"$f":"инвест!N32","v":0}]
["Индекс физического объема","% к предыдущему году в сопоставимых ценах",1,null,null,null,"02",null,null,null,null,{"$f":"инвест!C33","v":0},{"$f":"инвест!E33","v":0},{"$f":"инвест!F33","v":0},{"$f":"инвест!H33","v":0},{"$f":"инвест!I33","v":0},{"$f":"инвест!J33","v":0},{"$f":"инвест!K33","v":0},{"$f":"инвест!L33","v":0},{"$f":"инвест!M33","v":0},{"$f":"инвест!N33","v":0}]
["Подраздел DF: Производство кокса, нефтепродуктов","млн. руб. ",1,null,null,null,"04",null,null,null,null,{"$f":"инвест!C34","v":0},{"$f":"инвест!E34","v":0},{"$f":"инвест!F34","v":0},{"$f":"инвест!H34","v":0},{"$f":"инвест!I34","v":0},{"$f":"инвест!J34","v":0},{"$f":"инвест!K34","v":0},{"$f":"инвест!L34","v":0},{"$f":"инвест!M34","v":0},{"$f":"инвест!N34","v":0}]
["Индекс физического объема","% к предыдущему году в сопоставимых ценах",1,null,null,null,"02",null,null,null,null,{"$f":"инвест!C35","v":0},{"$f":"инвест!E35","v":0},{"$f":"инвест!F35","v":0},{"$f":"инвест!H35","v":0},{"$f":"инвест!I35","v":0},{"$f":"инвест!J35","v":0},{"$f":"инвест!K35","v":0},{"$f":"инвест!L35","v":0},{"$f":"инвест!M35","v":0},{"$f":"инвест!N35","v":0}]
["Подраздел DG: Химическое производство","млн. руб. ",1,null,null,null,"04",null,null,null,null,{"$f":"инвест!C36","v":269.5},{"$f":"инвест!E36","v":237.33829578586028},{"$f":"инвест!G36","v":9422.3220000000001},{"$f":"инвест!H36","v":10677.7},{"$f":"инвест!I36","v":500},{"$f":"инвест!J36","v":600},{"$f":"инвест!K36","v":557.02499999999998},{"$f":"инвест!L36","v":681.16199999999992},{"$f":"инвест!M36","v":638.28380699999991},{"$f":"инвест!N36","v":787.75704138000003}]
["Индекс физического объема","% к предыдущему году в сопоставимых ценах",1,null,null,null,"02",null,null,null,null,{"$f":"инвест!C37","v":35.200000000000003},{"$f":"инвест!E37","v":87.628017901535117},{"$f":"инвест!G37","v":3513.2712255676829},{"$f":"инвест!H37","v":106.0088364582635},{"$f":"инвест!I37","v":105},{"$f":"инвест!J37","v":106.5},{"$f":"инвест!K37","v":105},{"$f":"инвест!L37","v":107},{"$f":"инвест!M37","v":108},{"$f":"инвест!N37","v":109}]
["Подраздел DH: Производство резиновых и пластмассовых изделий","млн. руб. ",1,null,null,null,"04",null,null,null,null,{"$f":"инвест!C38","v":0},{"$f":"инвест!E38","v":0},{"$f":"инвест!F38","v":0},{"$f":"инвест!H38","v":0},{"$f":"инвест!I38","v":0},{"$f":"инвест!J38","v":0},{"$f":"инвест!K38","v":0},{"$f":"инвест!L38","v":0},{"$f":"инвест!M38","v":0},{"$f":"инвест!N38","v":0}]
["Индекс физического объема","% к предыдущему году в сопоставимых ценах",1,null,null,null,"02",null,null,null,null,{"$f":"инвест!C39","v":0},{"$f":"инвест!E39","v":0},{"$f":"инвест!F39","v":0},{"$f":"инвест!H39","v":0},{"$f":"инвест!I39","v":0},{"$f":"инвест!J39","v":0},{"$f":"инвест!K39","v":0},{"$f":"инвест!L39","v":0},{"$f":"инвест!M39","v":0},{"$f":"инвест!N39","v":0}]
["Подраздел DI: Производство прочих неметаллических минеральных продуктов","млн. руб. ",1,null,null,null,"04",null,null,null,null,{"$f":"инвест!C40","v":101.4},{"$f":"инвест!E40","v":104.32136005013713},{"$f":"инвест!G40","v":482.65800000000002},{"$f":"инвест!H40","v":485},{"$f":"инвест!I40","v":524.1395},{"$f":"инвест!J40","v":524.87669999999991},{"$f":"инвест!K40","v":572.79536978500005},{"$f":"инвест!L40","v":584.73888763499986},{"$f":"инвест!M40","v":625.96796396214165},{"$f":"инвест!N40","v":657.63243736757897}]
["Индекс физического объема","% к предыдущему году в сопоставимых ценах",1,null,null,null,"02",null,null,null,null,{"$f":"инвест!C41","v":41.1},{"$f":"инвест!E41","v":102.36917979151296},{"$f":"инвест!G41","v":409.43769640852759},{"$f":"инвест!H41","v":93.999279426719596},{"$f":"инвест!I41","v":101},{"$f":"инвест!J41","v":102},{"$f":"инвест!K41","v":103},{"$f":"инвест!L41","v":105},{"$f":"инвест!M41","v":103},{"$f":"инвест!N41","v":106}]
["Подраздел DJ: Металлургическое производство и производство готовых металлических изделий","млн. руб. ",1,null,null,null,"04",null,null,null,null,{"$f":"инвест!C42","v":0.6},{"$f":"инвест!E42","v":0.49382892331425848},{"$f":"инвест!G42","v":0},{"$f":"инвест!H42","v":0.23475726395803159},{"$f":"инвест!I42","v":0.25119027243509384},{"$f":"инвест!J42","v":0.25654978077125568},{"$f":"инвест!K42","v":0.27184313663470727},{"$f":"инвест!L42","v":0.28308729009423439},{"$f":"инвест!M42","v":0.29419407932881292},{"$f":"инвест!N42","v":0.31537339552948185}]
["Индекс физического объема","% к предыдущему году в сопоставимых ценах",1,null,null,null,"02",null,null,null,null,{"$f":"инвест!C43","v":32.9},{"$f":"инвест!E43","v":81.895343833210376},{"$f":"инвест!G43","v":0},{"$f":"инвест!H43","v":44.469762632303983},{"$f":"инвест!I43","v":100},{"$f":"инвест!J43","v":103},{"$f":"инвест!K43","v":102},{"$f":"инвест!L43","v":104},{"$f":"инвест!M43","v":102},{"$f":"инвест!N43","v":105}]
["Подраздел DK: Производство машин и оборудования","млн. руб. ",1,null,null,null,"04",null,null,null,null,{"$f":"инвест!C44","v":0},{"$f":"инвест!E44","v":0},{"$f":"инвест!F44","v":0},{"$f":"инвест!H44","v":0},{"$f":"инвест!I44","v":0},{"$f":"инвест!J44","v":0},{"$f":"инвест!K44","v":0},{"$f":"инвест!L44","v":0},{"$f":"инвест!M44","v":0},{"$f":"инвест!N44","v":0}]
["Индекс физического объема","% к предыдущему году в сопоставимых ценах",1,null,null,null,"02",null,null,null,null,{"$f":"инвест!C45","v":0},{"$f":"инвест!E45","v":0},{"$f":"инвест!F45","v":0},{"$f":"инвест!H45","v":0},{"$f":"инвест!I45","v":0},{"$f":"инвест!J45","v":0},{"$f":"инвест!K45","v":0},{"$f":"инвест!L45","v":0},{"$f":"инвест!M45","v":0},{"$f":"инвест!N45","v":0}]
["Подраздел DL: Производство электрооборудования, электронного и оптического оборудования","млн. руб. ",1,null,null,null,"04",null,null,null,null,{"$f":"инвест!C46","v":0},{"$f":"инвест!E46","v":0},{"$f":"инвест!F46","v":0},{"$f":"инвест!H46","v":0},{"$f":"инвест!I46","v":0},{"$f":"инвест!J46","v":0},{"$f":"инвест!K46","v":0},{"$f":"инвест!L46","v":0},{"$f":"инвест!M46","v":0},{"$f":"инвест!N46","v":0}]
["Индекс физического объема","% к предыдущему году в сопоставимых ценах",1,null,null,null,"02",null,null,null,null,{"$f":"инвест!C47","v":0},{"$f":"инвест!E47","v":0},{"$f":"инвест!F47","v":0},{"$f":"инвест!H47","v":0},{"$f":"инвест!I47","v":0},{"$f":"инвест!J47","v":0},{"$f":"инвест!K47","v":0},{"$f":"инвест!L47","v":0},{"$f":"инвест!M47","v":0},{"$f":"инвест!N47","v":0}]
["Подраздел DM: Производство транспортных средств и оборудования","млн. руб. ",1,null,null,null,"04",null,null,null,null,{"$f":"инвест!C48","v":0},{"$f":"инвест!E48","v":0},{"$f":"инвест!F48","v":0},{"$f":"инвест!H48","v":0},{"$f":"инвест!I48","v":0},{"$f":"инвест!J48","v":0},{"$f":"инвест!K48","v":0},{"$f":"инвест!L48","v":0},{"$f":"инвест!M48","v":0},{"$f":"инвест!N48","v":0}]
["Индекс физического объема","% к предыдущему году в сопоставимых ценах",1,null,null,null,"02",null,null,null,null,{"$f":"инвест!C49","v":0},{"$f":"инвест!E49","v":0},{"$f":"инвест!F49","v":0},{"$f":"инвест!H49","v":0},{"$f":"инвест!I49","v":0},{"$f":"инвест!J49","v":0},{"$f":"инвест!K49","v":0},{"$f":"инвест!L49","v":0},{"$f":"инвест!M49","v":0},{"$f":"инвест!N49","v":0}]
["Подраздел DN: Прочие производства","млн. руб. ",1,null,null,null,"04",null,null,null,null,{"$f":"инвест!C50","v":0},{"$f":"инвест!E50","v":0},{"$f":"инвест!F50","v":0},{"$f":"инвест!H50","v":0},{"$f":"инвест!I50","v":0},{"$f":"инвест!J50","v":0},{"$f":"инвест!K50","v":0},{"$f":"инвест!L50","v":0},{"$f":"инвест!M50","v":0},{"$f":"инвест!N50","v":0}]
["Индекс физического объема","% к предыдущему году в сопоставимых ценах",1,null,null,null,"02",null,null,null,null,{"$f":"инвест!C51","v":0},{"$f":"инвест!E51","v":0},{"$f":"инвест!F51","v":0},{"$f":"инвест!H51","v":0},{"$f":"инвест!I51","v":0},{"$f":"инвест!J51","v":0},{"$f":"инвест!K51","v":0},{"$f":"инвест!L51","v":0},{"$f":"инвест!M51","v":0},{"$f":"инвест!N51","v":0}]
["РАЗДЕЛ E: Производство и распределение электроэнергии, газа и воды","млн. руб. ",1,null,null,null,"04",null,null,null,null,{"$f":"инвест!C52","v":28.3},{"$f":"инвест!E52","v":45.41991522182893},{"$f":"инвест!G52","v":1630.6759999999999},{"$f":"инвест!H52","v":780},{"$f":"инвест!I52","v":851.29200000000003},{"$f":"инвест!J52","v":868.95899999999995},{"$f":"инвест!K52","v":921.28522824000004},{"$f":"инвест!L52","v":968.06377394999993},{"$f":"инвест!M52","v":997.03329970589289},{"$f":"инвест!N52","v":1078.4714473689974}]
["Индекс физического объема","% к предыдущему году в сопоставимых ценах",1,null,null,null,"02",null,null,null,null,{"$f":"инвест!C53","v":64.099999999999994},{"$f":"инвест!E53","v":159.69592047476024},{"$f":"инвест!G53","v":3177.1880223614867},{"$f":"инвест!H53","v":44.745484825485534},{"$f":"инвест!I53","v":102},{"$f":"инвест!J53","v":105},{"$f":"инвест!K53","v":102},{"$f":"инвест!L53","v":105},{"$f":"инвест!M53","v":102},{"$f":"инвест!N53","v":105}]
["РАЗДЕЛ F: Строительство","млн. руб. ",1,null,null,null,"04",null,null,null,null,{"$f":"инвест!C54","v":18.3},{"$f":"инвест!E54","v":16.116106912360827},{"$f":"инвест!G54","v":17.5},{"$f":"инвест!H54","v":18.899999999999999},{"$f":"инвест!I54","v":18.899999999999999},{"$f":"инвест!J54","v":20.153164499999992},{"$f":"инвест!K54","v":20.253428999999997},{"$f":"инвест!L54","v":21.703245147517489},{"$f":"инвест!M54","v":21.918665932379998},{"$f":"инвест!N54","v":23.602821679053953}]
["Индекс физического объема","% к предыдущему году в сопоставимых ценах",1,null,null,null,"02",null,null,null,null,{"$f":"инвест!C55","v":35.200000000000003},{"$f":"инвест!E55","v":87.628017901535102},{"$f":"инвест!G55","v":96.094706667890833},{"$f":"инвест!H55","v":293.07881953682369},{"$f":"инвест!I55","v":100},{"$f":"инвест!J55","v":100.5},{"$f":"инвест!K55","v":101},{"$f":"инвест!L55","v":101.5},{"$f":"инвест!M55","v":102},{"$f":"инвест!N55","v":102.5}]
["РАЗДЕЛ G: Оптовая и розничная торговля; ремонт автотранспортных средств, мотоциклов, бытовых изделий и предметов личного пользования","млн. руб. ",1,null,null,null,"04",null,null,null,null,{"$f":"инвест!C56","v":10.6},{"$f":"инвест!E56","v":8.942418753015696},{"$f":"инвест!G56","v":5.7510000000000003},{"$f":"инвест!H56","v":9},{"$f":"инвест!I56","v":8.5707000000000004},{"$f":"инвест!J56","v":9.5489999999999995},{"$f":"инвест!K56","v":9.1844478269999996},{"$f":"инвест!L56","v":10.536748559999999},{"$f":"инвест!M56","v":9.9395931273359377},{"$f":"инвест!N56","v":11.738464733268}]
["Индекс физического объема","% к предыдущему году в сопоставимых ценах",1,null,null,null,"02",null,null,null,null,{"$f":"инвест!C57","v":33.700000000000003},{"$f":"инвест!E57","v":83.942727429040616},{"$f":"инвест!G57","v":56.912795872561155},{"$f":"инвест!H57","v":146.39337950580523},{"$f":"инвест!I57","v":89},{"$f":"инвест!J57","v":100},{"$f":"инвест!K57","v":101},{"$f":"инвест!L57","v":104},{"$f":"инвест!M57","v":102},{"$f":"инвест!N57","v":105}]
["РАЗДЕЛ H: Гостиницы и рестораны","млн. руб. ",1,null,null,null,"04",null,null,null,null,{"$f":"инвест!C58","v":8.6},{"$f":"инвест!E58","v":7.3613431502045472},{"$f":"инвест!G58","v":6.8},{"$f":"инвест!H58","v":7},{"$f":"инвест!I58","v":6.8159000000000001},{"$f":"инвест!J58","v":7.4269999999999996},{"$f":"инвест!K58","v":7.3763032979999998},{"$f":"инвест!L58","v":8.2740493500000003},{"$f":"инвест!M58","v":7.9827829551615599},{"$f":"инвест!N58","v":9.2177046783675003}]
["Индекс физического объема","% к предыдущему году в сопоставимых ценах",1,null,null,null,"02",null,null,null,null,{"$f":"инвест!C59","v":34.200000000000003},{"$f":"инвест!E59","v":85.171157586538797},{"$f":"инвест!G59","v":81.747297908222578},{"$f":"инвест!H59","v":96.296703901392192},{"$f":"инвест!I59","v":91},{"$f":"инвест!J59","v":100},{"$f":"инвест!K59","v":102},{"$f":"инвест!L59","v":105},{"$f":"инвест!M59","v":102},{"$f":"инвест!N59","v":105}]
["РАЗДЕЛ I: Транспорт и связь","млн. руб. ",1,null,null,null,"04",null,null,null,null,{"$f":"инвест!C60","v":6.4},{"$f":"инвест!E60","v":5.7942593668873013},{"$f":"инвест!G60","v":149.626},{"$f":"инвест!H60","v":149.80000000000001},{"$f":"инвест!I60","v":136.24310000000003},{"$f":"инвест!J60","v":150.99090999999999},{"$f":"инвест!K60","v":150.33608626400002},{"$f":"инвест!L60","v":168.21142328549996},{"$f":"инвест!M60","v":162.69671927662611},{"$f":"инвест!N60","v":187.39593611121123}]
["Индекс физического объема","% к предыдущему году в сопоставимых ценах",1,null,null,null,"02",null,null,null,null,{"$f":"инвест!C61","v":36.1},{"$f":"инвест!E61","v":90.084878216531422},{"$f":"инвест!G61","v":2285.2340738703151},{"$f":"инвест!H61","v":93.654153367266318},{"$f":"инвест!I61","v":85},{"$f":"инвест!J61","v":95},{"$f":"инвест!K61","v":104},{"$f":"инвест!L61","v":105},{"$f":"инвест!M61","v":102},{"$f":"инвест!N61","v":105}]
["РАЗДЕЛ J: Финансовая деятельность","млн. руб. ",1,null,null,null,"04",null,null,null,null,{"$f":"инвест!C62","v":6.2},{"$f":"инвест!E62","v":5.1794423573610473},{"$f":"инвест!G62","v":0},{"$f":"инвест!H62","v":4.616648319024665},{"$f":"инвест!I62","v":4.9398137013563916},{"$f":"инвест!J62","v":4.9962291438148734},{"$f":"инвест!K62","v":5.3983766072533061},{"$f":"инвест!L62","v":5.5660490776669596},{"$f":"инвест!M62","v":6.0140614593105459},{"$f":"инвест!N62","v":6.31896853640297}]
["Индекс физического объема","% к предыдущему году в сопоставимых ценах",1,null,null,null,"02",null,null,null,null,{"$f":"инвест!C63","v":33.4},{"$f":"инвест!E63","v":83.123773990708514},{"$f":"инвест!G63","v":0},{"$f":"инвест!H63","v":83.380804935569955},{"$f":"инвест!I63","v":100},{"$f":"инвест!J63","v":102},{"$f":"инвест!K63","v":103},{"$f":"инвест!L63","v":105},{"$f":"инвест!M63","v":105},{"$f":"инвест!N63","v":107}]
["РАЗДЕЛ K: Операции с недвижимым имуществом, аренда и предоставление услуг","млн. руб. ",1,null,null,null,"04",null,null,null,null,{"$f":"инвест!C64","v":171.7},{"$f":"инвест!E64","v":144.14372442619893},{"$f":"инвест!G64","v":83},{"$f":"инвест!H64","v":65.097132887874352},{"$f":"инвест!I64","v":66.171235580524282},{"$f":"инвест!J64","v":69.068057994034689},{"$f":"инвест!K64","v":75.122218617501801},{"$f":"инвест!L64","v":79.876518389521181},{"$f":"инвест!M64","v":86.878094608954655},{"$f":"инвест!N64","v":93.22388461241016}]
["Индекс физического объема","% к предыдущему году в сопоставимых ценах",1,null,null,null,"02",null,null,null,null,{"$f":"инвест!C65","v":33.5},{"$f":"инвест!E65","v":83.533250709874594},{"$f":"инвест!G65","v":50.957006783347786},{"$f":"инвест!H65","v":73.367895779046236},{"$f":"инвест!I65","v":95},{"$f":"инвест!J65","v":100},{"$f":"инвест!K65","v":107},{"$f":"инвест!L65","v":109},{"$f":"инвест!M65","v":109},{"$f":"инвест!N65","v":110}]
["РАЗДЕЛ L: Государственное управление и обеспечение военной безопасности; обязательное социальное обеспечение","млн. руб. ",1,null,null,null,"04",null,null,null,null,{"$f":"инвест!C66","v":0},{"$f":"инвест!E66","v":0},{"$f":"инвест!G66","v":0},{"$f":"инвест!H66","v":0},{"$f":"инвест!I66","v":0},{"$f":"инвест!J66","v":0},{"$f":"инвест!K66","v":0},{"$f":"инвест!L66","v":0},{"$f":"инвест!M66","v":0},{"$f":"инвест!N66","v":0}]
["Индекс физического объема","% к предыдущему году в сопоставимых ценах",1,null,null,null,"02",null,null,null,null,{"$f":"инвест!C67","v":0},{"$f":"инвест!E67","v":0},{"$f":"инвест!G67","v":0},{"$f":"инвест!H67","v":0},{"$f":"инвест!I67","v":0},{"$f":"инвест!J67","v":0},{"$f":"инвест!K67","v":0},{"$f":"инвест!L67","v":0},{"$f":"инвест!M67","v":0},{"$f":"инвест!N67","v":0}]
["РАЗДЕЛ M: Образование","млн. руб. ",1,null,null,null,"04",null,null,null,null,{"$f":"инвест!C68","v":1.2},{"$f":"инвест!E68","v":1.0567938958925134},{"$f":"инвест!G68","v":45.47},{"$f":"инвест!H68","v":64.544300000000007},{"$f":"инвест!I68","v":27.5},{"$f":"инвест!J68","v":30},{"$f":"инвест!K68","v":55},{"$f":"инвест!L68","v":55.5},{"$f":"инвест!M68","v":2.5},{"$f":"инвест!N68","v":3}]
["Индекс физического объема","% к предыдущему году в сопоставимых ценах",1,null,null,null,"02",null,null,null,null,{"$f":"инвест!C69","v":35.200000000000003},{"$f":"инвест!E69","v":87.628017901535117},{"$f":"инвест!G69","v":3807.6429291932673},{"$f":"инвест!H69","v":132.7869010972191},{"$f":"инвест!I69","v":42.606395917222741},{"$f":"инвест!J69","v":109.09090909090908},{"$f":"инвест!K69","v":183.33333333333331},{"$f":"инвест!L69","v":100.90909090909091},{"$f":"инвест!M69","v":4.5045045045045047},{"$f":"инвест!N69","v":120}]
["РАЗДЕЛ N: Здравоохранение и предоставление социальных услуг","млн. руб. ",1,null,null,null,"04",null,null,null,null,{"$f":"инвест!C70","v":18.899999999999999},{"$f":"инвест!E70","v":16.924504859826264},{"$f":"инвест!G70","v":13.18},{"$f":"инвест!H70","v":13.3},{"$f":"инвест!I70","v":14.231000000000002},{"$f":"инвест!J70","v":14.816865000000002},{"$f":"инвест!K70","v":15.703054640000001},{"$f":"инвест!L70","v":16.506728453250002},{"$f":"инвест!M70","v":17.493988021692001},{"$f":"инвест!N70","v":18.73959361112113}]
["Индекс физического объема","% к предыдущему году в сопоставимых ценах",1,null,null,null,"02",null,null,null,null,{"$f":"инвест!C71","v":35.799999999999997},{"$f":"инвест!E71","v":89.102134090532886},{"$f":"инвест!G71","v":68.916147980467571},{"$f":"инвест!H71","v":94.397072413200831},{"$f":"инвест!I71","v":100},{"$f":"инвест!J71","v":105},{"$f":"инвест!K71","v":104},{"$f":"инвест!L71","v":105},{"$f":"инвест!M71","v":105},{"$f":"инвест!N71","v":107}]
["РАЗДЕЛ O: Предоставление прочих коммунальных, социальных и персональных услуг","млн. руб. ",1,null,null,null,"04",null,null,null,null,{"$f":"инвест!C72","v":281.60000000000002},{"$f":"инвест!E72","v":533.07186175363165},{"$f":"инвест!G72","v":650.22900000000004},{"$f":"инвест!H72","v":665},{"$f":"инвест!I72","v":711.55000000000007},{"$f":"инвест!J72","v":719.67630000000008},{"$f":"инвест!K72","v":770.05364099999997},{"$f":"инвест!L72","v":801.75538201500012},{"$f":"инвест!M72","v":833.36745136301988},{"$f":"инвест!N72","v":876.18233412745258}]
["Индекс физического объема","% к предыдущему году в сопоставимых ценах",1,null,null,null,"02",null,null,null,null,{"$f":"инвест!C73","v":75.599999999999994},{"$f":"инвест!E73","v":188.35929081638389},{"$f":"инвест!G73","v":107.94490107062749},{"$f":"инвест!H73","v":95.670403381423085},{"$f":"инвест!I73","v":100},{"$f":"инвест!J73","v":102},{"$f":"инвест!K73","v":102},{"$f":"инвест!L73","v":105},{"$f":"инвест!M73","v":102},{"$f":"инвест!N73","v":103}]
["РАЗДЕЛ Q: Деятельность экстерриториальных организаций","млн. руб. ",1,null,null,null,"04",null,null,null,null,{"$f":"инвест!C74","v":0},{"$f":"инвест!E74","v":0},{"$f":"инвест!G74","v":0},{"$f":"инвест!H74","v":0},{"$f":"инвест!I74","v":0},{"$f":"инвест!J74","v":0},{"$f":"инвест!K74","v":0},{"$f":"инвест!L74","v":0},{"$f":"инвест!M74","v":0},{"$f":"инвест!N74","v":0}]
["Индекс физического объема","% к предыдущему году в сопоставимых ценах",1,null,null,null,"02",null,null,null,null,{"$f":"инвест!C75","v":0},{"$f":"инвест!E75","v":0},{"$f":"инвест!F75","v":0},{"$f":"инвест!H75","v":0},{"$f":"инвест!I75","v":0},{"$f":"инвест!J75","v":0},{"$f":"инвест!K75","v":0},{"$f":"инвест!L75","v":0},{"$f":"инвест!M75","v":0},{"$f":"инвест!N75","v":0}]
["Объем инвестиций в основной капитал по источникам финансирования без субъектов малого предпринимательства и параметров неформальной деятельности:",null,null,null,null,null,null,null,null,null,null,{"$f":"инвест!C76","v":0},{"$f":"инвест!E76","v":0},{"$f":"инвест!F76","v":0},{"$f":"инвест!H76","v":0},{"$f":"инвест!I76","v":0},{"$f":"инвест!J76","v":0},{"$f":"инвест!K76","v":0},{"$f":"инвест!L76","v":0},{"$f":"инвест!M76","v":0},{"$f":"инвест!N76","v":0}]
["Объем инвестиций в основной капитал, финансируемых за счет собственных средств организаций","млн. руб.",1,null,null,null,"04",null,null,null,null,{"$f":"инвест!C77","v":613.07000000000005},{"$f":"инвест!E77","v":864.05000000000007},{"$f":"инвест!G77","v":1248.0335000000002},{"$f":"инвест!H77","v":255.92212500000002},{"$f":"инвест!I77","v":235.14010949999999},{"$f":"инвест!J77","v":244.32856800000002},{"$f":"инвест!K77","v":233.91910469999999},{"$f":"инвест!L77","v":255.87304080000001},{"$f":"инвест!M77","v":257.31101517000002},{"$f":"инвест!N77","v":300.60345696000002}]
["из них:",null,null,null,null,null,null,null,null,null,null,{"$f":"инвест!C78","v":0},{"$f":"инвест!E78","v":0},{"$f":"инвест!G78","v":0},{"$f":"инвест!H78","v":0},{"$f":"инвест!I78","v":0},{"$f":"инвест!J78","v":0},{"$f":"инвест!K78","v":0},{"$f":"инвест!L78","v":0},{"$f":"инвест!M78","v":0},{"$f":"инвест!N78","v":0}]
["прибыль","млн. руб.",1,null,null,null,"04",null,null,null,null,{"$f":"инвест!C79","v":353.3},{"$f":"инвест!E79","v":565.28000000000009},{"$f":"инвест!G79","v":904.44800000000021},{"$f":"инвест!H79","v":135.66720000000004},{"$f":"инвест!I79","v":122.10048000000003},{"$f":"инвест!J79","v":128.88384000000002},{"$f":"инвест!K79","v":120.87947520000003},{"$f":"инвест!L79","v":128.88384000000002},{"$f":"инвест!M79","v":132.96742272000003},{"$f":"инвест!N79","v":148.21641600000001}]
["амортизация","млн. руб.",1,null,null,null,"04",null,null,null,null,{"$f":"инвест!C80","v":259.8},{"$f":"инвест!E80","v":298.77},{"$f":"инвест!G80","v":343.58549999999997},{"$f":"инвест!H80","v":120.25492499999999},{"$f":"инвест!I80","v":113.03962949999998},{"$f":"инвест!J80","v":115.44472799999998},{"$f":"инвест!K80","v":113.03962949999998},{"$f":"инвест!L80","v":126.98920079999999},{"$f":"инвест!M80","v":124.34359244999999},{"$f":"инвест!N80","v":152.38704095999998}]
["Объем инвестиций в основной капитал, финансируемых за счет привлеченных средств","млн. руб.",1,null,null,null,"04",null,null,null,null,{"$f":"инвест!C81","v":2106.1799999999998},{"$f":"инвест!E81","v":3357.3327455000003},{"$f":"инвест!G81","v":369.1},{"$f":"инвест!H81","v":530.28241804499999},{"$f":"инвест!I81","v":601.50994550364999},{"$f":"инвест!J81","v":613.84159386454996},{"$f":"инвест!K81","v":702.10984604861346},{"$f":"инвест!L81","v":724.41017792590446},{"$f":"инвест!M81","v":811.60519450909965},{"$f":"инвест!N81","v":838.05538148442258}]
["из них:",null,null,null,null,null,null,null,null,null,null,{"$f":"инвест!C82","v":0},{"$f":"инвест!E82","v":0},{"$f":"инвест!G82","v":0},{"$f":"инвест!H82","v":0},{"$f":"инвест!I82","v":0},{"$f":"инвест!J82","v":0},{"$f":"инвест!K82","v":0},{"$f":"инвест!L82","v":0},{"$f":"инвест!M82","v":0},{"$f":"инвест!N82","v":0}]
["кредиты банков","млн. руб.",1,null,null,null,"04",null,null,null,null,{"$f":"инвест!C83","v":416.9},{"$f":"инвест!E83","v":416.9},{"$f":"инвест!G83","v":250},{"$f":"инвест!H83","v":62.5},{"$f":"инвест!I83","v":68.75},{"$f":"инвест!J83","v":70},{"$f":"инвест!K83","v":73.5625},{"$f":"инвест!L83","v":77.7},{"$f":"инвест!M83","v":81.654375000000002},{"$f":"инвест!N83","v":87.801000000000002}]
["в том числе кредиты иностранных банков","млн. руб.",1,null,null,null,"04",null,null,null,null,{"$f":"инвест!C84","v":0},{"$f":"инвест!E84","v":0},{"$f":"инвест!G84","v":0},{"$f":"инвест!H84","v":0},{"$f":"инвест!I84","v":0},{"$f":"инвест!J84","v":0},{"$f":"инвест!K84","v":0},{"$f":"инвест!L84","v":0},{"$f":"инвест!M84","v":0},{"$f":"инвест!N84","v":0}]
["заемные средства других организаций","млн. руб.",1,null,null,null,"04",null,null,null,null,{"$f":"инвест!C85","v":0},{"$f":"инвест!E85","v":0},{"$f":"инвест!G85","v":0},{"$f":"инвест!H85","v":0},{"$f":"инвест!I85","v":0},{"$f":"инвест!J85","v":0},{"$f":"инвест!K85","v":0},{"$f":"инвест!L85","v":0},{"$f":"инвест!M85","v":0},{"$f":"инвест!N85","v":0}]
["бюджетные средства","млн. руб.",1,null,null,null,"04",null,null,null,null,{"$f":"инвест!C86","v":175.8},{"$f":"инвест!E86","v":65.099999999999994},{"$f":"инвест!G86","v":119.1},{"$f":"инвест!H86","v":172.3},{"$f":"инвест!I86","v":101},{"$f":"инвест!J86","v":104},{"$f":"инвест!K86","v":107},{"$f":"инвест!L86","v":112},{"$f":"инвест!M86","v":109},{"$f":"инвест!N86","v":117}]
["в том числе:",null,null,null,null,null,null,null,null,null,null,{"$f":"инвест!C87","v":0},{"$f":"инвест!E87","v":0},{"$f":"инвест!G87","v":0},{"$f":"инвест!H87","v":0},{"$f":"инвест!I87","v":0},{"$f":"инвест!J87","v":0},{"$f":"инвест!K87","v":0},{"$f":"инвест!L87","v":0},{"$f":"инвест!M87","v":0},{"$f":"инвест!N87","v":0}]
["из федерального бюджета","млн. руб.",1,null,null,null,"04",null,null,null,null,{"$f":"инвест!C88","v":25.4},{"$f":"инвест!E88","v":25.4},{"$f":"инвест!G88","v":0},{"$f":"инвест!H88","v":15.3},{"$f":"инвест!I88","v":16},{"$f":"инвест!J88","v":17},{"$f":"инвест!K88","v":18},{"$f":"инвест!L88","v":20},{"$f":"инвест!M88","v":19},{"$f":"инвест!N88","v":22}]
["из него по федеральной адресной инвестиционной программе","млн. руб.",1,null,null,null,"04",null,null,null,null,{"$f":"инвест!C89","v":25.4},{"$f":"инвест!E89","v":25.4},{"$f":"инвест!F89","v":0},{"$f":"инвест!H89","v":15.3},{"$f":"инвест!I89","v":16},{"$f":"инвест!J89","v":17},{"$f":"инвест!K89","v":18},{"$f":"инвест!L89","v":20},{"$f":"инвест!M89","v":19},{"$f":"инвест!N89","v":22}]
["из бюджетов субъектов федерации","млн. руб.",1,null,null,null,"04",null,null,null,null,{"$f":"инвест!C90","v":39.700000000000003},{"$f":"инвест!E90","v":39.700000000000003},{"$f":"инвест!G90","v":119.1},{"$f":"инвест!H90","v":157},{"$f":"инвест!I90","v":85},{"$f":"инвест!J90","v":87},{"$f":"инвест!K90","v":89},{"$f":"инвест!L90","v":92},{"$f":"инвест!M90","v":90},{"$f":"инвест!N90","v":95}]
["средства внебюджетных фондов","млн. руб.",1,null,null,null,"04",null,null,null,null,{"$f":"инвест!C91","v":95},{"$f":"инвест!E91","v":95.03274549999999},{"$f":"инвест!G91","v":0},{"$f":"инвест!H91","v":94.082418044999983},{"$f":"инвест!I91","v":91.259945503649988},{"$f":"инвест!J91","v":93.141593864549989},{"$f":"инвест!K91","v":90.347346048613488},{"$f":"инвест!L91","v":92.210177925904489},{"$f":"инвест!M91","v":91.250819509099628},{"$f":"инвест!N91","v":94.054381484422578}]
["прочие  ","млн. руб.",1,null,null,null,"04",null,null,null,null,{"$f":"инвест!C92","v":1529.2},{"$f":"инвест!E92","v":2780.3},{"$f":"инвест!G92","v":0},{"$f":"инвест!H92","v":201.4},{"$f":"инвест!I92","v":340.5},{"$f":"инвест!J92","v":346.7},{"$f":"инвест!K92","v":431.2},{"$f":"инвест!L92","v":442.5},{"$f":"инвест!M92","v":529.70000000000005},{"$f":"инвест!N92","v":539.20000000000005}]
["       в том числе: средства от эмиссии акций ","млн. руб.",1,null,null,null,"04",null,null,null,null,{"$f":"инвест!C93","v":0},{"$f":"инвест!E93","v":0},{"$f":"инвест!G93","v":0},{"$f":"инвест!H93","v":0},{"$f":"инвест!I93","v":0},{"$f":"инвест!J93","v":0},{"$f":"инвест!K93","v":0},{"$f":"инвест!L93","v":0},{"$f":"инвест!M93","v":0},{"$f":"инвест!N93","v":0}]
[null,null,null,null,null,null,null,null,null,null,null,{"$f":"инвест!C94","v":0},{"$f":"инвест!E94","v":0},{"$f":"инвест!F94","v":0},{"$f":"инвест!H94","v":0},{"$f":"инвест!I94","v":0},{"$f":"инвест!J94","v":0},{"$f":"инвест!K94","v":0},{"$f":"инвест!L94","v":0},{"$f":"инвест!M94","v":0},{"$f":"инвест!N94","v":0}]
["Объем инвестиций в основной капитал, направляемый на реализацию федеральных целевых программ за счет всех источников финансирования","млн. руб.",1,null,null,null,"04",null,null,null,null,{"$f":"инвест!C95","v":65.099999999999994},{"$f":"инвест!E95","v":65.099999999999994},{"$f":"инвест!G95","v":119.1},{"$f":"инвест!H95","v":172.3},{"$f":"инвест!I95","v":101},{"$f":"инвест!J95","v":104},{"$f":"инвест!K95","v":107},{"$f":"инвест!L95","v":112},{"$f":"инвест!M95","v":109},{"$f":"инвест!N95","v":117}]
[" в том числе:",null,null,null,null,null,null,null,null,null,null,{"$f":"инвест!C96","v":0},{"$f":"инвест!E96","v":0},{"$f":"инвест!G96","v":0},{"$f":"инвест!H96","v":0},{"$f":"инвест!I96","v":0},{"$f":"инвест!J96","v":0},{"$f":"инвест!K96","v":0},{"$f":"инвест!L96","v":0},{"$f":"инвест!M96","v":0},{"$f":"инвест!N96","v":0}]
["за счет федерального бюджета - всего","млн. руб.",1,null,null,null,"04",null,null,null,null,{"$f":"инвест!C97","v":25.4},{"$f":"инвест!E97","v":25.4},{"$f":"инвест!G97","v":0},{"$f":"инвест!H97","v":15.3},{"$f":"инвест!I97","v":16},{"$f":"инвест!J97","v":17},{"$f":"инвест!K97","v":18},{"$f":"инвест!L97","v":20},{"$f":"инвест!M97","v":19},{"$f":"инвест!N97","v":22}]
["за счет бюджета субъекта Российской Федерации - всего","млн. руб.",1,null,null,null,"04",null,null,null,null,{"$f":"инвест!C98","v":39.700000000000003},{"$f":"инвест!E98","v":39.700000000000003},{"$f":"инвест!G98","v":119.1},{"$f":"инвест!H98","v":157},{"$f":"инвест!I98","v":85},{"$f":"инвест!J98","v":87},{"$f":"инвест!K98","v":89},{"$f":"инвест!L98","v":92},{"$f":"инвест!M98","v":90},{"$f":"инвест!N98","v":95}]
["Иностранные инвестиции","тыс. долл. США",1,null,null,null,"04",null,null,null,null,{"$f":"инвест!C99","v":0},{"$f":"инвест!E99","v":0},{"$f":"инвест!G99","v":0},{"$f":"инвест!H99","v":0},{"$f":"инвест!I99","v":0},{"$f":"инвест!J99","v":0},{"$f":"инвест!K99","v":0},{"$f":"инвест!L99","v":0},{"$f":"инвест!M99","v":0},{"$f":"инвест!N99","v":0}]
[null,"% к предыдущему году",1,null,null,null,"02",null,null,null,null,{"$f":"инвест!C100","v":0},{"$f":"инвест!E100","v":0},{"$f":"инвест!G100","v":0},{"$f":"инвест!H100","v":0},{"$f":"инвест!I100","v":0},{"$f":"инвест!J100","v":0},{"$f":"инвест!K100","v":0},{"$f":"инвест!L100","v":0},{"$f":"инвест!M100","v":0},{"$f":"инвест!N100","v":0}]
["Прямые иностранные инвестиции","тыс. долл. США",1,null,null,null,"04",null,null,null,null,{"$f":"инвест!C101","v":0},{"$f":"инвест!E101","v":0},{"$f":"инвест!F101","v":0},{"$f":"инвест!H101","v":0},{"$f":"инвест!I101","v":0},{"$f":"инвест!J101","v":0},{"$f":"инвест!K101","v":0},{"$f":"инвест!L101","v":0},{"$f":"инвест!M101","v":0},{"$f":"инвест!N101","v":0}]
[null,"% к предыдущему году",1,null,null,null,"02",null,null,null,null,{"$f":"инвест!C102","v":0},{"$f":"инвест!E102","v":0},{"$f":"инвест!F102","v":0},{"$f":"инвест!H102","v":0},{"$f":"инвест!I102","v":0},{"$f":"инвест!J102","v":0},{"$f":"инвест!K102","v":0},{"$f":"инвест!L102","v":0},{"$f":"инвест!M102","v":0},{"$f":"инвест!N102","v":0}]
["Портфельные иностранные инвестиции","тыс. долл. США",1,null,null,null,"04",null,null,null,null,{"$f":"инвест!C103","v":0},{"$f":"инвест!E103","v":0},{"$f":"инвест!F103","v":0},{"$f":"инвест!H103","v":0},{"$f":"инвест!I103","v":0},{"$f":"инвест!J103","v":0},{"$f":"инвест!K103","v":0},{"$f":"инвест!L103","v":0},{"$f":"инвест!M103","v":0},{"$f":"инвест!N103","v":0}]
[null,"% к предыдущему году",1,null,null,null,"02",null,null,null,null,{"$f":"инвест!C104","v":0},{"$f":"инвест!E104","v":0},{"$f":"инвест!F104","v":0},{"$f":"инвест!H104","v":0},{"$f":"инвест!I104","v":0},{"$f":"инвест!J104","v":0},{"$f":"инвест!K104","v":0},{"$f":"инвест!L104","v":0},{"$f":"инвест!M104","v":0},{"$f":"инвест!N104","v":0}]
["Прочие (торговые кредиты, кредиты международных финансовых организаций, банковские вклады и др.) иностранные инвестиции","тыс. долл. США",1,null,null,null,"04",null,null,null,null,{"$f":"инвест!C105","v":0},{"$f":"инвест!E105","v":0},{"$f":"инвест!F105","v":0},{"$f":"инвест!H105","v":0},{"$f":"инвест!I105","v":0},{"$f":"инвест!J105","v":0},{"$f":"инвест!K105","v":0},{"$f":"инвест!L105","v":0},{"$f":"инвест!M105","v":0},{"$f":"инвест!N105","v":0}]
[null,"% к предыдущему году",1,null,null,null,"02",null,null,null,null,{"$f":"инвест!C106","v":0},{"$f":"инвест!E106","v":0},{"$f":"инвест!F106","v":0},{"$f":"инвест!H106","v":0},{"$f":"инвест!I106","v":0},{"$f":"инвест!J106","v":0},{"$f":"инвест!K106","v":0},{"$f":"инвест!L106","v":0},{"$f":"инвест!M106","v":0},{"$f":"инвест!N106","v":0}]
[null,null,null,null,null,null,null,null,null,null,null,{"$f":"инвест!C107","v":0},{"$f":"инвест!E107","v":0},{"$f":"инвест!F107","v":0},{"$f":"инвест!H107","v":0},{"$f":"инвест!I107","v":0},{"$f":"инвест!J107","v":0},{"$f":"инвест!K107","v":0},{"$f":"инвест!L107","v":0},{"$f":"инвест!M107","v":0},{"$f":"инвест!N107","v":0}]
["6а. Основные фонды"]
["Создание новой стоимости за год","млн.руб.",1,null,null,null,"04",null,null,null,null,{"$f":"инвест!C108","v":1103.52},{"$f":"инвест!E108","v":1213.8720000000001},{"$f":"инвест!G108","v":13655.302},{"$f":"инвест!H108","v":14259.560559172858},{"$f":"инвест!I108","v":3126.8940358364271},{"$f":"инвест!J108","v":3289.1142902353336},{"$f":"инвест!K108","v":3441.1549709194301},{"$f":"инвест!L108","v":3703.2529203459453},{"$f":"инвест!M108","v":3714.1289840535837},{"$f":"инвест!N108","v":4085.4919518006081}]
["Ликвидация основных фондов по полной учетной стоимости за год","млн.руб.",1,null,null,null,"04",null,null,null,null,{"$f":"инвест!C109","v":1015.46},{"$f":"инвест!E109","v":1127.1606000000002},{"$f":"инвест!G109","v":1251.1482660000004},{"$f":"инвест!H109","v":1126.0334394000004},{"$f":"инвест!I109","v":1013.4300954600003},{"$f":"инвест!J109","v":1131.6636065970004},{"$f":"инвест!K109","v":1018.4972459373002},{"$f":"инвест!L109","v":1131.6636065970004},{"$f":"инвест!M109","v":1018.4972459373002},{"$f":"инвест!N109","v":1109.0303344650604}]
["Стоимость основных фондов по полной учетной стоимости на конец года","млн.руб.",1,null,null,null,"04",null,null,null,null,{"$f":"инвест!C110","v":8603.2000000000007},{"$f":"инвест!E110","v":8689.9114000000009},{"$f":"инвест!G110","v":21094.065134},{"$f":"инвест!H110","v":34227.592253772855},{"$f":"инвест!I110","v":36341.056194149278},{"$f":"инвест!J110","v":36385.042937411185},{"$f":"инвест!K110","v":38763.713919131405},{"$f":"инвест!L110","v":38956.632251160125},{"$f":"инвест!M110","v":41459.345657247686},{"$f":"инвест!N110","v":41933.093868495671}]
[]
["7. Финансы"]
["Доходы консолидированного бюджета субъекта Российской Федерации"]
["Прибыль прибыльных организаций","млн.руб.",1,null,null,null,"04",null,null,null,null,{"$f":"финансы!C6","v":0},{"$f":"финансы!E6","v":0},{"$f":"финансы!F6","v":0},{"$f":"финансы!G6","v":0},{"$f":"финансы!H6","v":0},{"$f":"финансы!I6","v":0},{"$f":"финансы!J6","v":0},{"$f":"финансы!K6","v":0},{"$f":"финансы!L6","v":0},{"$f":"финансы!M6","v":0}]
["Справочно: сальдо прибылей и убытков","млн.руб.",1,null,null,null,"04",null,null,null,null,{"$f":"финансы!C7","v":0},{"$f":"финансы!E7","v":0},{"$f":"финансы!F7","v":0},{"$f":"финансы!G7","v":0},{"$f":"финансы!H7","v":0},{"$f":"финансы!I7","v":0},{"$f":"финансы!J7","v":0},{"$f":"финансы!K7","v":0},{"$f":"финансы!L7","v":0},{"$f":"финансы!M7","v":0}]
["Амортизация основных фондов, начисленная за год","млн.руб.",1,null,null,null,"04",null,null,null,null,{"$f":"финансы!C8","v":0},{"$f":"финансы!E8","v":0},{"$f":"финансы!F8","v":0},{"$f":"финансы!G8","v":0},{"$f":"финансы!H8","v":0},{"$f":"финансы!I8","v":0},{"$f":"финансы!J8","v":0},{"$f":"финансы!K8","v":0},{"$f":"финансы!L8","v":0},{"$f":"финансы!M8","v":0}]
["Налоги на прибыль, доходы","млн.руб.",1,null,null,null,"04",null,null,null,null,{"$f":"финансы!C9","v":160.69999999999999},{"$f":"финансы!E9","v":181.6},{"$f":"финансы!F9","v":214.2},{"$f":"финансы!G9","v":220.5},{"$f":"финансы!H9","v":228.8},{"$f":"финансы!I9","v":300.2},{"$f":"финансы!J9","v":238.8},{"$f":"финансы!K9","v":239},{"$f":"финансы!L9","v":240},{"$f":"финансы!M9","v":243}]
["налог на прибыль организаций","млн.руб.",1,null,null,null,"04",null,null,null,null,{"$f":"финансы!C10","v":0},{"$f":"финансы!E10","v":0},{"$f":"финансы!F10","v":0},{"$f":"финансы!G10","v":0},{"$f":"финансы!H10","v":0},{"$f":"финансы!I10","v":0},{"$f":"финансы!J10","v":0},{"$f":"финансы!K10","v":0},{"$f":"финансы!L10","v":0},{"$f":"финансы!M10","v":0}]
["налог на доходы физических лиц","млн.руб.",1,null,null,null,"04",null,null,null,null,{"$f":"финансы!C11","v":160.69999999999999},{"$f":"финансы!E11","v":181.6},{"$f":"финансы!F11","v":214.2},{"$f":"финансы!G11","v":206},{"$f":"финансы!H11","v":228.8},{"$f":"финансы!I11","v":300.2},{"$f":"финансы!J11","v":238.8},{"$f":"финансы!K11","v":239},{"$f":"финансы!L11","v":240},{"$f":"финансы!M11","v":243}]
["Налоги и взносы на социальные нужды","млн.руб.",1,null,null,null,"04",null,null,null,null,{"$f":"финансы!C12","v":0},{"$f":"финансы!E12","v":0},{"$f":"финансы!F12","v":0},{"$f":"финансы!G12","v":0},{"$f":"финансы!H12","v":0},{"$f":"финансы!I12","v":0},{"$f":"финансы!J12","v":0},{"$f":"финансы!K12","v":0},{"$f":"финансы!L12","v":0},{"$f":"финансы!M12","v":0}]
["Налоги на товары (работы, услуги), реализуемые на территории Российской Федерации","млн.руб.",1,null,null,null,"04",null,null,null,null,{"$f":"финансы!C13","v":0},{"$f":"финансы!E13","v":0},{"$f":"финансы!F13","v":0},{"$f":"финансы!G13","v":0},{"$f":"финансы!H13","v":0},{"$f":"финансы!I13","v":0},{"$f":"финансы!J13","v":0},{"$f":"финансы!K13","v":0},{"$f":"финансы!L13","v":0},{"$f":"финансы!M13","v":0}]
["из них:",null,null,null,null,null,null,null,null,null,null,{"$f":"финансы!C14","v":0},{"$f":"финансы!E14","v":0},{"$f":"финансы!F14","v":0},{"$f":"финансы!G14","v":0},{"$f":"финансы!H14","v":0},{"$f":"финансы!I14","v":0},{"$f":"финансы!J14","v":0},{"$f":"финансы!K14","v":0},{"$f":"финансы!L14","v":0},{"$f":"финансы!M14","v":0}]
["налог на добавленную стоимость ","млн.руб.",1,null,null,null,"04",null,null,null,null,{"$f":"финансы!C15","v":0},{"$f":"финансы!E15","v":0},{"$f":"финансы!F15","v":0},{"$f":"финансы!G15","v":0},{"$f":"финансы!H15","v":0},{"$f":"финансы!I15","v":0},{"$f":"финансы!J15","v":0},{"$f":"финансы!K15","v":0},{"$f":"финансы!L15","v":0},{"$f":"финансы!M15","v":0}]
["акцизы ","млн.руб.",1,null,null,null,"04",null,null,null,null,{"$f":"финансы!C16","v":0},{"$f":"финансы!E16","v":0},{"$f":"финансы!F16","v":0},{"$f":"финансы!G16","v":0},{"$f":"финансы!H16","v":0},{"$f":"финансы!I16","v":0},{"$f":"финансы!J16","v":0},{"$f":"финансы!K16","v":0},{"$f":"финансы!L16","v":0},{"$f":"финансы!M16","v":0}]
["Налоги на совокупный доход","млн.руб.",1,null,null,null,"04",null,null,null,null,{"$f":"финансы!C17","v":52.7},{"$f":"финансы!E17","v":55.5},{"$f":"финансы!F17","v":0},{"$f":"финансы!G17","v":0},{"$f":"финансы!H17","v":0},{"$f":"финансы!I17","v":0},{"$f":"финансы!J17","v":0},{"$f":"финансы!K17","v":0},{"$f":"финансы!L17","v":0},{"$f":"финансы!M17","v":0}]
["Налоги на имущество","млн.руб.",1,null,null,null,"04",null,null,null,null,{"$f":"финансы!C18","v":61.7},{"$f":"финансы!E18","v":7.6},{"$f":"финансы!F18","v":67.2},{"$f":"финансы!G18","v":78.400000000000006},{"$f":"финансы!H18","v":81.599999999999994},{"$f":"финансы!I18","v":82},{"$f":"финансы!J18","v":84.8},{"$f":"финансы!K18","v":85},{"$f":"финансы!L18","v":86},{"$f":"финансы!M18","v":87}]
["Налоги, сборы и регулярные платежи за пользование природными ресурсами","млн.руб.",1,null,null,null,"04",null,null,null,null,{"$f":"финансы!C19","v":1.4},{"$f":"финансы!E19","v":0},{"$f":"финансы!F19","v":0},{"$f":"финансы!G19","v":0},{"$f":"финансы!H19","v":0},{"$f":"финансы!I19","v":0},{"$f":"финансы!J19","v":0},{"$f":"финансы!K19","v":0},{"$f":"финансы!L19","v":0},{"$f":"финансы!M19","v":0}]
["из них:",null,null,null,null,null,null,null,null,null,null,{"$f":"финансы!C20","v":0},{"$f":"финансы!E20","v":0},{"$f":"финансы!F20","v":0},{"$f":"финансы!G20","v":0},{"$f":"финансы!H20","v":0},{"$f":"финансы!I20","v":0},{"$f":"финансы!J20","v":0},{"$f":"финансы!K20","v":0},{"$f":"финансы!L20","v":0},{"$f":"финансы!M20","v":0}]
["налог на добычу полезных ископаемых","млн.руб.",1,null,null,null,"04",null,null,null,null,{"$f":"финансы!C21","v":1.4},{"$f":"финансы!E21","v":1.9},{"$f":"финансы!F21","v":2},{"$f":"финансы!G21","v":1.1000000000000001},{"$f":"финансы!H21","v":1.2},{"$f":"финансы!I21","v":1.2},{"$f":"финансы!J21","v":1.2},{"$f":"финансы!K21","v":1.3},{"$f":"финансы!L21","v":1.3},{"$f":"финансы!M21","v":1.4}]
["Прочие налоговые доходы","млн.руб.",1,null,null,null,"04",null,null,null,null,{"$f":"финансы!C22","v":11.1},{"$f":"финансы!E22","v":83.5},{"$f":"финансы!F22","v":93.9},{"$f":"финансы!G22","v":78.8},{"$f":"финансы!H22","v":"79.9"},{"$f":"финансы!I22","v":80},{"$f":"финансы!J22","v":83.7},{"$f":"финансы!K22","v":84},{"$f":"финансы!L22","v":84.5},{"$f":"финансы!M22","v":85}]
["Неналоговые доходы","млн.руб.",1,null,null,null,"04",null,null,null,null,{"$f":"финансы!C23","v":170.8},{"$f":"финансы!E23","v":270.89999999999998},{"$f":"финансы!F23","v":218.3},{"$f":"финансы!G23","v":192.5},{"$f":"финансы!H23","v":185},{"$f":"финансы!I23","v":190},{"$f":"финансы!J23","v":192},{"$f":"финансы!K23","v":193},{"$f":"финансы!L23","v":194},{"$f":"финансы!M23","v":195}]
["Прочие доходы","млн.руб.",1,null,null,null,"04",null,null,null,null,{"$f":"финансы!C24","v":159.69999999999999},{"$f":"финансы!E24","v":0},{"$f":"финансы!F24","v":0},{"$f":"финансы!G24","v":0},{"$f":"финансы!H24","v":0},{"$f":"финансы!I24","v":0},{"$f":"финансы!J24","v":0},{"$f":"финансы!K24","v":0},{"$f":"финансы!L24","v":0},{"$f":"финансы!M24","v":0}]
["Итого доходов","млн.руб.",1,null,null,null,"04",null,null,null,null,{"$f":"финансы!C25","v":618.1},{"$f":"финансы!E25","v":601.1},{"$f":"финансы!F25","v":595.6},{"$f":"финансы!G25","v":571.29999999999995},{"$f":"финансы!H25","v":576.5},{"$f":"финансы!I25","v":598},{"$f":"финансы!J25","v":599.70000000000005},{"$f":"финансы!K25","v":600},{"$f":"финансы!L25","v":601},{"$f":"финансы!M25","v":602}]
["Сальдо взаимоотношений с федеральным уровнем власти","млн.руб.",1,null,null,null,"04",null,null,null,null,{"$f":"финансы!C26","v":0},{"$f":"финансы!E26","v":0},{"$f":"финансы!F26","v":0},{"$f":"финансы!G26","v":0},{"$f":"финансы!H26","v":0},{"$f":"финансы!I26","v":0},{"$f":"финансы!J26","v":0},{"$f":"финансы!K26","v":0},{"$f":"финансы!L26","v":0},{"$f":"финансы!M26","v":0}]
["Средства, передаваемые на федеральный уровень власти","млн.руб.",1,null,null,null,"04",null,null,null,null,{"$f":"финансы!C27","v":0},{"$f":"финансы!E27","v":0},{"$f":"финансы!F27","v":0},{"$f":"финансы!G27","v":0},{"$f":"финансы!H27","v":0},{"$f":"финансы!I27","v":0},{"$f":"финансы!J27","v":0},{"$f":"финансы!K27","v":0},{"$f":"финансы!L27","v":0},{"$f":"финансы!M27","v":0}]
["в федеральный бюджет","млн.руб.",1,null,null,null,"04",null,null,null,null,{"$f":"финансы!C28","v":0},{"$f":"финансы!E28","v":0},{"$f":"финансы!F28","v":0},{"$f":"финансы!G28","v":0},{"$f":"финансы!H28","v":0},{"$f":"финансы!I28","v":0},{"$f":"финансы!J28","v":0},{"$f":"финансы!K28","v":0},{"$f":"финансы!L28","v":0},{"$f":"финансы!M28","v":0}]
["часть единого социального налога, централизуемая государственными внебюджетными фондами","млн.руб.",1,null,null,null,"04",null,null,null,null,{"$f":"финансы!C29","v":0},{"$f":"финансы!E29","v":0},{"$f":"финансы!F29","v":0},{"$f":"финансы!G29","v":0},{"$f":"финансы!H29","v":0},{"$f":"финансы!I29","v":0},{"$f":"финансы!J29","v":0},{"$f":"финансы!K29","v":0},{"$f":"финансы!L29","v":0},{"$f":"финансы!M29","v":0}]
["Средства, получаемые от федерального уровня власти","млн.руб.",1,null,null,null,"04",null,null,null,null,{"$f":"финансы!C30","v":509.3},{"$f":"финансы!E30","v":637.20000000000005},{"$f":"финансы!F30","v":517.79999999999995},{"$f":"финансы!G30","v":584.6},{"$f":"финансы!H30","v":339.1},{"$f":"финансы!I30","v":340},{"$f":"финансы!J30","v":341},{"$f":"финансы!K30","v":341.5},{"$f":"финансы!L30","v":342},{"$f":"финансы!M30","v":342.5}]
["из федерального бюджета","млн.руб.",1,null,null,null,"04",null,null,null,null,{"$f":"финансы!C31","v":509.3},{"$f":"финансы!E31","v":0},{"$f":"финансы!F31","v":0},{"$f":"финансы!G31","v":0},{"$f":"финансы!H31","v":0},{"$f":"финансы!I31","v":0},{"$f":"финансы!J31","v":0},{"$f":"финансы!K31","v":0},{"$f":"финансы!L31","v":0},{"$f":"финансы!M31","v":0}]
["от государственных внебюджетных фондов","млн.руб.",1,null,null,null,"04",null,null,null,null,{"$f":"финансы!C32","v":0},{"$f":"финансы!E32","v":0},{"$f":"финансы!F32","v":0},{"$f":"финансы!G32","v":0},{"$f":"финансы!H32","v":0},{"$f":"финансы!I32","v":0},{"$f":"финансы!J32","v":0},{"$f":"финансы!K32","v":0},{"$f":"финансы!L32","v":0},{"$f":"финансы!M32","v":0}]
["Всего доходов","млн.руб.",1,null,null,null,"04",null,null,null,null,{"$f":"финансы!C33","v":1127.4000000000001},{"$f":"финансы!E33","v":1238.3},{"$f":"финансы!F33","v":1113.5},{"$f":"финансы!G33","v":1155.9000000000001},{"$f":"финансы!H33","v":915.6},{"$f":"финансы!I33","v":920},{"$f":"финансы!J33","v":940.7},{"$f":"финансы!K33","v":945},{"$f":"финансы!L33","v":950},{"$f":"финансы!M33","v":955}]
["Расходы консолидированного бюджета субъекта Российской Федерации",null,null,null,null,null,null,null,null,null,null,{"$f":"финансы!C34","v":0},{"$f":"финансы!E34","v":0},{"$f":"финансы!F34","v":0},{"$f":"финансы!G34","v":0},{"$f":"финансы!H34","v":0},{"$f":"финансы!I34","v":0},{"$f":"финансы!J34","v":0},{"$f":"финансы!K34","v":0},{"$f":"финансы!L34","v":0},{"$f":"финансы!M34","v":0}]
["Расходы за чет средств, остающихся в распоряжении организаций","млн.руб.",1,null,null,null,"04",null,null,null,null,{"$f":"финансы!C35","v":0},{"$f":"финансы!E35","v":0},{"$f":"финансы!F35","v":0},{"$f":"финансы!G35","v":0},{"$f":"финансы!H35","v":0},{"$f":"финансы!I35","v":0},{"$f":"финансы!J35","v":0},{"$f":"финансы!K35","v":0},{"$f":"финансы!L35","v":0},{"$f":"финансы!M35","v":0}]
["из них:",null,null,null,null,null,null,null,null,null,null,{"$f":"финансы!C36","v":0},{"$f":"финансы!E36","v":0},{"$f":"финансы!F36","v":0},{"$f":"финансы!G36","v":0},{"$f":"финансы!H36","v":0},{"$f":"финансы!I36","v":0},{"$f":"финансы!J36","v":0},{"$f":"финансы!K36","v":0},{"$f":"финансы!L36","v":0},{"$f":"финансы!M36","v":0}]
["на инвестиции","млн.руб.",1,null,null,null,"04",null,null,null,null,{"$f":"финансы!C37","v":0},{"$f":"финансы!E37","v":0},{"$f":"финансы!F37","v":0},{"$f":"финансы!G37","v":0},{"$f":"финансы!H37","v":0},{"$f":"финансы!I37","v":0},{"$f":"финансы!J37","v":0},{"$f":"финансы!K37","v":0},{"$f":"финансы!L37","v":0},{"$f":"финансы!M37","v":0}]
["Затраты на государственные инвестиции","млн.руб.",1,null,null,null,"04",null,null,null,null,{"$f":"финансы!C38","v":65.099999999999994},{"$f":"финансы!E38","v":13.5},{"$f":"финансы!F38","v":191.9},{"$f":"финансы!G38","v":72.8},{"$f":"финансы!H38","v":192},{"$f":"финансы!I38","v":193},{"$f":"финансы!J38","v":194},{"$f":"финансы!K38","v":195},{"$f":"финансы!L38","v":196},{"$f":"финансы!M38","v":197}]
["из них за счет:",null,null,null,null,null,null,null,null,null,null,{"$f":"финансы!C39","v":0},{"$f":"финансы!E39","v":0},{"$f":"финансы!F39","v":0},{"$f":"финансы!G39","v":0},{"$f":"финансы!H39","v":0},{"$f":"финансы!I39","v":0},{"$f":"финансы!J39","v":0},{"$f":"финансы!K39","v":0},{"$f":"финансы!L39","v":0},{"$f":"финансы!M39","v":0}]
["средств федерального бюджета","млн.руб.",1,null,null,null,"04",null,null,null,null,{"$f":"финансы!C40","v":25.4},{"$f":"финансы!E40","v":5.7},{"$f":"финансы!F40","v":11.1},{"$f":"финансы!G40","v":1.8},{"$f":"финансы!H40","v":4.5},{"$f":"финансы!I40","v":4.5999999999999996},{"$f":"финансы!J40","v":4.7},{"$f":"финансы!K40","v":4.8},{"$f":"финансы!L40","v":4.9000000000000004},{"$f":"финансы!M40","v":5}]
["средств бюджета субъекта Федерации","млн.руб.",1,null,null,null,"04",null,null,null,null,{"$f":"финансы!C41","v":18},{"$f":"финансы!E41","v":5.4},{"$f":"финансы!F41","v":178.4},{"$f":"финансы!G41","v":57.8},{"$f":"финансы!H41","v":150},{"$f":"финансы!I41","v":151},{"$f":"финансы!J41","v":152},{"$f":"финансы!K41","v":153},{"$f":"финансы!L41","v":154},{"$f":"финансы!M41","v":155}]
["Общегосударственные вопросы","млн.руб.",1,null,null,null,"04",null,null,null,null,{"$f":"финансы!C42","v":46.7},{"$f":"финансы!E42","v":38.9},{"$f":"финансы!F42","v":48.6},{"$f":"финансы!G42","v":30.9},{"$f":"финансы!H42","v":30.2},{"$f":"финансы!I42","v":30.5},{"$f":"финансы!J42","v":31.1},{"$f":"финансы!K42","v":31.6},{"$f":"финансы!L42","v":32},{"$f":"финансы!M42","v":33}]
["обслуживание государственного и муниципального долга","млн.руб.",1,null,null,null,"04",null,null,null,null,{"$f":"финансы!C43","v":9.3000000000000007},{"$f":"финансы!E43","v":11.5},{"$f":"финансы!F43","v":5.5},{"$f":"финансы!G43","v":6},{"$f":"финансы!H43","v":6.2},{"$f":"финансы!I43","v":6.3},{"$f":"финансы!J43","v":6.4},{"$f":"финансы!K43","v":6.5},{"$f":"финансы!L43","v":6.6},{"$f":"финансы!M43","v":6.7}]
["фундаментальные исследования","млн.руб.",1,null,null,null,"04",null,null,null,null,{"$f":"финансы!C44","v":0},{"$f":"финансы!E44","v":0},{"$f":"финансы!F44","v":0},{"$f":"финансы!G44","v":0},{"$f":"финансы!H44","v":0},{"$f":"финансы!I44","v":0},{"$f":"финансы!J44","v":0},{"$f":"финансы!K44","v":0},{"$f":"финансы!L44","v":0},{"$f":"финансы!M44","v":0}]
["Национальная оборона","млн.руб.",1,null,null,null,"04",null,null,null,null,{"$f":"финансы!C45","v":0},{"$f":"финансы!E45","v":0},{"$f":"финансы!F45","v":0},{"$f":"финансы!G45","v":0},{"$f":"финансы!H45","v":0},{"$f":"финансы!I45","v":0},{"$f":"финансы!J45","v":0},{"$f":"финансы!K45","v":0},{"$f":"финансы!L45","v":0},{"$f":"финансы!M45","v":0}]
["Национальная безопасность и правоохранительная деятельность","млн.руб.",1,null,null,null,"04",null,null,null,null,{"$f":"финансы!C46","v":6.9},{"$f":"финансы!E46","v":6.9},{"$f":"финансы!F46","v":9.1999999999999993},{"$f":"финансы!G46","v":3.1},{"$f":"финансы!H46","v":3},{"$f":"финансы!I46","v":3},{"$f":"финансы!J46","v":3},{"$f":"финансы!K46","v":3.5},{"$f":"финансы!L46","v":3.6},{"$f":"финансы!M46","v":4}]
["Национальная экономика","млн.руб.",1,null,null,null,"04",null,null,null,null,{"$f":"финансы!C47","v":26.9},{"$f":"финансы!E47","v":7.4},{"$f":"финансы!F47","v":54.5},{"$f":"финансы!G47","v":8.5},{"$f":"финансы!H47","v":6.8},{"$f":"финансы!I47","v":7},{"$f":"финансы!J47","v":7.1},{"$f":"финансы!K47","v":7.2},{"$f":"финансы!L47","v":7.3},{"$f":"финансы!M47","v":7.5}]
["Жилищно-коммунальное хозяйство","млн.руб.",1,null,null,null,"04",null,null,null,null,{"$f":"финансы!C48","v":201.8},{"$f":"финансы!E48","v":106.2},{"$f":"финансы!F48","v":170.3},{"$f":"финансы!G48","v":131.9},{"$f":"финансы!H48","v":67.5},{"$f":"финансы!I48","v":68},{"$f":"финансы!J48","v":69.5},{"$f":"финансы!K48","v":70},{"$f":"финансы!L48","v":70.5},{"$f":"финансы!M48","v":71}]
["Охрана окружающей среды","млн.руб.",1,null,null,null,"04",null,null,null,null,{"$f":"финансы!C49","v":1.1000000000000001},{"$f":"финансы!E49","v":0.5},{"$f":"финансы!F49","v":0.5},{"$f":"финансы!G49","v":2.1},{"$f":"финансы!H49","v":2.2000000000000002},{"$f":"финансы!I49","v":2.2999999999999998},{"$f":"финансы!J49","v":2.2999999999999998},{"$f":"финансы!K49","v":2.4},{"$f":"финансы!L49","v":2.4},{"$f":"финансы!M49","v":2.5}]
["Социально-культурные мероприятия","млн.руб.",1,null,null,null,"04",null,null,null,null,{"$f":"финансы!C50","v":893.3},{"$f":"финансы!E50","v":750.7},{"$f":"финансы!F50","v":935.8},{"$f":"финансы!G50","v":990.7},{"$f":"финансы!H50","v":810.5},{"$f":"финансы!I50","v":815},{"$f":"финансы!J50","v":826.7},{"$f":"финансы!K50","v":827},{"$f":"финансы!L50","v":828},{"$f":"финансы!M50","v":830}]
["из них:",null,null,null,null,null,null,null,null,null,null,{"$f":"финансы!C51","v":0},{"$f":"финансы!E51","v":0},{"$f":"финансы!F51","v":0},{"$f":"финансы!G51","v":0},{"$f":"финансы!H51","v":0},{"$f":"финансы!I51","v":0},{"$f":"финансы!J51","v":0},{"$f":"финансы!K51","v":0},{"$f":"финансы!L51","v":0},{"$f":"финансы!M51","v":0}]
["образование","млн.руб.",1,null,null,null,"04",null,null,null,null,{"$f":"финансы!C52","v":548.9},{"$f":"финансы!E52","v":581.9},{"$f":"финансы!F52","v":681.5},{"$f":"финансы!G52","v":828},{"$f":"финансы!H52","v":746.6},{"$f":"финансы!I52","v":750},{"$f":"финансы!J52","v":760.4},{"$f":"финансы!K52","v":762},{"$f":"финансы!L52","v":763},{"$f":"финансы!M52","v":765}]
["культура, кинематография и средства массовой информации","млн.руб.",1,null,null,null,"04",null,null,null,null,{"$f":"финансы!C53","v":27.9},{"$f":"финансы!E53","v":27.9},{"$f":"финансы!F53","v":24.6},{"$f":"финансы!G53","v":32.5},{"$f":"финансы!H53","v":29.1},{"$f":"финансы!I53","v":29.5},{"$f":"финансы!J53","v":30},{"$f":"финансы!K53","v":30.5},{"$f":"финансы!L53","v":30.6},{"$f":"финансы!M53","v":31}]
["здравоохранение и спорт","млн.руб.",1,null,null,null,"04",null,null,null,null,{"$f":"финансы!C54","v":278.3},{"$f":"финансы!E54","v":81.900000000000006},{"$f":"финансы!F54","v":151.30000000000001},{"$f":"финансы!G54","v":0},{"$f":"финансы!H54","v":0},{"$f":"финансы!I54","v":0},{"$f":"финансы!J54","v":0},{"$f":"финансы!K54","v":0},{"$f":"финансы!L54","v":0},{"$f":"финансы!M54","v":0}]
["социальная политика","млн.руб.",1,null,null,null,"04",null,null,null,null,{"$f":"финансы!C55","v":38.200000000000003},{"$f":"финансы!E55","v":29.5},{"$f":"финансы!F55","v":78.5},{"$f":"финансы!G55","v":130.30000000000001},{"$f":"финансы!H55","v":34.700000000000003},{"$f":"финансы!I55","v":35},{"$f":"финансы!J55","v":"36.3"},{"$f":"финансы!K55","v":36.5},{"$f":"финансы!L55","v":36.799999999999997},{"$f":"финансы!M55","v":37}]
["в том числе:",null,null,null,null,null,null,null,null,null,null,{"$f":"финансы!C56","v":0},{"$f":"финансы!E56","v":0},{"$f":"финансы!F56","v":0},{"$f":"финансы!G56","v":0},{"$f":"финансы!H56","v":0},{"$f":"финансы!I56","v":0},{"$f":"финансы!J56","v":0},{"$f":"финансы!K56","v":0},{"$f":"финансы!L56","v":0},{"$f":"финансы!M56","v":0}]
["пенсионное обеспечение","млн.руб.",1,null,null,null,"04",null,null,null,null,{"$f":"финансы!C57","v":0.2},{"$f":"финансы!E57","v":0.1},{"$f":"финансы!F57","v":0.1},{"$f":"финансы!G57","v":0.2},{"$f":"финансы!H57","v":0.2},{"$f":"финансы!I57","v":0.2},{"$f":"финансы!J57","v":0.2},{"$f":"финансы!K57","v":0.2},{"$f":"финансы!L57","v":0.2},{"$f":"финансы!M57","v":0.2}]
["социальное обслуживание населения","млн.руб.",1,null,null,null,"04",null,null,null,null,{"$f":"финансы!C58","v":0},{"$f":"финансы!E58","v":0},{"$f":"финансы!F58","v":0},{"$f":"финансы!G58","v":0},{"$f":"финансы!H58","v":0},{"$f":"финансы!I58","v":0},{"$f":"финансы!J58","v":0},{"$f":"финансы!K58","v":0},{"$f":"финансы!L58","v":0},{"$f":"финансы!M58","v":0}]
["социальное обеспечение населения","млн.руб.",1,null,null,null,"04",null,null,null,null,{"$f":"финансы!C59","v":30.3},{"$f":"финансы!E59","v":18.899999999999999},{"$f":"финансы!F59","v":63.8},{"$f":"финансы!G59","v":112.8},{"$f":"финансы!H59","v":18.8},{"$f":"финансы!I59","v":19},{"$f":"финансы!J59","v":19.600000000000001},{"$f":"финансы!K59","v":19.8},{"$f":"финансы!L59","v":20},{"$f":"финансы!M59","v":22}]
["борьба с беспризорностью, опека, попечительство","млн.руб.",1,null,null,null,"04",null,null,null,null,{"$f":"финансы!C60","v":7.7},{"$f":"финансы!E60","v":10.5},{"$f":"финансы!F60","v":0.3},{"$f":"финансы!G60","v":0.3},{"$f":"финансы!H60","v":0.3},{"$f":"финансы!I60","v":0.3},{"$f":"финансы!J60","v":0.4},{"$f":"финансы!K60","v":0.4},{"$f":"финансы!L60","v":0.4},{"$f":"финансы!M60","v":0.4}]
["другие вопросы в области социальной политики","млн.руб.",1,null,null,null,"04",null,null,null,null,{"$f":"финансы!C61","v":0},{"$f":"финансы!E61","v":0},{"$f":"финансы!F61","v":14.3},{"$f":"финансы!G61","v":17},{"$f":"финансы!H61","v":15.4},{"$f":"финансы!I61","v":16},{"$f":"финансы!J61","v":16.100000000000001},{"$f":"финансы!K61","v":16.2},{"$f":"финансы!L61","v":16.3},{"$f":"финансы!M61","v":16.5}]
["Прочие расходы","млн.руб.",1,null,null,null,"04",null,null,null,null,{"$f":"финансы!C62","v":0},{"$f":"финансы!E62","v":106.1},{"$f":"финансы!F62","v":0.4},{"$f":"финансы!G62","v":0},{"$f":"финансы!H62","v":0},{"$f":"финансы!I62","v":0},{"$f":"финансы!J62","v":0},{"$f":"финансы!K62","v":0},{"$f":"финансы!L62","v":0},{"$f":"финансы!M62","v":0}]
["Всего расходов","млн.руб.",1,null,null,null,"04",null,null,null,null,{"$f":"финансы!C63","v":1176.7},{"$f":"финансы!E63","v":991.6},{"$f":"финансы!F63","v":1219.3},{"$f":"финансы!G63","v":1205.9000000000001},{"$f":"финансы!H63","v":945.6},{"$f":"финансы!I63","v":950},{"$f":"финансы!J63","v":965.7},{"$f":"финансы!K63","v":966},{"$f":"финансы!L63","v":967},{"$f":"финансы!M63","v":968}]
["Превышение доходов над расходами (+), или расходов на доходами (-)","млн.руб.",1,null,null,null,"04",null,null,null,null,{"$f":"финансы!C64","v":-49.3},{"$f":"финансы!E64","v":246.7},{"$f":"финансы!F64","v":-105.8},{"$f":"финансы!G64","v":-50},{"$f":"финансы!H64","v":-30},{"$f":"финансы!I64","v":-30},{"$f":"финансы!J64","v":-25},{"$f":"финансы!K64","v":-21},{"$f":"финансы!L64","v":-17},{"$f":"финансы!M64","v":-13}]
[]
["8. Денежные доходы и расходы населения"]
["Денежные доходы населения","млн.руб.",1,null,null,null,"04",null,null,null,null,{"$f":"доход!C5","v":10060.56},{"$f":"доход!C5","v":10060.56},{"$f":"доход!D5","v":11603.918435103149},{"$f":"доход!E5","v":12562.350038616119},{"$f":"доход!F5","v":13436.98870401099},{"$f":"доход!G5","v":13794.392627717672},{"$f":"доход!H5","v":14156.37579560928},{"$f":"доход!I5","v":14950.082282383439},{"$f":"доход!J5","v":14996.385325821206},{"$f":"доход!K5","v":16248.04363202497}]
["в том числе:",null,null,null,null,null,null,null,null,null,null,{"$f":"доход!C6","v":0},{"$f":"доход!C6","v":0},{"$f":"доход!D6","v":0},{"$f":"доход!E6","v":0},{"$f":"доход!F6","v":0},{"$f":"доход!G6","v":0},{"$f":"доход!H6","v":0},{"$f":"доход!I6","v":0},{"$f":"доход!J6","v":0},{"$f":"доход!K6","v":0}]
["доходы от предпринимательской деятельности","млн.руб.",1,null,null,null,"04",null,null,null,null,{"$f":"доход!C7","v":487.8},{"$f":"доход!C7","v":487.8},{"$f":"доход!D7","v":585.36},{"$f":"доход!E7","v":573.65279999999996},{"$f":"доход!F7","v":659.70071999999993},{"$f":"доход!G7","v":671.17377599999986},{"$f":"доход!H7","v":725.67079200000001},{"$f":"доход!I7","v":771.84984239999983},{"$f":"доход!J7","v":798.23787120000009},{"$f":"доход!K7","v":887.62731875999975}]
["оплата труда, включая скрытую заработную плату","млн.руб.",1,null,null,null,"04",null,null,null,null,{"$f":"доход!C8","v":6176.95},{"$f":"доход!C8","v":6176.95},{"$f":"доход!D8","v":7232.2039551031494},{"$f":"доход!E8","v":7920.2906325361173},{"$f":"доход!F8","v":7943.7721239175507},{"$f":"доход!G8","v":8216.5823376546323},{"$f":"доход!H8","v":8132.9022534105143},{"$f":"доход!I8","v":8710.6371915634991},{"$f":"доход!J8","v":8376.968474810501},{"$f":"доход!K8","v":9243.6808275409712}]
["социальные выплаты - всего","млн.руб.",1,null,null,null,"04",null,null,null,null,{"$f":"доход!C9","v":3295.49},{"$f":"доход!C9","v":3295.49},{"$f":"доход!D9","v":3685.62},{"$f":"доход!E9","v":3967.4364},{"$f":"доход!F9","v":4732.1811599999992},{"$f":"доход!G9","v":4804.9302400000006},{"$f":"доход!H9","v":5194.9466172000002},{"$f":"доход!I9","v":5362.0414960000007},{"$f":"доход!J9","v":5715.2256204040004},{"$f":"доход!K9","v":6006.9417032000019}]
["пенсии","млн.руб.",1,null,null,null,"04",null,null,null,null,{"$f":"доход!C10","v":2853.88},{"$f":"доход!C10","v":2853.88},{"$f":"доход!D10","v":3200.1},{"$f":"доход!E10","v":3399.7860000000001},{"$f":"доход!F10","v":4079.7431999999999},{"$f":"доход!G10","v":4180.7448000000004},{"$f":"доход!H10","v":4496.9759999999997},{"$f":"доход!I10","v":4675.5885120000003},{"$f":"доход!J10","v":4968.4971600000008},{"$f":"доход!K10","v":5251.9934208000013}]
["пособия и социальная помощь","млн.руб.",1,null,null,null,"04",null,null,null,null,{"$f":"доход!C11","v":439.2},{"$f":"доход!C11","v":439.2},{"$f":"доход!D11","v":483.12},{"$f":"доход!E11","v":565.25040000000001},{"$f":"доход!F11","v":650.03796},{"$f":"доход!G11","v":621.77544000000012},{"$f":"доход!H11","v":695.54061720000004},{"$f":"доход!I11","v":683.95298400000013},{"$f":"доход!J11","v":744.22846040400009},{"$f":"доход!K11","v":752.34828240000024}]
["стипендии","млн.руб.",1,null,null,null,"04",null,null,null,null,{"$f":"доход!C12","v":2.4},{"$f":"доход!C12","v":2.4},{"$f":"доход!D12","v":2.4},{"$f":"доход!E12","v":2.4},{"$f":"доход!F12","v":2.4},{"$f":"доход!G12","v":2.41},{"$f":"доход!H12","v":2.4300000000000002},{"$f":"доход!I12","v":2.5},{"$f":"доход!J12","v":2.5},{"$f":"доход!K12","v":2.6}]
["доходы от собственности","млн.руб.",1,null,null,null,"04",null,null,null,null,{"$f":"доход!C13","v":95.61},{"$f":"доход!C13","v":95.61},{"$f":"доход!D13","v":95.61},{"$f":"доход!E13","v":95.61},{"$f":"доход!F13","v":95.61},{"$f":"доход!G13","v":96.008375000000015},{"$f":"доход!H13","v":96.805125000000018},{"$f":"доход!I13","v":99.59375},{"$f":"доход!J13","v":99.593750000000014},{"$f":"доход!K13","v":103.5775}]
["другие доходы","млн.руб.",1,null,null,null,"04",null,null,null,null,{"$f":"доход!C14","v":4.71},{"$f":"доход!C14","v":4.71},{"$f":"доход!D14","v":5.1244800000000001},{"$f":"доход!E14","v":5.3602060800000002},{"$f":"доход!F14","v":5.724700093440001},{"$f":"доход!G14","v":5.6978990630399995},{"$f":"доход!H14","v":6.0510079987660808},{"$f":"доход!I14","v":5.9600024199398396},{"$f":"доход!J14","v":6.3596094067031501},{"$f":"доход!K14","v":6.2162825239972523}]
["Реальные располагаемые денежные доходы населения","в % к предыдущему году",1,null,null,null,"02",null,null,null,null,{"$f":"доход!C15","v":103.18},{"$f":"доход!C15","v":103.18},{"$f":"доход!D15","v":106.01165550162727},{"$f":"доход!E15","v":103.49861507180819},{"$f":"доход!F15","v":100.35204208379589},{"$f":"доход!G15","v":101.79954963804651},{"$f":"доход!H15","v":100.27245228678802},{"$f":"доход!I15","v":103.61182308353482},{"$f":"доход!J15","v":100.79332961659381},{"$f":"доход!K15","v":104.20131153645028}]
["Денежные доходы в расчете на душу населения в месяц","рублей",1,null,null,null,"04",null,null,null,null,{"$f":"доход!C16","v":6598.46},{"$f":"доход!C16","v":6598.46},{"$f":"доход!D16","v":7610.7038803471069},{"$f":"доход!E16","v":8374.9000257440784},{"$f":"доход!F16","v":8951.5473552448821},{"$f":"доход!G16","v":9186.7075759328127},{"$f":"доход!H16","v":9427.0255950730389},{"$f":"доход!I16","v":9952.3900798739414},{"$f":"доход!J16","v":9983.2143884947054},{"$f":"доход!K16","v":10815.589392140595}]
["Расходы населения","млн.руб.",1,null,null,null,"04",null,null,null,null,{"$f":"доход!C17","v":10113.594800000001},{"$f":"доход!C17","v":10113.594800000001},{"$f":"доход!D17","v":11228.828052408253},{"$f":"доход!E17","v":12376.05950457447},{"$f":"доход!F17","v":13708.199048863315},{"$f":"доход!G17","v":13856.069625678741},{"$f":"доход!H17","v":15010.038422077459},{"$f":"доход!I17","v":15312.867737889263},{"$f":"доход!J17","v":16616.768574873066},{"$f":"доход!K17","v":17016.713651732593}]
["в том числе:"," ",null,null,null,null,null,null,null,null,null,{"$f":"доход!C18","v":0},{"$f":"доход!C18","v":0},{"$f":"доход!D18","v":0},{"$f":"доход!E18","v":0},{"$f":"доход!F18","v":0},{"$f":"доход!G18","v":0},{"$f":"доход!H18","v":0},{"$f":"доход!I18","v":0},{"$f":"доход!J18","v":0},{"$f":"доход!K18","v":0}]
["покупка товаров и оплата услуг","млн.руб.",1,null,null,null,"04",null,null,null,null,{"$f":"доход!C19","v":7808.75},{"$f":"доход!C19","v":7808.75},{"$f":"доход!D19","v":8800.5145776000008},{"$f":"доход!E19","v":9821.0715014851812},{"$f":"доход!F19","v":11033.239952542435},{"$f":"доход!G19","v":11102.518215461329},{"$f":"доход!H19","v":12377.528358428717},{"$f":"доход!I19","v":12416.861155298588},{"$f":"доход!J19","v":13917.057748807367},{"$f":"доход!K19","v":13916.870161170595}]
["из них покупка товаров","млн.руб.",1,null,null,null,"04",null,null,null,null,{"$f":"доход!C20","v":6485.89},{"$f":"доход!C20","v":6485.89},{"$f":"доход!D20","v":7677.6452096000003},{"$f":"доход!E20","v":8617.0665221562376},{"$f":"доход!F20","v":9847.2389388592637},{"$f":"доход!G20","v":9892.7370500962479},{"$f":"доход!H20","v":11189.171425252309},{"$f":"доход!I20","v":11196.32279666153},{"$f":"доход!J20","v":12700.604701375391},{"$f":"доход!K20","v":12647.019145102166}]
["обязательные платежи и разнообразные взносы","млн.руб.",1,null,null,null,"04",null,null,null,null,{"$f":"доход!C21","v":804.84479999999996},{"$f":"доход!C21","v":804.84479999999996},{"$f":"доход!D21","v":928.31347480825195},{"$f":"доход!E21","v":1004.9880030892896},{"$f":"доход!F21","v":1074.9590963208791},{"$f":"доход!G21","v":1103.5514102174138},{"$f":"доход!H21","v":1132.5100636487423},{"$f":"доход!I21","v":1196.0065825906752},{"$f":"доход!J21","v":1199.7108260656964},{"$f":"доход!K21","v":1299.8434905619977}]
["прочие расходы","млн.руб.",1,null,null,null,"04",null,null,null,null,{"$f":"доход!C22","v":1500},{"$f":"доход!C22","v":1500},{"$f":"доход!D22","v":1500},{"$f":"доход!E22","v":1550},{"$f":"доход!F22","v":1600},{"$f":"доход!G22","v":1650},{"$f":"доход!H22","v":1500},{"$f":"доход!I22","v":1700},{"$f":"доход!J22","v":1500},{"$f":"доход!K22","v":1800}]
["Превышение доходов над расходами (+), или расходов над доходами (-)","млн.руб.",1,null,null,null,"04",null,null,null,null,{"$f":"доход!C23","v":-53.034800000001269},{"$f":"доход!C23","v":-53.034800000001269},{"$f":"доход!D23","v":375.09038269489611},{"$f":"доход!E23","v":186.29053404164915},{"$f":"доход!F23","v":-271.21034485232485},{"$f":"доход!G23","v":-61.676997961068992},{"$f":"доход!H23","v":-853.66262646817995},{"$f":"доход!I23","v":-362.78545550582385},{"$f":"доход!J23","v":-1620.3832490518598},{"$f":"доход!K23","v":-768.67001970762249}]
["Средний размер назначенных месячных пенсий пенсионеров, состоящих на учете в системе Пенсионного фонда РФ, руб. ","руб.",1,null,null,null,"04",null,null,null,null,{"$f":"доход!C24","v":7251.6},{"$f":"доход!C24","v":7251.6},{"$f":"доход!D24","v":7910.96},{"$f":"доход!E24","v":8350},{"$f":"доход!F24","v":10020},{"$f":"доход!G24","v":10187},{"$f":"доход!H24","v":11022},{"$f":"доход!I24","v":11409.44},{"$f":"доход!J24","v":12124.2},{"$f":"доход!K24","v":12778.572800000002}]
["Реальный размер назначенных пенсий","% к предыдущему году",1,null,null,null,"02",null,null,null,null,{"$f":"доход!C25","v":99.51},{"$f":"доход!C25","v":99.51},{"$f":"доход!D25","v":100.26894673143127},{"$f":"доход!E25","v":100.90800088735233},{"$f":"доход!F25","v":112.35955056179775},{"$f":"доход!G25","v":114.76952022577611},{"$f":"доход!H25","v":104.06811731315045},{"$f":"доход!I25","v":107.07456978967497},{"$f":"доход!J25","v":104.66222645099907},{"$f":"доход!K25","v":107.38255033557049}]
["Величина прожиточного минимума в среднем на душу населения в месяц","руб.",1,null,null,null,"04",null,null,null,null,{"$f":"доход!C26","v":5007},{"$f":"доход!C26","v":5007},{"$f":"доход!D26","v":5007},{"$f":"доход!E26","v":5347.4760000000006},{"$f":"доход!F26","v":5711.1043680000012},{"$f":"доход!G26","v":5684.3669880000007},{"$f":"доход!H26","v":6036.6373169760009},{"$f":"доход!I26","v":5945.8478694480009},{"$f":"доход!J26","v":6344.5058201417769},{"$f":"доход!K26","v":6201.5193278342649}]
["Численность населения с денежными доходами ниже прожиточного минимума в % ко всему населению","% ко всему населению",1,null,null,null,"04",null,null,null,null,{"$f":"доход!C27","v":18.899999999999999},{"$f":"доход!C27","v":18.899999999999999},{"$f":"доход!D27","v":18.899999999999999},{"$f":"доход!E27","v":18.7},{"$f":"доход!F27","v":17.7},{"$f":"доход!G27","v":17.5},{"$f":"доход!H27","v":17.2},{"$f":"доход!I27","v":17},{"$f":"доход!J27","v":17},{"$f":"доход!K27","v":16.5}]
[]
["9. Труд и занятость"]
["Численность трудовых ресурсов","тыс. человек",1,null,null,null,"04",null,null,null,null,{"$f":"труд!C5","v":81.5},{"$f":"труд!D5","v":81.410000000000011},{"$f":"труд!E5","v":80.12},{"$f":"труд!F5","v":79.67},{"$f":"труд!G5","v":78.91},{"$f":"труд!H5","v":79.17},{"$f":"труд!I5","v":79.42},{"$f":"труд!J5","v":79.28},{"$f":"труд!K5","v":80.28},{"$f":"труд!L5","v":79.59}]
["Численность занятых в экономике (среднегодовая)","тыс. человек",1,null,null,null,"04",null,null,null,null,{"$f":"труд!C6","v":56.99},{"$f":"труд!D6","v":56.900000000000006},{"$f":"труд!E6","v":56.32},{"$f":"труд!F6","v":55.07},{"$f":"труд!G6","v":54.31},{"$f":"труд!H6","v":54.67},{"$f":"труд!I6","v":54.620000000000005},{"$f":"труд!J6","v":54.78},{"$f":"труд!K6","v":54.78},{"$f":"труд!L6","v":54.79}]
["Распределение среднегодовой численности занятых в экономике по формам собственности:"," ",null,null,null,null,null,null,null,null,null,{"$f":"труд!C7","v":0},{"$f":"труд!D7","v":0},{"$f":"труд!E7","v":0},{"$f":"труд!F7","v":0},{"$f":"труд!G7","v":0},{"$f":"труд!H7","v":0},{"$f":"труд!I7","v":0},{"$f":"труд!J7","v":0},{"$f":"труд!K7","v":0},{"$f":"труд!L7","v":0}]
["на предприятиях и в организациях государственной и муниципальной форм собственности","тыс. человек",1,null,null,null,"04",null,null,null,null,{"$f":"труд!C8","v":7.7},{"$f":"труд!D8","v":7.6},{"$f":"труд!E8","v":7.5},{"$f":"труд!F8","v":7.5},{"$f":"труд!G8","v":7.2},{"$f":"труд!H8","v":7},{"$f":"труд!I8","v":6.5},{"$f":"труд!J8","v":6},{"$f":"труд!K8","v":5.8},{"$f":"труд!L8","v":5.5}]
["в общественных объединениях и организациях","тыс. человек",1,null,null,null,"04",null,null,null,null,{"$f":"труд!C9","v":0.04},{"$f":"труд!D9","v":0.04},{"$f":"труд!E9","v":0.04},{"$f":"труд!F9","v":0.04},{"$f":"труд!G9","v":0.04},{"$f":"труд!H9","v":0.04},{"$f":"труд!I9","v":0.04},{"$f":"труд!J9","v":0.04},{"$f":"труд!K9","v":0.04},{"$f":"труд!L9","v":0.04}]
["на предприятиях и организациях со смешанной формой собственности","тыс. человек",1,null,null,null,"04",null,null,null,null,{"$f":"труд!C10","v":37},{"$f":"труд!D10","v":37.01},{"$f":"труд!E10","v":36.6},{"$f":"труд!F10","v":35.4},{"$f":"труд!G10","v":35},{"$f":"труд!H10","v":35.5},{"$f":"труд!I10","v":36},{"$f":"труд!J10","v":36.5},{"$f":"труд!K10","v":36.799999999999997},{"$f":"труд!L10","v":37}]
["в предприятиях с иностранным участием","тыс. человек",1,null,null,null,"04",null,null,null,null,{"$f":"труд!C11","v":0.45},{"$f":"труд!D11","v":0.45},{"$f":"труд!E11","v":0.45},{"$f":"труд!F11","v":0.45},{"$f":"труд!G11","v":0.45},{"$f":"труд!H11","v":0.45},{"$f":"труд!I11","v":0.45},{"$f":"труд!J11","v":0.45},{"$f":"труд!K11","v":0.45},{"$f":"труд!L11","v":0.45}]
["в частном секторе","тыс. человек",1,null,null,null,"04",null,null,null,null,{"$f":"труд!C12","v":11.8},{"$f":"труд!D12","v":11.8},{"$f":"труд!E12","v":11.729999999999999},{"$f":"труд!F12","v":11.68},{"$f":"труд!G12","v":11.62},{"$f":"труд!H12","v":11.68},{"$f":"труд!I12","v":11.629999999999999},{"$f":"труд!J12","v":11.79},{"$f":"труд!K12","v":11.690000000000001},{"$f":"труд!L12","v":11.799999999999999}]
["в том числе занятые:"," ",1,null,null,null,"04",null,null,null,null,{"$f":"труд!C13","v":0},{"$f":"труд!D13","v":0},{"$f":"труд!E13","v":0},{"$f":"труд!F13","v":0},{"$f":"труд!G13","v":0},{"$f":"труд!H13","v":0},{"$f":"труд!I13","v":0},{"$f":"труд!J13","v":0},{"$f":"труд!K13","v":0},{"$f":"труд!L13","v":0}]
["в крестьянских (фермерских) хозяйствах (включая наемных работников)","тыс. человек",1,null,null,null,"04",null,null,null,null,{"$f":"труд!C14","v":0},{"$f":"труд!D14","v":0},{"$f":"труд!E14","v":0},{"$f":"труд!F14","v":0},{"$f":"труд!G14","v":0},{"$f":"труд!H14","v":0},{"$f":"труд!I14","v":0},{"$f":"труд!J14","v":0},{"$f":"труд!K14","v":0},{"$f":"труд!L14","v":0}]
["на частных предприятиях","тыс. человек",1,null,null,null,"04",null,null,null,null,{"$f":"труд!C15","v":3.3},{"$f":"труд!D15","v":3.3},{"$f":"труд!E15","v":3.28},{"$f":"труд!F15","v":3.28},{"$f":"труд!G15","v":3.27},{"$f":"труд!H15","v":3.28},{"$f":"труд!I15","v":3.28},{"$f":"труд!J15","v":3.29},{"$f":"труд!K15","v":3.29},{"$f":"труд!L15","v":3.1}]
["индивидуальным трудом и по найму у отдельных граждан, включая занятых в домашнем хозяйстве производством товаров и услуг для реализации (включая личное подсобное хозяйство)","тыс. человек",1,null,null,null,"04",null,null,null,null,{"$f":"труд!C16","v":8.5},{"$f":"труд!D16","v":8.5},{"$f":"труд!E16","v":8.4499999999999993},{"$f":"труд!F16","v":8.4},{"$f":"труд!G16","v":8.35},{"$f":"труд!H16","v":8.4},{"$f":"труд!I16","v":8.35},{"$f":"труд!J16","v":8.5},{"$f":"труд!K16","v":8.4},{"$f":"труд!L16","v":8.6999999999999993}]
["Учащиеся в трудоспособном возрасте, обучающиеся с отрывом от производства","тыс. человек",1,null,null,null,"04",null,null,null,null,{"$f":"труд!C17","v":3.81},{"$f":"труд!D17","v":3.81},{"$f":"труд!E17","v":3.8},{"$f":"труд!F17","v":3.8},{"$f":"труд!G17","v":3.8},{"$f":"труд!H17","v":3.8},{"$f":"труд!I17","v":3.8},{"$f":"труд!J17","v":3.8},{"$f":"труд!K17","v":3.8},{"$f":"труд!L17","v":3.8}]
["Трудоспособные лица в трудоспособном возрасте, не занятые трудовой деятельностью и учебой","тыс. человек",1,null,null,null,"04",null,null,null,null,{"$f":"труд!C18","v":5.0999999999999996},{"$f":"труд!D18","v":5.2},{"$f":"труд!E18","v":5.2},{"$f":"труд!F18","v":5.0999999999999996},{"$f":"труд!G18","v":5},{"$f":"труд!H18","v":4.9000000000000004},{"$f":"труд!I18","v":4.9000000000000004},{"$f":"труд!J18","v":4.8},{"$f":"труд!K18","v":4.8},{"$f":"труд!L18","v":4.7}]
["Уровень безработицы (по методологии МОТ)","%",1,null,null,null,"04",null,null,null,null,{"$f":"труд!C22","v":12.94478527607362},{"$f":"труд!D22","v":7.8104821441020915},{"$f":"труд!E22","v":3.879147494973755},{"$f":"труд!F22","v":5.1562356884309946},{"$f":"труд!G22","v":5.2058965568026538},{"$f":"труд!H22","v":5.3151104875242803},{"$f":"труд!I22","v":6.0538566771253768},{"$f":"труд!J22","v":6.5690880082908336},{"$f":"труд!K22","v":8.2311571661347429},{"$f":"труд!L22","v":9.3076680147920232}]
["Уровень зарегистрированной безработицы","%",1,null,null,null,"04",null,null,null,null,{"$f":"труд!C23","v":3.7},{"$f":"труд!D23","v":2.23},{"$f":"труд!E23","v":1.0900000000000001},{"$f":"труд!F23","v":1.0900000000000001},{"$f":"труд!G23","v":1},{"$f":"труд!H23","v":1},{"$f":"труд!I23","v":1},{"$f":"труд!J23","v":1},{"$f":"труд!K23","v":1},{"$f":"труд!L23","v":1}]
["Численность безработных, рассчитанная по методологии МОТ","тыс. человек",1,null,null,null,"04",null,null,null,null,{"$f":"труд!C24","v":10.55},{"$f":"труд!D24","v":6.3585135135135138},{"$f":"труд!E24","v":3.107972972972973},{"$f":"труд!F24","v":4.1079729729729735},{"$f":"труд!G24","v":4.1079729729729735},{"$f":"труд!H24","v":4.2079729729729731},{"$f":"труд!I24","v":4.8079729729729745},{"$f":"труд!J24","v":5.2079729729729731},{"$f":"труд!K24","v":6.6079729729729717},{"$f":"труд!L24","v":7.4079729729729724}]
["Численность безработных, зарегистрированных в  службах занятости","тыс. человек",1,null,null,null,"04",null,null,null,null,{"$f":"труд!C25","v":3.19},{"$f":"труд!D25","v":1.89},{"$f":"труд!E25","v":0.92400000000000004},{"$f":"труд!F25","v":0.91},{"$f":"труд!G25","v":0.83486238532110091},{"$f":"труд!H25","v":0.83486238532110091},{"$f":"труд!I25","v":0.83486238532110091},{"$f":"труд!J25","v":0.83486238532110091},{"$f":"труд!K25","v":0.83486238532110091},{"$f":"труд!L25","v":0.83486238532110091}]
["Численность незанятых граждан, зарегистрированных в органах государственной службы занятости, в расчете на одну заявленную вакансию","человек",1,null,null,null,"04",null,null,null,null,{"$f":"труд!C26","v":1.49227974568574},{"$f":"труд!D26","v":0.41428571428571431},{"$f":"труд!E26","v":0.84740259740259738},{"$f":"труд!F26","v":1.5384615384615383},{"$f":"труд!G26","v":1.5571428571428572},{"$f":"труд!H26","v":1.5571428571428572},{"$f":"труд!I26","v":1.5571428571428572},{"$f":"труд!J26","v":1.5571428571428572},{"$f":"труд!K26","v":1.5571428571428572},{"$f":"труд!L26","v":1.5571428571428572}]
["Среднесписочная численность работников организаций - всего","тыс. человек",1,null,null,null,"04",null,null,null,null,{"$f":"труд!C27","v":39.938007380073813},{"$f":"труд!D27","v":39.874936303319878},{"$f":"труд!E27","v":39.468478253127863},{"$f":"труд!F27","v":38.592491075989905},{"$f":"труд!G27","v":38.059890872290026},{"$f":"труд!H27","v":38.312175179305761},{"$f":"труд!I27","v":38.277135692220241},{"$f":"труд!J27","v":38.389262050893898},{"$f":"труд!K27","v":38.389262050893898},{"$f":"труд!L27","v":38.396269948311001}]
["Фонд начисленной заработной платы всех работников","млн.руб. ",1,null,null,null,"04",null,null,null,null,{"$f":"труд!C28","v":5548.3477372693733},{"$f":"труд!D28","v":6176.9466328746748},{"$f":"труд!E28","v":7232.2039551031494},{"$f":"труд!F28","v":7920.2906325361173},{"$f":"труд!G28","v":7943.7721239175507},{"$f":"труд!H28","v":8216.5823376546323},{"$f":"труд!I28","v":8132.9022534105143},{"$f":"труд!J28","v":8710.6371915634991},{"$f":"труд!K28","v":8376.968474810501},{"$f":"труд!L28","v":9243.6808275409712}]
["Выплаты социального характера - всего","млн.руб. ",1,null,null,null,"04",null,null,null,null,{"$f":"труд!C29","v":38.340487084870858},{"$f":"труд!D29","v":39.874106568265695},{"$f":"труд!E29","v":41.469070830996323},{"$f":"труд!F29","v":19.937053284132848},{"$f":"труд!G29","v":17.943347955719563},{"$f":"труд!H29","v":19.338941685608862},{"$f":"труд!I29","v":17.763914476162366},{"$f":"труд!J29","v":19.338941685608862},{"$f":"труд!K29","v":17.763914476162366},{"$f":"труд!L29","v":19.338941685608862}]
["Просроченная задолженность по заработной плате работников к месячному фонду заработной платы на конец года","%",1,null,null,null,"04",null,null,null,null,{"$f":"труд!C30","v":2170},{"$f":"труд!D30","v":16400},{"$f":"труд!E30","v":480},{"$f":"труд!F30","v":460},{"$f":"труд!G30","v":350},{"$f":"труд!H30","v":300},{"$f":"труд!I30","v":250},{"$f":"труд!J30","v":200},{"$f":"труд!K30","v":150},{"$f":"труд!L30","v":100}]
[]
["10. Развитие социальной сферы"]
["Численность детей в дошкольных образовательных учреждениях","человек",1,null,null,null,"04",null,null,null,null,{"$f":"социальн!C5","v":7.14},{"$f":"социальн!D5","v":7210},{"$f":"социальн!E5","v":7659},{"$f":"социальн!F5","v":7659},{"$f":"социальн!G5","v":7.7},{"$f":"социальн!H5","v":7.72},{"$f":"социальн!I5","v":7.72},{"$f":"социальн!J5","v":7.55},{"$f":"социальн!K5","v":7.55},{"$f":"социальн!L5","v":7.6}]
["Численность обучающихся в образовательных учреждениях:",null,null,null,null,null,null,null,null,null,null,{"$f":"социальн!C6","v":0}]
["государственных и муниципальных (без вечерних (сменных)","человек",1,null,null,null,"04",null,null,null,null,{"$f":"социальн!C7","v":11286},{"$f":"социальн!D7","v":11491},{"$f":"социальн!E7","v":12305},{"$f":"социальн!F7","v":11994},{"$f":"социальн!G7","v":12000},{"$f":"социальн!H7","v":12020},{"$f":"социальн!I7","v":12020},{"$f":"социальн!J7","v":12040},{"$f":"социальн!K7","v":12040},{"$f":"социальн!L7","v":12070}]
["вечерних (сменных)","человек",1,null,null,null,"04",null,null,null,null,{"$f":"социальн!C8","v":1.87},{"$f":"социальн!D6","v":0},{"$f":"социальн!E6","v":0},{"$f":"социальн!F6","v":0},{"$f":"социальн!G6","v":0},{"$f":"социальн!H6","v":0},{"$f":"социальн!I6","v":0},{"$f":"социальн!J6","v":0},{"$f":"социальн!K6","v":0},{"$f":"социальн!L6","v":0}]
["негосударственных","человек",null,null,null,null,null,null,null,null,null,null,0,0,0,0,0,0,0,0,0]
["Численность обучающихся в образовательных учреждениях:"]
["начального профессионального образования","человек",null,null,null,null,null,null,null,null,null,null,{"$f":"социальн!D8","v":1870},{"$f":"социальн!E8","v":1870},{"$f":"социальн!F8","v":1870},{"$f":"социальн!G8","v":1870},{"$f":"социальн!H8","v":1870},{"$f":"социальн!I8","v":1870},{"$f":"социальн!J8","v":1870},{"$f":"социальн!K8","v":1870},{"$f":"социальн!L8","v":1870}]
["среднего профессионального образования","человек",1,null,null,null,"04",null,null,null,null,{"$f":"социальн!C9","v":1.76},{"$f":"социальн!D9","v":1760},{"$f":"социальн!E9","v":1790},{"$f":"социальн!F9","v":1.76},{"$f":"социальн!G9","v":1.76},{"$f":"социальн!H9","v":1.76},{"$f":"социальн!I9","v":1.76},{"$f":"социальн!J9","v":1.76},{"$f":"социальн!K9","v":1.76},{"$f":"социальн!L9","v":1.76}]
["высшего профессионального образования","человек",1,null,null,null,"04",null,null,null,null,{"$f":"социальн!C10","v":0.91},{"$f":"социальн!D10","v":910},{"$f":"социальн!E10","v":1234},{"$f":"социальн!F10","v":0.91},{"$f":"социальн!G10","v":0.91},{"$f":"социальн!H10","v":0.91},{"$f":"социальн!I10","v":0.91},{"$f":"социальн!J10","v":0.91},{"$f":"социальн!K10","v":0.91},{"$f":"социальн!L10","v":0.91}]
["Выпуск специалистов:"," ",null,null,null,null,null,null,null,null,null,{"$f":"социальн!C11","v":0},{"$f":"социальн!D11","v":0},{"$f":"социальн!E11","v":0},{"$f":"социальн!F11","v":0},{"$f":"социальн!G11","v":0},{"$f":"социальн!H11","v":0},{"$f":"социальн!I11","v":0},{"$f":"социальн!J11","v":0},{"$f":"социальн!K11","v":0},{"$f":"социальн!L11","v":0}]
["со средним профессиональным образованием","человек",1,null,null,null,"04",null,null,null,null,{"$f":"социальн!C12","v":1210},{"$f":"социальн!D12","v":1210},{"$f":"социальн!E12","v":293},{"$f":"социальн!F12","v":1200},{"$f":"социальн!G12","v":1190},{"$f":"социальн!H12","v":1195},{"$f":"социальн!I12","v":1180},{"$f":"социальн!J12","v":1190},{"$f":"социальн!K12","v":1185},{"$f":"социальн!L12","v":1190}]
["с высшим профессиональным образованием","человек",1,null,null,null,"04",null,null,null,null,{"$f":"социальн!C13","v":60},{"$f":"социальн!D13","v":60},{"$f":"социальн!E13","v":241},{"$f":"социальн!F13","v":60},{"$f":"социальн!G13","v":60},{"$f":"социальн!H13","v":60},{"$f":"социальн!I13","v":60},{"$f":"социальн!J13","v":60},{"$f":"социальн!K13","v":60},{"$f":"социальн!L13","v":60}]
["Численность обучающихся в первую смену в дневных учреждениях общего образования в % к общему числу обучающихся в этих учреждениях"," %",1,null,null,null,"04",null,null,null,null,{"$f":"социальн!C14","v":100},{"$f":"социальн!D14","v":100},{"$f":"социальн!E14","v":100},{"$f":"социальн!F14","v":100},{"$f":"социальн!G14","v":100},{"$f":"социальн!H14","v":100},{"$f":"социальн!I14","v":100},{"$f":"социальн!J14","v":100},{"$f":"социальн!K14","v":100},{"$f":"социальн!L14","v":100}]
["город"," %",1,null,null,null,"04",null,null,null,null,{"$f":"социальн!C15","v":100},{"$f":"социальн!D15","v":100},{"$f":"социальн!E15","v":100},{"$f":"социальн!F15","v":100},{"$f":"социальн!G15","v":100},{"$f":"социальн!H15","v":100},{"$f":"социальн!I15","v":100},{"$f":"социальн!J15","v":100},{"$f":"социальн!K15","v":100},{"$f":"социальн!L15","v":100}]
["село"," %",1,null,null,null,"04",null,null,null,null,{"$f":"социальн!C16","v":0},{"$f":"социальн!D16","v":0},{"$f":"социальн!E16","v":0},{"$f":"социальн!F16","v":0},{"$f":"социальн!G16","v":0},{"$f":"социальн!H16","v":0},{"$f":"социальн!I16","v":0},{"$f":"социальн!J16","v":0},{"$f":"социальн!K16","v":0},{"$f":"социальн!L16","v":0}]
["Число заболеваний, зарегистрированных у больных с впервые установленным диагнозом ","единиц на 100 тыс. населения",1,null,null,null,"04",null,null,null,null,{"$f":"социальн!C17","v":94970},{"$f":"социальн!D17","v":87020},{"$f":"социальн!E17","v":87140},{"$f":"социальн!F17","v":87485},{"$f":"социальн!G17","v":87150},{"$f":"социальн!H17","v":87100},{"$f":"социальн!I17","v":87150},{"$f":"социальн!J17","v":87100},{"$f":"социальн!K17","v":87150},{"$f":"социальн!L17","v":87100}]
["Обеспеченность:",null,null,null,null,null,null,null,null,null,null,{"$f":"социальн!C18","v":0},{"$f":"социальн!D18","v":0},{"$f":"социальн!E18","v":0},{"$f":"социальн!F18","v":0},{"$f":"социальн!G18","v":0},{"$f":"социальн!H18","v":0},{"$f":"социальн!I18","v":0},{"$f":"социальн!J18","v":0},{"$f":"социальн!K18","v":0},{"$f":"социальн!L18","v":0}]
["больничными койками"," коек на 10 тыс. населения",1,null,null,null,"04",null,null,null,null,{"$f":"социальн!C19","v":56.1},{"$f":"социальн!D19","v":55.9},{"$f":"социальн!E19","v":60.7},{"$f":"социальн!F19","v":61.5},{"$f":"социальн!G19","v":63.5},{"$f":"социальн!H19","v":63.4},{"$f":"социальн!I19","v":63.4},{"$f":"социальн!J19","v":63.3},{"$f":"социальн!K19","v":63.4},{"$f":"социальн!L19","v":63.2}]
["в том числе койками",null,null,null,null,null,null,null,null,null,null,{"$f":"социальн!C20","v":0},{"$f":"социальн!D20","v":0},{"$f":"социальн!E20","v":0},{"$f":"социальн!F20","v":0},{"$f":"социальн!G20","v":0},{"$f":"социальн!H20","v":0},{"$f":"социальн!I20","v":0},{"$f":"социальн!J20","v":0},{"$f":"социальн!K20","v":0},{"$f":"социальн!L20","v":0}]
["интенсивного лечения "," коек на 10 тыс. населения",1,null,null,null,"04",null,null,null,null,{"$f":"социальн!C21","v":1.4},{"$f":"социальн!D21","v":1.4},{"$f":"социальн!E21","v":1.4},{"$f":"социальн!F21","v":1.4},{"$f":"социальн!G21","v":1.4},{"$f":"социальн!H21","v":1.4},{"$f":"социальн!I21","v":1.4},{"$f":"социальн!J21","v":1.4},{"$f":"социальн!K21","v":1.4},{"$f":"социальн!L21","v":1.4}]
["восстановительного лечения "," коек на 10 тыс. населения",1,null,null,null,"04",null,null,null,null,{"$f":"социальн!C22","v":"-"},{"$f":"социальн!D22","v":"-"},{"$f":"социальн!E22","v":0},{"$f":"социальн!F22","v":"-"},{"$f":"социальн!G22","v":"-"},{"$f":"социальн!H22","v":"-"},{"$f":"социальн!I22","v":"-"},{"$f":"социальн!J22","v":"-"},{"$f":"социальн!K22","v":"-"},{"$f":"социальн!L22","v":"-"}]
["для лечения хронических больных"," коек на 10 тыс. населения",1,null,null,null,"04",null,null,null,null,{"$f":"социальн!C23","v":54.4},{"$f":"социальн!D23","v":54.4},{"$f":"социальн!E23","v":54.7},{"$f":"социальн!F23","v":55.8},{"$f":"социальн!G23","v":55},{"$f":"социальн!H23","v":54},{"$f":"социальн!I23","v":54},{"$f":"социальн!J23","v":53},{"$f":"социальн!K23","v":54},{"$f":"социальн!L23","v":52}]
["в стационарных учреждениях социального обслуживания для престарелых и инвалидов (взрослых и детей)","мест на 10 тыс. Населения",1,null,null,null,"04",null,null,null,null,{"$f":"социальн!C24","v":1.2},{"$f":"социальн!D24","v":1.2},{"$f":"социальн!E24","v":1.2},{"$f":"социальн!F24","v":1.2},{"$f":"социальн!G24","v":1.2},{"$f":"социальн!H24","v":1.2},{"$f":"социальн!I24","v":1.2},{"$f":"социальн!J24","v":1.2},{"$f":"социальн!K24","v":1.2},{"$f":"социальн!L24","v":1.2}]
["стационаров дневного пребывания"," мест на 10 тыс. населения",1,null,null,null,"04",null,null,null,null,{"$f":"социальн!C25","v":11},{"$f":"социальн!D25","v":11},{"$f":"социальн!E25","v":11.2},{"$f":"социальн!F25","v":11.3},{"$f":"социальн!G25","v":5.7},{"$f":"социальн!H25","v":5.8},{"$f":"социальн!I25","v":5.8},{"$f":"социальн!J25","v":5.9},{"$f":"социальн!K25","v":5.9},{"$f":"социальн!L25","v":6}]
["амбулаторно-поликлиническими учреждениями","посещений в смену на 10 тыс. населения",1,null,null,null,"04",null,null,null,null,{"$f":"социальн!C26","v":194.4},{"$f":"социальн!D26","v":198.8},{"$f":"социальн!E26","v":265.8},{"$f":"социальн!F26","v":201},{"$f":"социальн!G26","v":198.5},{"$f":"социальн!H26","v":198.9},{"$f":"социальн!I26","v":198.8},{"$f":"социальн!J26","v":199},{"$f":"социальн!K26","v":199},{"$f":"социальн!L26","v":200}]
["врачами","чел. на 10 тыс. населения",1,null,null,null,"04",null,null,null,null,{"$f":"социальн!C27","v":30.2},{"$f":"социальн!D27","v":31.2},{"$f":"социальн!E27","v":28.4},{"$f":"социальн!F27","v":36.200000000000003},{"$f":"социальн!G27","v":37.6},{"$f":"социальн!H27","v":37.6},{"$f":"социальн!I27","v":37.6},{"$f":"социальн!J27","v":37.6},{"$f":"социальн!K27","v":37.6},{"$f":"социальн!L27","v":37.6}]
["в том числе:",null,null,null,null,null,null,null,null,null,null,{"$f":"социальн!C28","v":0},{"$f":"социальн!D28","v":0},{"$f":"социальн!E28","v":0},{"$f":"социальн!F28","v":0},{"$f":"социальн!G28","v":0},{"$f":"социальн!H28","v":0},{"$f":"социальн!I28","v":0},{"$f":"социальн!J28","v":0},{"$f":"социальн!K28","v":0},{"$f":"социальн!L28","v":0}]
["врачами общей практики (семейными врачами)","чел. на 10 тыс. населения",1,null,null,null,"04",null,null,null,null,{"$f":"социальн!C29","v":6.6},{"$f":"социальн!D29","v":6.3},{"$f":"социальн!E29","v":6.7},{"$f":"социальн!F29","v":2},{"$f":"социальн!G29","v":1.2},{"$f":"социальн!H29","v":1.4},{"$f":"социальн!I29","v":1.3},{"$f":"социальн!J29","v":1.6},{"$f":"социальн!K29","v":1.5},{"$f":"социальн!L29","v":1.8}]
["средним медицинским персоналом","чел. на 10 тыс. населения",1,null,null,null,"04",null,null,null,null,{"$f":"социальн!C30","v":67.599999999999994},{"$f":"социальн!D30","v":69.599999999999994},{"$f":"социальн!E30","v":80},{"$f":"социальн!F30","v":73.400000000000006},{"$f":"социальн!G30","v":78.2},{"$f":"социальн!H30","v":78.5},{"$f":"социальн!I30","v":78.400000000000006},{"$f":"социальн!J30","v":78.8},{"$f":"социальн!K30","v":78.5},{"$f":"социальн!L30","v":80}]
["общедоступными  библиотеками","учрежд. на 100 тыс.населения",1,null,null,null,"04",null,null,null,null,{"$f":"социальн!C31","v":7.1289387386531065},{"$f":"социальн!D31","v":7.1},{"$f":"социальн!E31","v":7.1},{"$f":"социальн!F31","v":7.1258343164345499},{"$f":"социальн!G31","v":7.1244241090511844},{"$f":"социальн!H31","v":7.1243677123655269},{"$f":"социальн!I31","v":7.1223380261627227},{"$f":"социальн!J31","v":7.1221125768594646},{"$f":"социальн!K31","v":7.1197462206013808},{"$f":"социальн!L31","v":7.1189014744035939}]
["учреждениями культурно-досугового типа","учрежд. на 100 тыс.населения",1,null,null,null,"04",null,null,null,null,{"$f":"социальн!C32","v":3.9605215214739475},{"$f":"социальн!D32","v":4},{"$f":"социальн!E32","v":4},{"$f":"социальн!F32","v":3.9587968424636384},{"$f":"социальн!G32","v":3.9580133939173248},{"$f":"социальн!H32","v":3.9579820624252928},{"$f":"социальн!I32","v":3.95685445897929},{"$f":"социальн!J32","v":3.9567292093663693},{"$f":"социальн!K32","v":3.9554145670007674},{"$f":"социальн!L32","v":3.9549452635575522}]
["дошкольными образовательными учреждениями","мест на 1 000 детей в возрасте 1-6 лет",1,null,null,null,"04",null,null,null,null,{"$f":"социальн!C33","v":940},{"$f":"социальн!D33","v":941},{"$f":"социальн!E33","v":942},{"$f":"социальн!F33","v":1182},{"$f":"социальн!G33","v":1182},{"$f":"социальн!H33","v":1185},{"$f":"социальн!I33","v":1185},{"$f":"социальн!J33","v":1200},{"$f":"социальн!K33","v":1200},{"$f":"социальн!L33","v":1370}]
["Ввод в действие жилых домов ","тыс. кв. м общей площади",1,null,null,null,"04",null,null,null,null,{"$f":"социальн!C34","v":13},{"$f":"социальн!D34","v":35.700000000000003},{"$f":"социальн!E34","v":19.86},{"$f":"социальн!F34","v":34.569000000000003},{"$f":"социальн!G34","v":35},{"$f":"социальн!H34","v":35.5},{"$f":"социальн!I34","v":40},{"$f":"социальн!J34","v":45},{"$f":"социальн!K34","v":45},{"$f":"социальн!L34","v":47}]
["в том числе за счет:",null,null,null,null,null,null,null,null,null,null,{"$f":"социальн!C35","v":0},{"$f":"социальн!D35","v":0},{"$f":"социальн!E35","v":0},{"$f":"социальн!F35","v":0},{"$f":"социальн!G35","v":0},{"$f":"социальн!H35","v":0},{"$f":"социальн!I35","v":0},{"$f":"социальн!J35","v":0},{"$f":"социальн!K35","v":0},{"$f":"социальн!L35","v":0}]
["средств федерального бюджета","тыс. кв. м общей площади",1,null,null,null,"04",null,null,null,null,{"$f":"социальн!C36","v":1.36},{"$f":"социальн!D36","v":1.4},{"$f":"социальн!E36","v":0},{"$f":"социальн!F36","v":0},{"$f":"социальн!G36","v":0},{"$f":"социальн!H36","v":0},{"$f":"социальн!I36","v":0},{"$f":"социальн!J36","v":0},{"$f":"социальн!K36","v":0},{"$f":"социальн!L36","v":0}]
["средств бюджетов субъектов Российской Федерации и средств местного бюджета","тыс. кв. м общей площади",1,null,null,null,"04",null,null,null,null,{"$f":"социальн!C37","v":0.48},{"$f":"социальн!D37","v":0.6},{"$f":"социальн!E37","v":0},{"$f":"социальн!F37","v":0},{"$f":"социальн!G37","v":0},{"$f":"социальн!H37","v":0},{"$f":"социальн!I37","v":0},{"$f":"социальн!J37","v":0},{"$f":"социальн!K37","v":0},{"$f":"социальн!L37","v":0}]
["из общего итога - индивидуальные жилые дома, построенные населением за свой счет и с помощью кредитов","тыс. кв. м общей площади",1,null,null,null,"04",null,null,null,null,{"$f":"социальн!C38","v":2.2999999999999998},{"$f":"социальн!D38","v":1.4},{"$f":"социальн!E38","v":2.74},{"$f":"социальн!F38","v":2},{"$f":"социальн!G38","v":2},{"$f":"социальн!H38","v":2},{"$f":"социальн!I38","v":2},{"$f":"социальн!J38","v":2},{"$f":"социальн!K38","v":2},{"$f":"социальн!L38","v":2}]
["Общая площадь жилых помещений, приходящаяся в среднем на 1 жителя  (на конец года)","кв. м",1,null,null,null,"04",null,null,null,null,{"$f":"социальн!C39","v":18.460930710278902},{"$f":"социальн!D39","v":18.671147595173821},{"$f":"социальн!E39","v":19.3},{"$f":"социальн!F39","v":19.509192935066608},{"$f":"социальн!G39","v":19.679662642897117},{"$f":"социальн!H39","v":19.67736753776073},{"$f":"социальн!I39","v":19.991441585424326},{"$f":"социальн!J39","v":20.028990254034195},{"$f":"социальн!K39","v":20.344535868349581},{"$f":"социальн!L39","v":20.402819714034671}]
["Стоимость предоставляемых населению жилищно-коммунальных услуг, рассчитанная по экономически обоснованным тарифам","тыс. руб.",1,null,null,null,"04",null,null,null,null,{"$f":"социальн!C40","v":608.29999999999995},{"$f":"социальн!D40","v":490.37950000000001},{"$f":"социальн!E40","v":507.80758743000001},{"$f":"социальн!F40","v":498},{"$f":"социальн!G40","v":507.19319999999999},{"$f":"социальн!H40","v":519.55825800000002},{"$f":"социальн!I40","v":525.38114815199992},{"$f":"социальн!J40","v":538.02335848932},{"$f":"социальн!K40","v":544.90800720740071},{"$f":"социальн!L40","v":561.15836290436073}]
["Фактический уровень платежей населения за жилое помещение  и коммунальные услуги ","%",1,null,null,null,"04",null,null,null,null,{"$f":"социальн!C41","v":100},{"$f":"социальн!D41","v":100},{"$f":"социальн!E41","v":100},{"$f":"социальн!F41","v":100},{"$f":"социальн!G41","v":100},{"$f":"социальн!H41","v":100},{"$f":"социальн!I41","v":100},{"$f":"социальн!J41","v":100},{"$f":"социальн!K41","v":100},{"$f":"социальн!L41","v":100}]
["Число зарегистрированных преступлений","единиц на 100 тыс. населения",1,null,null,null,"04",null,null,null,null,{"$f":"социальн!C42","v":2086.6},{"$f":"социальн!D42","v":1941.6482366182106},{"$f":"социальн!E42","v":2144},{"$f":"социальн!F42","v":2138.4527570765904},{"$f":"социальн!G42","v":2158.4459189383642},{"$f":"социальн!H42","v":2133.780867897387},{"$f":"социальн!I42","v":2165.5745564967237},{"$f":"социальн!J42","v":2150.5032752835914},{"$f":"социальн!K42","v":2160.8883208180218},{"$f":"социальн!L42","v":2148.7339244348595}]
["Численность пенсионеров, состоящих на учете в системе Пенсионного фонда РФ","тыс. чел.",1,null,null,null,"04",null,null,null,null,{"$f":"социальн!C43","v":31.7},{"$f":"социальн!D43","v":32.799999999999997},33.71,{"$f":"социальн!F43","v":33.93},{"$f":"социальн!G43","v":33.93},{"$f":"социальн!H43","v":34.200000000000003},{"$f":"социальн!I43","v":34},{"$f":"социальн!J43","v":34.15},{"$f":"социальн!K43","v":34.15},{"$f":"социальн!L43","v":34.25}]
["Численность пенсионеров, состоящих на учете в системе Пенсионного фонда РФ","человек на 1 000 человек населения",1,null,null,null,"04",null,null,null,null,{"$f":"социальн!C44","v":234.46287407125772},{"$f":"социальн!D44","v":258.12},{"$f":"социальн!E44","v":270.23343808119029},{"$f":"социальн!F44","v":271.44},{"$f":"социальн!G44","v":271.24470381325443},{"$f":"социальн!H44","v":273.31575161831699},{"$f":"социальн!I44","v":271.69570081508709},{"$f":"социальн!J44","v":272.8071576929222},{"$f":"социальн!K44","v":272.8071576929222},{"$f":"социальн!L44","v":273.58415208882502}]
[]
["11. Охрана окружающей среды"]
["Инвестиции в основной капитал, направленные на охрану окружающей среды и рациональное использование природных ресурсов за счет всех источников финансирования","млн.руб. ",1,null,null,null,"04",null,null,null,null,{"$f":"эколог!C5","v":69.900000000000006},{"$f":"эколог!D5","v":595.54999999999995},{"$f":"эколог!E5","v":593.70000000000005},{"$f":"эколог!F5","v":593.70000000000005},{"$f":"эколог!G5","v":593.70000000000005},{"$f":"эколог!H5","v":593.70000000000005},{"$f":"эколог!I5","v":593.70000000000005},{"$f":"эколог!J5","v":593.70000000000005},{"$f":"эколог!K5","v":593.70000000000005},{"$f":"эколог!L5","v":593.70000000000005}]
["из них за счет:",null,null,null,null,null,null,null,null,null,null,{"$f":"эколог!C6","v":92.893636785880176},{"$f":"эколог!D6","v":100},{"$f":"эколог!E6","v":100},{"$f":"эколог!F6","v":100},{"$f":"эколог!G6","v":100},{"$f":"эколог!H6","v":100},{"$f":"эколог!I6","v":100},{"$f":"эколог!J6","v":100},{"$f":"эколог!K6","v":100},{"$f":"эколог!L6","v":100}]
["средств федерального бюджета","млн.руб. ",1,null,null,null,"04",null,null,null,null,{"$f":"эколог!C7","v":0},{"$f":"эколог!D7","v":217.85},{"$f":"эколог!E7","v":283.7},{"$f":"эколог!F7","v":270},{"$f":"эколог!G7","v":0},{"$f":"эколог!H7","v":0},{"$f":"эколог!I7","v":0},{"$f":"эколог!J7","v":0},{"$f":"эколог!K7","v":0},{"$f":"эколог!L7","v":0}]
["бюджетов субъектов Российской Федерации и местных бюджетов","млн.руб. ",1,null,null,null,"04",null,null,null,null,{"$f":"эколог!C8","v":13.2},{"$f":"эколог!D8","v":107.7},{"$f":"эколог!E8","v":60},{"$f":"эколог!F8","v":53.85},{"$f":"эколог!G8","v":290},{"$f":"эколог!H8","v":290},{"$f":"эколог!I8","v":290},{"$f":"эколог!J8","v":292.89999999999998},{"$f":"эколог!K8","v":292.89999999999998},{"$f":"эколог!L8","v":295.82900000000001}]
["собственных средств предприятий","млн.руб. ",1,null,null,null,"04",null,null,null,null,{"$f":"эколог!C9","v":56.7},{"$f":"эколог!D9","v":270},{"$f":"эколог!E9","v":250},{"$f":"эколог!F9","v":270},{"$f":"эколог!G9","v":305.5},{"$f":"эколог!H9","v":303.70000000000005},{"$f":"эколог!I9","v":303.70000000000005},{"$f":"эколог!J9","v":300.80000000000007},{"$f":"эколог!K9","v":300.80000000000007},{"$f":"эколог!L9","v":297.87100000000004}]
["Сброс загрязненных сточных вод в поверхностные водные объекты (данные Росводресурсов)","млн.куб.м",1,null,null,null,"04",null,null,null,null,{"$f":"эколог!C10","v":82.7},{"$f":"эколог!D10","v":83},{"$f":"эколог!E10","v":83},{"$f":"эколог!F10","v":83},{"$f":"эколог!G10","v":83},{"$f":"эколог!H10","v":83},{"$f":"эколог!I10","v":83.83},{"$f":"эколог!J10","v":84.24499999999999},{"$f":"эколог!K10","v":84.668300000000002},{"$f":"эколог!L10","v":85.508674999999982}]
[null,"% к предыдущему году",1,null,null,null,"02",null,null,null,null,{"$f":"эколог!C11","v":108.06292645943898},{"$f":"эколог!D11","v":100.36275695284161},{"$f":"эколог!E11","v":100},{"$f":"эколог!F11","v":100},{"$f":"эколог!G11","v":100},{"$f":"эколог!H11","v":100},{"$f":"эколог!I11","v":101},{"$f":"эколог!J11","v":101.5},{"$f":"эколог!K11","v":101},{"$f":"эколог!L11","v":101.5}]
["Выбросы в атмосферный воздух загрязняющих веществ, отходящих от стационарных источников","тыс.т.",1,null,null,null,"04",null,null,null,null,{"$f":"эколог!C12","v":2.4},{"$f":"эколог!D12","v":2.5},{"$f":"эколог!E12","v":2.5},{"$f":"эколог!F12","v":2.5},{"$f":"эколог!G12","v":2.5},{"$f":"эколог!H12","v":2.5},{"$f":"эколог!I12","v":2.5},{"$f":"эколог!J12","v":2.5},{"$f":"эколог!K12","v":2.5},{"$f":"эколог!L12","v":2.5}]
[null,"% к предыдущему году",1,null,null,null,"02",null,null,null,null,{"$f":"эколог!C13","v":105.83333333333333},{"$f":"эколог!D13","v":100},{"$f":"эколог!E13","v":100},{"$f":"эколог!F13","v":100},{"$f":"эколог!G13","v":100},{"$f":"эколог!H13","v":100},{"$f":"эколог!I13","v":100},{"$f":"эколог!J13","v":100},{"$f":"эколог!K13","v":100},{"$f":"эколог!L13","v":100}]
["Объем водопотребления (данные Росводресурсов)","млн.куб.м",1,null,null,null,"04",null,null,null,null,{"$f":"эколог!C14","v":24.5},{"$f":"эколог!D14","v":25},{"$f":"эколог!E14","v":25},{"$f":"эколог!F14","v":25.5},{"$f":"эколог!G14","v":26},{"$f":"эколог!H14","v":26.5},{"$f":"эколог!I14","v":26.5},{"$f":"эколог!J14","v":27},{"$f":"эколог!K14","v":27},{"$f":"эколог!L14","v":27.5}]
[null,"% к предыдущему году",1,null,null,null,"02",null,null,null,null,{"$f":"эколог!C15","v":93.34470989761094},{"$f":"эколог!D15","v":102.04081632653062},{"$f":"эколог!E15","v":100},{"$f":"эколог!F15","v":102},{"$f":"эколог!G15","v":101.96078431372548},{"$f":"эколог!H15","v":103.92156862745099},{"$f":"эколог!I15","v":101.92307692307692},{"$f":"эколог!J15","v":101.88679245283019},{"$f":"эколог!K15","v":101.88679245283019},{"$f":"эколог!L15","v":101.85185185185186}]
["Объем оборотного и повторно-последовательного использования воды (данные Росводресурсов)","млн.куб.м",1,null,null,null,"04",null,null,null,null,{"$f":"эколог!C16","v":0.27400000000000002},{"$f":"эколог!D16","v":0.3},{"$f":"эколог!E16","v":0.3},{"$f":"эколог!F16","v":0.27400000000000002},{"$f":"эколог!G16","v":0.27400000000000002},{"$f":"эколог!H16","v":0.27400000000000002},{"$f":"эколог!I16","v":0.27400000000000002},{"$f":"эколог!J16","v":0.27400000000000002},{"$f":"эколог!K16","v":0.27400000000000002},{"$f":"эколог!L16","v":0.27400000000000002}]
[null,"% к предыдущему году",1,null,null,null,"02",null,null,null,null,{"$f":"эколог!C17","v":100},{"$f":"эколог!D17","v":100},{"$f":"эколог!E17","v":100},{"$f":"эколог!F17","v":100},{"$f":"эколог!G17","v":100},{"$f":"эколог!H17","v":100},{"$f":"эколог!I17","v":100},{"$f":"эколог!J17","v":100},{"$f":"эколог!K17","v":100},{"$f":"эколог!L17","v":100}]
[]
["12. Туризм"]
["Количество иностранных посетителей (нерезидентов):","тыс. человек",1,null,null,null,"04"]
[null,"% к предыдущему году",1,null,null,null,"02"]
["- СНГ","тыс. человек",1,null,null,null,"04"]
[null,"% к предыдущему году",1,null,null,null,"02"]
["- вне СНГ","тыс. человек",1,null,null,null,"04"]
[null,"% к предыдущему году",1,null,null,null,"02"]
["в том числе экскурсантов","тыс. человек",1,null,null,null,"04"]
[null,"% к предыдущему году",1,null,null,null,"02"]
["- СНГ","тыс. человек",1,null,null,null,"04"]
[null,"% к предыдущему году",1,null,null,null,"02"]
["- вне СНГ","тыс. человек",1,null,null,null,"04"]
[null,"% к предыдущему году",1,null,null,null,"02"]
["Количество российских посетителей из других регионов (резидентов)","тыс. человек",1,null,null,null,"04"]
[null,"% к предыдущему году",1,null,null,null,"02"]
["в том числе экскурсантов","тыс. человек",1,null,null,null,"04"]
[null,"% к предыдущему году",1,null,null,null,"02"]
["Количество выезжавших в поездки жителей региона","тыс. человек",1,null,null,null,"04"]
[null,"% к предыдущему году",1,null,null,null,"02"]
["Объемы потребления иностранных посетителей с разбивкой","тыс. долл. США",1,null,null,null,"04"]
[null,"% к предыдущему году",1,null,null,null,"02"]
["- СНГ","тыс. долл. США",1,null,null,null,"04"]
[null,"% к предыдущему году",1,null,null,null,"02"]
["- вне СНГ","тыс. долл. США",1,null,null,null,"04"]
[null,"% к предыдущему году",1,null,null,null,"02"]
["Объемы потребления российских посетителей ","тыс. долл. США",1,null,null,null,"04"]
[null,"% к предыдущему году",1,null,null,null,"02"]
["Объемы затрат жителей региона на поездки (с разбивкой по целям)","тыс. долл. США",1,null,null,null,"04"]
[null,"% к предыдущему году",1,null,null,null,"02"]
["Индексы цен на услуги в сфере внутреннего туризма","%, декабрь к декабрю предыдущего года",1,null,null,null,"30"]
["услуги гостиниц и прочих мест проживания","%, декабрь к декабрю предыдущего года",1,null,null,null,"30"]
["общественное питание","%, декабрь к декабрю предыдущего года",1,null,null,null,"30"]
["экскурсионное обслуживание","%, декабрь к декабрю предыдущего года",1,null,null,null,"30"]
["городской транспорт","%, декабрь к декабрю предыдущего года",1,null,null,null,"30"]
["междугородный автобус","%, декабрь к декабрю предыдущего года",1,null,null,null,"30"]
["железнодорожный транспорт","%, декабрь к декабрю предыдущего года",1,null,null,null,"30"]
[]
[]
["*  С 2008 года вступил в действие закон № 209-ФЗ от 24.07.2007. Данные за 2006-2007 годы будут не сопоставимы с данными за 2008 год. Новое название раздела в соответствии с законом \"Малое и среднее предпринимательство\""]

{"sheet":"дефляторы","index":2,"n_rows":17,"n_cols":10,"rows_kept":17,"cut":false,"hidden":false,"merged":[[0,4,0,9],[1,4,1,5],[1,6,1,7],[1,8,1,9],[0,0,2,0],[0,1,2,1]]}
["Показатели","2009 отчет",2011,2012,"прогноз"]
[null,null,"отчет","оценка",2013,null,2014,null,2015]
[null,null,null,null,"вариант 1","вариант 2","вариант 1","вариант 2","вариант 1","вариант 2"]
[]
["Индекс потребительских цен:"]
["Декабрь к декабрю в % к пред.году",106.2,106.2,105.8,105.7,105,105.5,104.5,105,104]
["В среднем за год, в % к пред.году",108.8,108.8,104.6,106.8,106.3,105.7,104.6,105.1,104.3]
["Индексы-дефляторы по: "]
["обрабатывающим производствам",109.8,109.8,108,108,107,107,106,106,105]
["производству, передаче и распределению электроэнергии, газа и воды ",113.2,113.2,106,112,111,111,110,110,109]
["добыче полезных ископаемых",109.8,109.8,108,108,107,107,106,106,105]
["Инвестиции"]
["Индекс-дефлятор, в % к пред.году",113,113,106.9,107,106.1,106.5,105.5,105.8,104.9]
["Оборот розничной торговли"]
["Индекс-дефлятор, в % к пред.году",108.4,108.4,104.9,105.9,105,105.4,104.8,105.2,104.4]
["Объем платных услуг населению"]
["Индекс-дефлятор, в % к пред.году",109.9,110,106.1,108.3,106.3,107.1,106.5,106.9,105.3]

{"sheet":"демогр","index":3,"n_rows":21,"n_cols":13,"rows_kept":21,"cut":false,"hidden":false,"merged":[[0,0,2,0],[0,1,2,1],[0,2,2,2],[0,3,2,3],[0,4,2,4],[0,7,0,12],[1,7,1,8],[1,9,1,10],[1,11,1,12],[0,5,2,5],[0,6,2,6]]}
["Показатели","Единица измерения","2007 отчет","2009 отчет","2010 отчет","2011 отчет","2012 оценка","прогноз"]
[null,null,null,null,null,null,null,2012,null,2013,null,2014]
[null,null,null,null,null,null,null,"вариант 1","вариант 2","вариант 1","вариант 2","вариант 1","вариант 2"]
["1. Демографические показатели"]
["Численность постоянного населения (среднегодовая) ","тыс. чел.",{"$f":"C7+C9","v":126.57},{"$f":"D7+D9","v":127.057},{"$f":"E7+E9","v":124.389},{"$f":"F7+F9","v":124.744},125,125.09,125.13,125.14,125.17999999999999,125.17999999999999,125.18999999999998]
[null,"% к пред. году",100.2,{"$f":"D5/C5*100","v":100.38476732243029},{"$f":"E5/D5*100","v":97.900155048521526},{"$f":"F5/E5*100","v":100.28539501081286},100.2,{"$f":"H5/G5*100","v":100.072},{"$f":"I5/G5*100","v":100.104},{"$f":"J5/H5*100","v":100.03997122072109},{"$f":"K5/I5*100","v":100.03995844321905},{"$f":"L5/J5*100","v":100.03196420009589},{"$f":"M5/K5*100","v":100.00798849656493}]
["Численность постоянного населения (среднегодовая), городское","тыс. чел.",126.3,{"$f":"D17/1000-D9","v":126.78700000000001},{"$f":"E17/1000-E9","v":124.10899999999999},{"$f":"F17/1000-F9","v":124.464},124.8,{"$f":"G7","v":124.8},{"$f":"G7+0.05","v":124.85},{"$f":"I7","v":124.85},{"$f":"J7+0.05","v":124.89999999999999},{"$f":"K7","v":124.89999999999999},{"$f":"L7+0.02","v":124.91999999999999}]
[null,"% к пред. году",100.2,{"$f":"D7/C7*100","v":100.38558986539985},{"$f":"E7/D7*100","v":97.887796067420155},{"$f":"F7/E7*100","v":100.28603888517351},100.2,{"$f":"H7/G7*100","v":100},{"$f":"I7/E7*100","v":100.59705581384107},{"$f":"J7/H7*100","v":100.0400641025641},{"$f":"K7/I7*100","v":100.0400480576692},{"$f":"L7/J7*100","v":100.0400480576692},{"$f":"M7/K7*100","v":100.01601281024818}]
["Численность постоянного населения (среднегодовая), сельское","тыс. чел.",0.27,0.27,0.28000000000000003,0.28000000000000003,0.3,0.28999999999999998,0.28000000000000003,0.28999999999999998,0.28000000000000003,0.28000000000000003,0.27]
[null,"% к пред. году",96.4,{"$f":"D9/C9*100","v":100},{"$f":"E9/D9*100","v":103.7037037037037},{"$f":"F9/E9*100","v":100},100,{"$f":"H9/G9*100","v":96.666666666666671},{"$f":"I9/G9*100","v":93.333333333333343},{"$f":"J9/H9*100","v":100},{"$f":"K9/I9*100","v":100},{"$f":"L9/J9*100","v":96.551724137931046},{"$f":"M9/K9*100","v":96.428571428571431}]
["Ожидаемая продолжительность жизни при рождении","число лет",67,67,67,67,67,67,67,67,67,67,67]
["Общий коэффициент рождаемости","число родившихся на 1000 чел. населения",11.1,12.2,12.3,{"$f":"F18/F5","v":11.78413390623998},11.8,{"$f":"H18/H5","v":11.591654009113437},11.747782306401342,11.746843535240531,11.902859881770251,11.902859881770251,11.981787682722263]
["Общий коэффициент смертности","число умерших на 1000 чел. населения",9.4,9.6,9.9,{"$f":"F19/F5","v":9.4192907073686918},9.4,{"$f":"H19/H5","v":10.152690063154528},10.149444577639256,10.148633530445901,10.145390637482027,10.225275603131491,10.224458822589664]
["Коэффициент естественного прироста населения","на 1000 чел. населения",{"$f":"C12-C13","v":1.6999999999999993},{"$f":"D12-D13","v":2.5999999999999996},{"$f":"E12-E13","v":2.4000000000000004},{"$f":"F12-F13","v":2.3648431988712879},2.4,{"$f":"H12-H13","v":1.4389639459589088},1.5983377287620861,1.5982100047946304,1.7574692442882238,1.6775842786387596,1.7573288601325991]
["Коэффициент миграционного прироста","на 10 000 чел. населения",6.3,{"$f":"D21/D5*10","v":12.041839489363042},{"$f":"E21/E5*10","v":-239.41023723962729},{"$f":"F21/F5*10","v":0},0,{"$f":"H21/H5*10","v":0},0,0,0,0,0]
[]
[null,null,126570,{"$f":"C17+D20+D21","v":127057},{"$f":"D17+E20+E21","v":124389},124744,125000,125000,{"$f":"I5*1000","v":125130},125140,125179.99999999999,125179.99999999999,125189.99999999999]
["рождаемость",null,1405,1557,1575,1470,1460,1450,1470,1470,1490,1490,1500]
["смертность",null,1186,1223,1265,1175,1200,1270,1270,1270,1270,1280,1280]
["естественный прирост",null,-20,{"$f":"D18-D19","v":334},{"$f":"E18-E19","v":310},{"$f":"F18-F19","v":295},{"$f":"G18-G19","v":260},{"$f":"H18-H19","v":180},200,200,220,210,220]
["миграционный прирост",null,73,153,-2978,0,0,0,0,0,0,0,0]

{"sheet":"промыш","index":4,"n_rows":85,"n_cols":12,"rows_kept":85,"cut":false,"hidden":false,"merged":[[0,6,0,11],[1,6,1,7],[1,8,1,9],[1,10,1,11],[0,0,2,0],[0,1,2,1],[0,2,2,2],[0,3,2,3],[0,5,2,5],[0,4,2,4]]}
["Показатели","Единица измерения","2009 отчет","2010 отчет","2011 отчет","2012 оценка","прогноз"]
[null,null,null,null,null,null,2013,null,2014,null,2015]
[null,null,null,null,null,null,"вариант 1","вариант 2","вариант 1","вариант 2","вариант 1","вариант 2"]
["2.1. Выпуск товаров и услуг"]
["Выпуск товаров и услуг","млн. руб. в осн-х ценах соотв-х лет",16216.7,{"$f":"D9+D65+D19","v":18728.960999999996},18990.099999999999,19855.699999999997,21916.158580000003,21962.149880000004,24132.905259388805,24415.353529364002,26969.236826703265,27465.977528395062]
["2.3. Промышленное производство"]
["Индекс промышленного производства ","% к пред. году ",93,114.8,114.1,109,109,111,106,108,105,107]
["Добыча полезных ископаемых"]
["Объем отгруженных товаров собственного производства, выполненных работ и услуг собственными силами - РАЗДЕЛ C: Добыча полезных ископаемых","млн. руб. ",187.12299999999999,196.91800000000001,241,251,{"$f":"E9*G10%*$G$11%","v":262.88280000000003},{"$f":"E9*H10%*$H$11%","v":261.73804999999999},{"$f":"G9*I10%*$I$11%","v":281.28459600000002},{"$f":"H9*J10%*$J$11%","v":282.99117966},{"$f":"I9*K10%*$K$11%","v":301.14328847760004},{"$f":"J9*L10%*$L$11%","v":306.05496080229}]
["Индекс производства - РАЗДЕЛ C: Добыча полезных ископаемых","% к пред. году",25.4,204.7,{"$f":"E9/D9*100/E11%","v":111.46263002115792},{"$f":"F9/E9*100/F11%","v":96.434608882741671},101,101.5,100,102,101,103]
["Индекс-дефлятор - РАЗДЕЛ C: Добыча полезных ископаемых","% к пред. году",153.4,51.4,{"$f":"дефляторы!C11","v":109.8},{"$f":"дефляторы!D11","v":108},{"$f":"дефляторы!E11","v":108},{"$f":"дефляторы!F11","v":107},{"$f":"дефляторы!G11","v":107},{"$f":"дефляторы!H11","v":106},{"$f":"дефляторы!I11","v":106},{"$f":"дефляторы!J11","v":105}]
["Объем отгруженных товаров собственного производства, выполненных работ и услуг собственными силами - Подраздел CA: Добыча топливно-энергетических полезных ископаемых","млн. руб. "]
["Индекс производства - Подраздел CA: Добыча топливно-энергетических полезных ископаемых","% к пред. году"]
["Индекс-дефлятор - Подраздел CA: Добыча топливно-энергетических полезных ископаемых","% к пред. году"]
["Объем отгруженных товаров собственного производства, выполненных работ и услуг собственными силами - Подраздел CB: Добыча полезных ископаемых, кроме топливно-энергетических","млн. руб. "]
["Индекс производства - Подраздел CB: Добыча полезных ископаемых, кроме топливно-энергетических","% к пред. году",{"$f":"C9","v":187.12299999999999},{"$f":"D9","v":196.91800000000001},{"$f":"E9","v":241},251,262.88280000000003,261.73804999999999,281.28459600000002,282.99117966,301.14328847760004,306.05496080229]
["Индекс-дефлятор - Подраздел CB: Добыча полезных ископаемых, кроме топливно-энергетических","% к пред. году",{"$f":"C10","v":25.4},{"$f":"D10","v":204.7},111.46263002115792,96.434608882741671,101,101.5,100,102,101,103]
["Обрабатывающие производства"]
["Объем отгруженных товаров собственного производства, выполненных работ и услуг собственными силами - РАЗДЕЛ D: Обрабатывающие производства","млн. руб. ",{"$f":"C22+C25+C28+C31+C34+C40+C43+C46+C49+C52+C55+C58","v":9172.6600000000017},{"$f":"D22+D25+D28+D31+D34+D40+D43+D46+D49+D52+D55+D58","v":10661.261999999997},{"$f":"E22+E25+E28+E31+E34+E40+E43+E46+E49+E52+E55+E58","v":11620.499999999998},{"$f":"F22+F25+F28+F31+F34+F40+F43+F46+F49+F52+F55+F58","v":12162.699999999999},{"$f":"G22+G25+G28+G31+G34+G40+G43+G46+G49+G52+G55+G58","v":13234.885380000002},13274.579430000003,14413.763185948803,14678.578396904,16078.81744853798,16494.63620124145]
["Индекс производства - РАЗДЕЛ D: Обрабатывающие производства","% к пред. году",{"$f":"120.1/C21%","v":109.38069216757742},118.4,{"$f":"E19/D19*100/$E$21%","v":99.269048385954065},{"$f":"F19/E19*100/$E$21%","v":95.324127662399306},{"$f":"G19/E19*100/G21%","v":105.45607762144489},102.00160326243353,101.78257180977566,104.31754574071168,105.23758098755947,107.02110865061046]
["Индекс-дефлятор - РАЗДЕЛ D: Обрабатывающие производства","% к пред. году",{"$f":"дефляторы!B9","v":109.8},98.2,{"$f":"дефляторы!C9","v":109.8},{"$f":"дефляторы!D9","v":108},{"$f":"дефляторы!E9","v":108},{"$f":"дефляторы!F9","v":107},{"$f":"дефляторы!G9","v":107},{"$f":"дефляторы!H9","v":106},{"$f":"дефляторы!I9","v":106},{"$f":"дефляторы!J9","v":105}]
["Объем отгруженных товаров собственного производства, выполненных работ и услуг собственными силами - Подраздел DA: Производство пищевых продуктов, включая напитки, и табака","млн. руб. ",620.38599999999997,759.10500000000002,683.3,670,{"$f":"F22*G23%*$G$21%","v":730.83600000000013},{"$f":"F22*H23%*$H$21%","v":727.65350000000001},{"$f":"H22*I23%*$G$21%","v":793.72443780000003},{"$f":"H22*J23%*$H$21%","v":794.16102990000013},{"$f":"J22*K23%*$G$21%","v":874.84779053784018},{"$f":"J22*L23%*$H$21%","v":883.74239407272023}]
["Индекс производства -  Подраздел DA: Производство пищевых продуктов, включая напитки, и табака","% к пред. году",80.599999999999994,{"$f":"D22/C22*100/$D$21%","v":124.60296464924082},{"$f":"E22/D22*100/$E$21%","v":81.979870624414389},{"$f":"F22/E22*100/$E$21%","v":89.301970481300316},101,101.5,101,102,102,104]
["Индекс-дефлятор -  Подраздел DA: Производство пищевых продуктов, включая напитки, и табака","% к пред. году"]
["Объем отгруженных товаров собственного производства, выполненных работ и услуг собственными силами - Подраздел DB: Текстильное и швейное производство","млн. руб. ",325.327,364.30500000000001,288.2,320,{"$f":"F25*G26%*$G$21%","v":349.05599999999998},{"$f":"F25*H26%*$H$21%","v":352.67200000000003},{"$f":"H25*I26%*$G$21%","v":386.59904640000002},{"$f":"H25*J26%*$H$21%","v":388.67981120000007},{"$f":"J25*K26%*$G$21%","v":428.16968001792014},{"$f":"J25*L26%*$H$21%","v":432.52289390336011}]
["Индекс производства -  Подраздел DB: Текстильное и швейное производство","% к пред. году",98.5,{"$f":"D25/C25*100/$D$21%","v":114.03378397459747},{"$f":"E25/D25*100/$E$21%","v":72.048758960126932},{"$f":"F25/E25*100/$E$21%","v":101.12386535862947},101,103,101.5,103,102,104]
["Индекс-дефлятор -  Подраздел DB: Текстильное и швейное производство","% к пред. году"]
["Объем отгруженных товаров собственного производства, выполненных работ и услуг собственными силами - Подраздел DC: Производство кожи, изделий из кожи и производство обуви","млн. руб. ",0.98599999999999999]
["Индекс производства -  Подраздел DC: Производство кожи, изделий из кожи и производство обуви","% к пред. году"]
["Индекс-дефлятор -  Подраздел DC: Производство кожи, изделий из кожи и производство обуви","% к пред. году"]
["Объем отгруженных товаров собственного производства, выполненных работ и услуг собственными силами - Подраздел DD: Обработка древесины и производство изделий из дерева","млн. руб. ",7.5780000000000003,6.2880000000000003,2.8,5,{"$f":"F31*G32%*$G$21%","v":5.4},{"$f":"F31*H32%*$H$21%","v":5.4035000000000002},{"$f":"G31*I32%*$I$21%","v":5.8068900000000001},{"$f":"H31*J32%*$J$11%","v":5.8422641999999998},{"$f":"J31*K32%*$G$21%","v":6.37274178936},{"$f":"J31*L32%*$H$21%","v":6.4637642655960006}]
["Индекс производства -  Подраздел DD: Обработка древесины и производство изделий из дерева","% к пред. году",29.2,{"$f":"D31/C31*100/$D$21%","v":84.498002847776206},{"$f":"E31/D31*100/$E$21%","v":40.554883503200358},{"$f":"F31/E31*100/$F$21%","v":165.34391534391534},100,101,100.5,102,101,103.4]
["Индекс-дефлятор -  Подраздел DD: Обработка древесины и производство изделий из дерева","% к пред. году"]
["Объем отгруженных товаров собственного производства, выполненных работ и услуг собственными силами - Подраздел DE: Целлюлозно-бумажное производство; издательская и полиграфическая деятельность","млн. руб. ",10.794,18.170999999999999,9.5,11,{"$f":"F34*G35%*$G$21%","v":12.117600000000001},{"$f":"F34*H35%*$H$21%","v":12.240800000000002},{"$f":"H34*I35%*$G$21%","v":13.418364960000002},{"$f":"H34*J35%*$H$21%","v":13.490585680000002},{"$f":"J34*K35%*$G$21%","v":14.715530859744003},{"$f":"J34*L35%*$H$21%","v":14.867974477928005}]
["Индекс производства -  Подраздел DE: Целлюлозно-бумажное производство; издательская и полиграфическая деятельность","% к пред. году",352.6,{"$f":"D34/C34*100/$D$21%","v":171.42925069256626},{"$f":"E34/D34*100/$E$21%","v":47.614851783988172},{"$f":"F34/E34*100/$E$21%","v":105.45489406576553},102,104,101.5,103,101,103]
["Индекс-дефлятор -  Подраздел DE: Целлюлозно-бумажное производство; издательская и полиграфическая деятельность","% к пред. году"]
["Объем отгруженных товаров собственного производства, выполненных работ и услуг собственными силами - Подраздел DF: Производство кокса, нефтепродуктов ","млн. руб. "]
["Индекс производства -  Подраздел DF: Производство кокса, нефтепродуктов ","% к пред. году"]
["Индекс-дефлятор -  Подраздел DF: Производство кокса, нефтепродуктов ","% к пред. году"]
["Объем отгруженных товаров собственного производства, выполненных работ и услуг собственными силами - Подраздел DG: Химическое производство","млн. руб. ",5857.6679999999997,6671.12,7265.7,{"$f":"7687.1-100","v":7587.1},{"$f":"F40*G41%*$G$21%","v":8276.0086800000008},{"$f":"F40*H41%*$H$21%","v":8280.5609400000012},{"$f":"H40*I41%*$G$21%","v":9068.2078966128011},{"$f":"H40*J41%*$H$21%","v":9214.6082140320013},{"$f":"J40*K41%*$G$21%","v":10250.330177289201},{"$f":"J40*L41%*$H$21%","v":10451.208636355097}]
["Индекс производства -  Подраздел DG: Химическое производство","% к пред. году",100.3,{"$f":"D40/C40*100/$D$21%","v":115.97450080810191},{"$f":"E40/D40*100/$E$21%-12","v":87.191936507724321},{"$f":"F40/E40*100/$F$21%-12","v":84.688448361377326},101,102,101.4,104,103,106]
["Индекс-дефлятор -  Подраздел DG: Химическое производство","% к пред. году"]
["Объем отгруженных товаров собственного производства, выполненных работ и услуг собственными силами - Подраздел DH: Производство резиновых и пластмассовых изделий","млн. руб. ",303.11200000000002,463.63400000000001,421.4,440,{"$f":"F43*G44%*$G$21%","v":479.952},{"$f":"F43*H44%*$H$21%","v":480.21600000000007},{"$f":"H43*I44%*$I$21%","v":524.10774240000012},{"$f":"H43*J44%*$J$21%","v":527.86303152000005},{"$f":"J43*K44%*$K$21%","v":581.91620594764811},{"$f":"J43*L44%*$L$21%","v":581.96899225080017}]
["Индекс производства -  Подраздел DH: Производство резиновых и пластмассовых изделий","% к пред. году",93.6,{"$f":"D43/C43*100/$D$21%","v":155.7616930019455},{"$f":"E43/D43*100/$E$21%","v":82.778378363003242},{"$f":"F43/E43*100/$F$21%","v":96.679498672854137},101,102,102,103.7,104,105]
["Индекс-дефлятор -  Подраздел DH: Производство резиновых и пластмассовых изделий","% к пред. году"]
["Объем отгруженных товаров собственного производства, выполненных работ и услуг собственными силами - Подраздел DI: Производство прочих неметаллических минеральных продуктов","млн. руб. ",1907.38,2255.6210000000001,2792,2953.9,{"$f":"F46*G47%*$G$11%","v":3190.2120000000004},{"$f":"F46*H47%*$H$11%","v":3223.8864600000002},{"$f":"G46*I47%*$I$11%","v":3413.5268400000004},{"$f":"H46*J47%*$J$11%","v":3519.8392370280008},{"$f":"I46*K47%*$K$11%","v":3690.7052194080006},{"$f":"J46*L47%*$L$11%","v":3880.622758823371}]
["Индекс производства -  Подраздел DI: Производство прочих неметаллических минеральных продуктов","% к пред. году",65.3,{"$f":"D46/C46*100/$D$21%","v":120.4252112904621},{"$f":"E46/D46*100/$E$21%-8","v":104.73193059393175},{"$f":"F46/E46*100/$F$21%-8","v":89.961769075665913},100,102,100,103,102,105]
["Индекс-дефлятор -  Подраздел DI: Производство прочих неметаллических минеральных продуктов","% к пред. году"]
["Объем отгруженных товаров собственного производства, выполненных работ и услуг собственными силами - Подраздел DJ: Металлургическое производство и производство готовых металлических изделий","млн. руб.",67.921000000000006,44.142000000000003,18.899999999999999,29,{"$f":"F49*G50%*$G$21%","v":31.633200000000002},{"$f":"F49*H50%*$H$21%","v":31.650600000000004},{"$f":"G49*I50%*$I$21%","v":33.847524000000007},{"$f":"H49*J50%*$J$21%","v":34.556125080000001},{"$f":"I49*K50%*$K$21%","v":36.416551071600004},{"$f":"J49*L50%*$L$21%","v":37.735288587360003}]
["Индекс производства -  Подраздел DJ: Металлургическое производство и производство готовых металлических изделий","% к пред. году",99.5,{"$f":"D49/C49*100/$D$21%","v":66.181475777642845},{"$f":"E49/D49*100/$E$21%","v":38.994868275334966},{"$f":"F49/E49*100/$F$21%","v":142.07329022143836},101,102,100,103,101.5,104]
["Индекс-дефлятор -  Подраздел DJ: Металлургическое производство и производство готовых металлических изделий","% к пред. году"]
["Объем отгруженных товаров собственного производства, выполненных работ и услуг собственными силами - 38.9: Производство машин и оборудования (без производства оружия и боеприпасов)","млн. руб. ",66.896000000000001,74.034999999999997,77.599999999999994,82.1,{"$f":"F52*G53%*$G$21%","v":89.554679999999991},{"$f":"F52*H53%*$H$21%","v":90.482410000000002},{"$f":"G52*I53%*$I$21%","v":97.26086021399999},{"$f":"H52*J53%*$J$21%","v":99.268252011000001},{"$f":"I52*K53%*$K$21%","v":105.1584420633768},{"$f":"J52*L53%*$L$21%","v":108.40093119601201}]
["Индекс производства -  38.9: Производство машин и оборудования (без производства оружия и боеприпасов)","% к пред. году",140.5,{"$f":"D52/C52*100/$D$21%","v":112.70039617686643},{"$f":"E52/D52*100/$E$21%","v":95.460191316493237},{"$f":"F52/E52*100/$E$21%","v":96.356073836215813},101,103,101.5,103.5,102,104]
["Индекс-дефлятор -  38.9: Производство машин и оборудования (без производства оружия и боеприпасов)","% к пред. году"]
["Объем отгруженных товаров собственного производства, выполненных работ и услуг собственными силами - Подраздел DL: Производство электрооборудования, электронного и оптического оборудования","млн. руб. ",4.2709999999999999,4.407,60.8,64.3,{"$f":"F55*G56%*$G$21%","v":69.791219999999981},{"$f":"F55*H56%*$H$21%","v":69.489010000000007},{"$f":"G55*I56%*$I$21%","v":76.916903561999987},{"$f":"H55*J56%*$J$11%","v":79.919310401000004},{"$f":"I55*K56%*$K$21%","v":89.685109553291994},{"$f":"J55*L56%*$L$21%","v":96.502567309207492}]
["Индекс производства - Подраздел DL: Производство электрооборудования, электронного и оптического оборудования","% к пред. году",24,{"$f":"D55/C55*100/$D$21%","v":105.07562727073748},{"$f":"E55/D55*100/$E$21%","v":1256.4875469271235},{"$f":"F55/E55*100/$F$21%","v":97.922758284600391},100.5,101,103,108.5,110,115]
["Индекс-дефлятор - Подраздел DL: Производство электрооборудования, электронного и оптического оборудования","% к пред. году"]
["Объем отгруженных товаров собственного производства, выполненных работ и услуг собственными силами - Подраздел DM: Производство транспортных средств и оборудования","млн. руб. ",0.34100000000000003,0.434,0.3,0.3,{"$f":"F58*G59%*$G$11%","v":0.32400000000000001},{"$f":"F58*H59%*$H$11%","v":0.32421},{"$f":"G58*I59%*$I$11%","v":0.34668000000000004},{"$f":"H58*J59%*$J$11%","v":0.35053585200000004},0.5,0.6]
["Индекс производства - Подраздел DM: Производство транспортных средств и оборудования","% к пред. году",91.9,{"$f":"D58/C58*100/$D$21%","v":129.60562858729864},{"$f":"E58/D58*100/$E$21%","v":62.954848782453226},{"$f":"F58/E58*100/$F$21%","v":92.592592592592581},100,101,100,102,102,103]
["Индекс-дефлятор - Подраздел DM: Производство транспортных средств и оборудования","% к пред. году"]
["Объем отгруженных товаров собственного производства, выполненных работ и услуг собственными силами - Подраздел DN: Прочие производства","млн. руб. "]
["Индекс производства - Подраздел DN: Прочие производства","% к пред. году"]
["Индекс-дефлятор - Подраздел DN: Прочие производства","% к пред. году"]
["Производство и распределение электроэнергии, газа и воды"]
["Объем отгруженных товаров собственного производства, выполненных работ и услуг собственными силами - РАЗДЕЛ E: Производство и распределение электроэнергии, газа и воды","млн. руб. ",7178.7830000000004,7870.7809999999999,7128.6,{"$f":"7542-100","v":7442},{"$f":"F65*G66%*G67%","v":8418.3904000000002},{"$f":"F65*H66%*H67%","v":8425.8324000000011},{"$f":"G65*I66%*I67%","v":9437.8574774400004},{"$f":"H65*J66%*J67%","v":9453.7839528000022},{"$f":"I65*K66%*K67%","v":10589.276089687683},{"$f":"J65*L66%*L67%","v":10665.286366351322}]
["Индекс производства - РАЗДЕЛ E: Производство и распределение электроэнергии, газа и воды","% к пред. году",108.4,{"$f":"D65/C65*100/D67%","v":95.008222732382123},{"$f":"E65/D65*100/E67%-5","v":75.009211580420725},{"$f":"F65/E65*100/F67%-5","v":93.487146381914158},101,102,101,102,102,103.5]
["Индекс-дефлятор - РАЗДЕЛ E: Производство и распределение электроэнергии, газа и воды","% к пред. году",{"$f":"дефляторы!B10","v":113.2},115.4,{"$f":"дефляторы!C10","v":113.2},{"$f":"дефляторы!D10","v":106},{"$f":"дефляторы!E10","v":112},{"$f":"дефляторы!F10","v":111},{"$f":"дефляторы!G10","v":111},{"$f":"дефляторы!H10","v":110},{"$f":"дефляторы!I10","v":110},{"$f":"дефляторы!J10","v":109}]
["Потребление электроэнергии","млн.кВт.ч."]
["в том числе по группам потребителей:"]
["Базовые потребители","млн. кВт. ч."]
["Население","млн. кВт. ч."]
["Прочие потребители","млн. кВт. ч."]
["Средние тарифы на электроэнергию, отпущенную различным категориям потребителей","руб./тыс.кВт.ч"]
["Индекс тарифов ","за период с начала года к соотв. периоду пред. года,%"]
[null,"% декабрь к декабрю пред. года"]
[" в том числе по группам потребителей:"]
["Базовые потребители","руб./тыс.кВт.ч"]
["Индекс тарифов ","за период с начала года к соотв. периоду пред. года,%"]
[null,"% декабрь к декабрю пред. года"]
["Население","руб./тыс.кВт.ч"]
["Индекс тарифов ","за период с начала года к соотв. периоду пред. года,%"]
[null,"% декабрь к декабрю пред. года"]
["Прочие потребители","руб./тыс.кВт.ч"]
["Индекс тарифов ","за период с начала года к соотв. периоду пред. года,%"]
[null,"% декабрь к декабрю пред. года"]

{"sheet":"трансп","index":5,"n_rows":54,"n_cols":11,"rows_kept":54,"cut":false,"hidden":false,"merged":[[0,5,0,10],[1,5,1,6],[1,7,1,8],[1,9,1,10],[0,0,2,0],[0,1,2,1],[0,2,2,2],[0,3,2,3],[0,4,2,4]]}
["Показатели","Единица измерения","2010 отчет","2011 отчет","2012 оценка","прогноз"]
[null,null,null,null,null,2013,null,2014,null,2015]
[null,null,null,null,null,"вариант 1","вариант 2","вариант 1","вариант 2","вариант 1","вариант 2"]
["2.6. Транспорт и связь"]
["2.6.1. Транспорт"]
["Протяженность автомобильных дорог общего пользования с твердым покрытием","км",84.34,84.34,84.34,84.34,84.34,84.34,84.34,84.34,94.34]
["Протяженность автомобильных дорог федерального значения","км",0,0,0,0,0,0,0,0,0]
["Густота автомобильных дорог общего пользования с твердым покрытием","километров дорог на 1 000 квадратных километров территории",0,0,0,0,0,0,0,0,0]
["Удельный вес автомобильных дорог с твердым покрытием в общей протяженности автомобильных дорог общего пользования","%",100,100,100,100,100,100,100,100,100]
["2.6.2. Связь"]
["Объем  услуг связи - всего"]
["               в ценах соотв-х лет","млн. руб.",{"$f":"потребит!C21","v":3.9},{"$f":"потребит!D21","v":13.6965},{"$f":"потребит!F21","v":15},{"$f":"потребит!G21","v":15.0588},{"$f":"потребит!H21","v":15.147749999999998},{"$f":"потребит!I21","v":15.121294019999999},{"$f":"потребит!J21","v":15.210764639999999},{"$f":"потребит!K21","v":15.415705614569397},{"$f":"потребит!L21","v":15.706179244324799}]
["               в соп-х ценах","в % к пред.году",{"$f":"потребит!C22","v":104},{"$f":"потребит!D22","v":322.78704751131221},{"$f":"потребит!F22","v":104.70079340167223},{"$f":"потребит!G22","v":94},{"$f":"потребит!H22","v":95},{"$f":"потребит!I22","v":95},{"$f":"потребит!J22","v":96},{"$f":"потребит!K22","v":97},{"$f":"потребит!L22","v":99}]
[]
["в том числе:"]
["почтовая связь"]
["               в ценах соотв-х лет","млн. руб."]
["               в соп-х ценах","в % к пред.году"]
[]
[" междугородная, внутризоновая и международная телнфонная связь"]
["               в ценах соотв-х лет","млн. руб."]
["               в соп-х ценах","в % к пред.году"]
[]
[" местная телефонная связь"]
["               в ценах соотв-х лет","млн. руб."]
["               в соп-х ценах","в % к пред.году"]
[]
["документальная электросвязь"]
["               в ценах соотв-х лет","млн. руб."]
["               в соп-х ценах","в % к пред.году"]
[]
["подвижная связь"]
["               в ценах соотв-х лет","млн. руб."]
["               в соп-х ценах","в % к пред.году"]
[]
["Плотность телефонных аппаратов фиксированной электросвязи на 100 чел. населения","единиц"]
[]
["Количество абонентов, подключенных к сетям подвижной связи","млн.ед."]
[]
["Количество почтовых ящиков на 10000 чел.","единиц"]
[]
["Деятельность,  связаная с использованием вычислительной техники и информационных технологий"]
[]
[" Наличие персональных компьютеров","штук"]
[null,"в % к пред.году"]
[]
[" в том числе подключенных к сети Интернет","штук"]
[null,"в % к пред.году"]
[]
["Количество компьютеров на 100 чел. населения","единиц"]
[null,"в % к пред.году"]
[]
["Количество пользователей Интернет на 100 чел. населения","единиц"]
[null,"в % к пред.году"]

{"sheet":"продукц","index":6,"n_rows":69,"n_cols":12,"rows_kept":69,"cut":false,"hidden":false,"merged":[[0,5,2,5],[0,6,0,11],[1,6,1,7],[1,8,1,9],[1,10,1,11],[0,0,2,0],[0,1,2,1],[0,2,2,2],[0,4,2,4],[0,3,2,3]]}
["Показатели","Единица измерения","2009 отчет","2010 отчет","2011отчет","2012 оценка","прогноз"]
[null,null,null,null,null,null,2013,null,2014,null,2015]
[null,null,null,null,null,null,"вариант 1","вариант 2","вариант 1","вариант 2","вариант 1","вариант 2"]
["2.7. Производство важнейших видов продукции в натуральном выражении "]
["Валовой сбор зерна (в весе после доработки)","тыс. тонн"]
["Валовой сбор сахарной свеклы (фабричной)","тыс. тонн"]
["Валовой сбор масличных культур – всего","тыс. тонн"]
["       в том числе подсолнечника","тыс. тонн"]
["Валовой сбор картофеля","тыс. тонн"]
["Валовой сбор овощей","тыс. тонн"]
["Производство скота и птицы на убой (в живом весе)","тыс. тонн"]
["Производство молока","тыс. тонн"]
["Производство яиц","млн. штук"]
["Валовой сбор льноволокна","тонн"]
["Производство деловой древесины","тыс. плот. куб. м"]
["Добыча угля","тыс. тонн"]
["Добыча нефти, включая газовый конденсат","тыс. тонн"]
["Добыча газа горючего природного (естественного)","млн. куб. м "]
["Производство мяса, включая субпродукты 1 категории","тыс. тонн"]
["Производство цельномолочной продукции (в пересчете на молоко)","тыс. тонн"]
["Производство сахара-песка","тыс. тонн"]
["Производство масел растительных","тыс. тонн"]
["Производство товарной пищевой рыбной продукции, включая консервы рыбные","тыс. тонн"]
["Производство спирта этилового из пищевого сырья и технического","тыс. дкл"]
["Производство спирта этилового из пищевого сырья","тыс. дкл"]
["Производство водки и ликеро-водочных изделий","тыс. дкл"]
["Производство коньяков","тыс. дкл"]
["Производство вин виноградных","тыс. дкл"]
["Производство вин плодовых","тыс. дкл"]
["Производство вин шампанских и игристых","тыс. дкл"]
["Hапитки винные (виноградные и плодовые) с содержанием спирта более 20% объемных ","тыс. дкл"]
["Hапитки винные (виноградные и плодовые) с содержанием спирта до 20% объемных включительно","тыс. дкл"]
["Напитки слабоалкогольные с содержанием этилового спирта не более 9%","тыс. дкл"]
["Производство пива","тыс. дкл",4306,5597,5492.9,6100,6100,6112,6112,6115,6115,6120]
["Производство хлопчатобумажных готовых тканей","тыс. кв. м"]
["Производство трикотажных изделий","тыс. штук",753,780.4,955.2,958,1000,1100,1100,1200,1200,1300]
["Производство обуви","тыс. пар"]
["Производство пиломатериалов","тыс. куб. м"]
["Производство бумаги","тыс. тонн"]
["Производство автомобильного бензина","тыс. тонн"]
["Производство дизельного топлива","тыс. тонн"]
["Производство смазочных нефтяных масел","тыс. тонн"]
["Производство топочного мазута","тыс. тонн"]
["Производство минеральных удобрений (в пересчете на 100% питательных веществ) ","тыс. тонн"]
["Производство полиэтилена","тонн"]
["Производство шин для грузовых автомобилей, автобусов и троллейбусов","тыс. штук"]
["Производство шин для легковых автомобилей","тыс. штук"]
["Производство цемента","тыс. тонн"]
["Производство строительного кирпича","млн. условных кирпичей",23.6,21.1,10.7,11,12,13,13,14,14,15]
["Производство блоков и камней мелких стеновых (без блоков из ячеистого бетона)","млн. условных кирпичей",9,10.4,5.5,8,8,9,9,10,10,11]
["Производство блоков крупных стеновых (включая бетонные блоки стен подвалов)","млн. условных кирпичей",0.8,1.4,2.1,2.5,2.6,2.7,2.7,2.8,2.8,2.9]
["Производство блоков мелких стеновых из ячеистого бетона","млн. условных кирпичей",null,0.8,0.5,1,1.2,1.4,1.4,1.5,1.5,1.6]
["Производство готового проката черных металлов","тыс. тонн"]
["Производство стальных труб","тыс. тонн"]
["Производство металлорежущих станков","штук"]
["Производство тракторов","штук"]
["Производство телевизоров","тыс. штук"]
["Производство бытовых холодильников и морозильников","тыс. штук"]
["Производство бытовых стиральных машин","тыс. штук"]
["Производство электропылесосов","тыс. штук"]
["Производство ювелирных изделий в фактических ценах (без НДС и акциза)","тыс. руб."]
["Производство грузовых автомобилей","штук"]
["Производство легковых автомобилей","тыс. штук"]
["Производство мотоциклов","штук"]
["Производство электроэнергии","млн. кВт. ч",3309.5,{"$f":"D68+D69","v":3297.6},3414.2,3332,3335,3340,3340,3350,3350,3400]
["в том числе:"]
["Производство электроэнергии, вырабатываемой АЭС","млн. кВт. ч"]
["Производство электроэнергии, вырабатываемой ТЭС","млн. кВт. ч",1003.6,1123,1231.7,1232,1235,1240,1240,1250,1250,1300]
["Производство электроэнергии, вырабатываемой ГЭС","млн. кВт. ч",2305.9,2174.6,2182.5,2100,2100,2100,2100,2100,2100,2100]

{"sheet":"строит","index":7,"n_rows":7,"n_cols":12,"rows_kept":7,"cut":false,"hidden":false,"merged":[[0,5,2,5],[0,6,0,11],[1,6,1,7],[1,8,1,9],[1,10,1,11],[0,0,2,0],[0,1,2,1],[0,2,2,2],[0,3,2,3],[0,4,2,4]]}
["Показатели","Единица измерения","2009 отчет","2010 отчет","2011 отчет","2012 оценка","прогноз"]
[null,null,null,null,null,null,2013,null,2014,null,2015]
[null,null,null,null,null,null,"вариант 1","вариант 2","вариант 1","вариант 2","вариант 1","вариант 2"]
["2.8. Строительство"]
["Объем выполненных работ по виду деятельности \"строительство\" (Раздел F)","млн. руб. ",652.5,491.6,781.6,750,750,790,{"$f":"G5*I6%*I7%","v":798.75},{"$f":"H5*J6%*J7%","v":875.12249999999995},{"$f":"I5*K6%*K7%","v":849.30288749999988},{"$f":"J5*L6%*L7%","v":931.77355503750005}]
[null,"% к пред. году в соп-х ценах",35.5,80.2,140.69999999999999,{"$f":"F5/E5*100/F7*100","v":89.763340747386323},{"$f":"G5/F5*100/G7*100","v":93.45794392523365},{"$f":"H5/G5*100/H7*100","v":99.277411247251024},100,105,100.5,101.5]
["Индекс-дефлятор по объему работ, выполненных по виду деятельности \"строительство\" (Раздел F)","% к пред. году",null,{"$f":"D5/C5*100/D6%","v":93.941391731399463},113,{"$f":"дефляторы!D13","v":106.9},{"$f":"дефляторы!E13","v":107},{"$f":"дефляторы!F13","v":106.1},{"$f":"дефляторы!G13","v":106.5},{"$f":"дефляторы!H13","v":105.5},{"$f":"дефляторы!I13","v":105.8},{"$f":"дефляторы!J13","v":104.9}]

{"sheet":"потребит","index":8,"n_rows":44,"n_cols":12,"rows_kept":44,"cut":false,"hidden":false,"merged":[[0,6,0,11],[1,6,1,7],[1,8,1,9],[1,10,1,11],[0,0,2,0],[0,1,2,1],[0,2,2,2],[0,3,2,3],[0,4,2,4],[0,5,2,5]]}
["Показатели","Единица измерения","2010 отчет","2011 отчет",2009,"2012 оценка","прогноз"]
[null,null,null,null,null,null,2013,null,2014,null,2015]
[null,null,null,null,null,null,"вариант 1","вариант 2","вариант 1","вариант 2","вариант 1","вариант 2"]
["3. Рынок товаров и услуг"]
["Индекс потребительских цен","декабрь к декабрю пред. года, %",109.8,{"$f":"дефляторы!C6","v":106.2},null,{"$f":"дефляторы!D6","v":105.8},{"$f":"дефляторы!E6","v":105.7},{"$f":"дефляторы!F6","v":105},{"$f":"дефляторы!G6","v":105.5},{"$f":"дефляторы!H6","v":104.5},{"$f":"дефляторы!I6","v":105},{"$f":"дефляторы!J6","v":104}]
["Индекс потребительских цен за период с начала года (на конец периода)","к соответствующему периоду пред. года, %",107.1,{"$f":"дефляторы!C7","v":108.8},null,{"$f":"дефляторы!D7","v":104.6},{"$f":"дефляторы!E7","v":106.8},{"$f":"дефляторы!F7","v":106.3},{"$f":"дефляторы!G7","v":105.7},{"$f":"дефляторы!H7","v":104.6},{"$f":"дефляторы!I7","v":105.1},{"$f":"дефляторы!J7","v":104.3}]
["Оборот розничной торговли ","млн. руб.",6485.9,{"$f":"C7*D8%*D9%","v":7677.6452096000003},null,{"$f":"D7*F8%*F9%","v":8617.0665221562376},{"$f":"F7*G8%*G9%","v":9847.2389388592637},{"$f":"F7*H8%*H9%","v":9892.7370500962479},{"$f":"G7*I8%*I9%","v":11189.171425252309},{"$f":"H7*J8%*J9%","v":11196.32279666153},{"$f":"I7*K8%*K9%","v":12700.604701375391},{"$f":"J7*L8%*L9%","v":12647.019145102166}]
[null,"% к пред. году в соп-х ценах",117,108.8,null,107.3,107,108,107.5,108.2,108,108.3]
["Индекс-дефлятор оборота розничной торговли","% к пред. году",107.1,{"$f":"D6","v":108.8},null,{"$f":"F6","v":104.6},106.8,106.3,105.7,104.6,105.1,104.3]
["Оборот общественного питания","млн. руб. ",93.2,{"$f":"C10*D11%*D12%","v":99.373568000000006},null,{"$f":"D10*F11%*F12%","v":102.90530460672001},{"$f":"F10*G11%*G12%","v":108.8038366667772},{"$f":"F10*H11%*H12%","v":109.38833879694336},{"$f":"G10*I11%*I12%","v":115.00565535678349},{"$f":"H10*J11%*J12%","v":115.5644044054188},{"$f":"I10*K11%*K12%","v":122.07965321777924},{"$f":"J10*L11%*L12%","v":124.14968400869736}]
[null,"% к пред. году в соп-х ценах",97,98,null,99,99,100,100,101,101,103]
["Индекс цен на продукцию общественного питания","декабрь к декабрю пред. года, %",{"$f":"C6","v":107.1},{"$f":"D9","v":108.8},null,{"$f":"F9","v":104.6},106.8,106.3,105.7,104.6,105.1,104.3]
["Объем платных услуг населению ","млн. руб. ",1229.7,{"$f":"D17+D19+D21+D23+D25+D27+D29+D31+D33+D35+D37+D39+D41+D43","v":1023.4958},930.49455357799991,1101.0996747222225,1077.1971770163946,1100.392826568137,1073.3512778196257,1104.9739542316386,1094.3733942141969,1145.7013320597321]
[null,"% к пред. году в соп-х ценах",77.8,{"$f":"D13/C13*100/D12%","v":76.499394280766694},null,{"$f":"F13/D13*100/F12%","v":102.85108676281068},{"$f":"G13/F13*100/G12%","v":91.600389330884767},{"$f":"H13/F13*100/H12%","v":94.012987067418464},{"$f":"I13/G13*100/I12%","v":94.269604219740287},{"$f":"J13/H13*100/J12%","v":96.000303516238503},{"$f":"K13/I13*100/K12%","v":97.010989085483757},{"$f":"L13/J13*100/L12%","v":99.411143267451209}]
[null,null,null,null,1170]
["в том числе:"]
["бытовые услуги","млн. руб. в ценах соотв-х лет",116.5,55.994399999999999,{"$f":"D17*E18%*$F$12%","v":55.641635280000003},57,{"$f":"F17*G18%*$G$12%","v":54.78840000000001},{"$f":"F17*H18%*$H$12%","v":54.834854999999997},{"$f":"G17*I18%*$I$12%","v":52.699318308000002},{"$f":"H17*J18%*$J$12%","v":52.768677663600002},{"$f":"I17*K18%*$K$12%","v":52.063764529205514},{"$f":"J17*L18%*$L$12%","v":53.386598879040754}]
[null,"% к пред. году в соп-х ценах",105.9,{"$f":"D17/C17*100/$D$12%","v":44.176344357485483},95,{"$f":"F17/D17*100/$F$12%","v":97.31921020564225},90,90.5,91,92,94,97]
["транспортные услуги","млн. руб. в ценах соотв-х лет",184.2,172.33109999999999,{"$f":"D19*E20%*$F$12%","v":90.129165299999997},200.2,{"$f":"F19*G20%*$G$12%","v":215.95173600000001},{"$f":"F19*H20%*$H$12%","v":217.06885199999996},{"$f":"G19*I20%*$I$12%","v":232.82620465104},{"$f":"H19*J20%*$J$12%","v":233.86563976775997},{"$f":"I19*K20%*$K$12%","v":253.02015268524329},{"$f":"J19*L20%*$L$12%","v":253.67873676888459}]
[null,"% к пред. году в соп-х ценах",105.8,{"$f":"D19/C19*100/$D$12%","v":85.989443619467323},50,100,101,102,102,103,103.4,104]
["услуги связи","млн. руб. в ценах соотв-х лет",3.9,13.6965,{"$f":"D21*E22%*$F$12%","v":13.753477440000001},15,{"$f":"F21*G22%*$G$12%","v":15.0588},{"$f":"F21*H22%*$H$12%","v":15.147749999999998},{"$f":"G21*I22%*$I$12%","v":15.121294019999999},{"$f":"H21*J22%*$J$12%","v":15.210764639999999},{"$f":"I21*K22%*$K$12%","v":15.415705614569397},{"$f":"J21*L22%*$L$12%","v":15.706179244324799}]
[null,"% к пред. году в соп-х ценах",104,{"$f":"D21/C21*100/$D$12%","v":322.78704751131221},96,{"$f":"F21/D21*100/$F$12%","v":104.70079340167223},94,95,95,96,97,99]
["жилищные услуги","млн. руб. в ценах соотв-х лет",211.6,82.749700000000004,{"$f":"D23*E24%*$F$12%","v":85.690624338000021},90,{"$f":"F23*G24%*$G$12%","v":93.236400000000003},{"$f":"F23*H24%*$H$12%","v":93.660930000000008},{"$f":"G23*I24%*$I$12%","v":96.579857304000001},{"$f":"H23*J24%*$J$12%","v":96.989639452200009},{"$f":"I23*K24%*$K$12%","v":100.99790287637148},{"$f":"J23*L24%*$L$12%","v":101.1601939486446}]
[null,"% к пред. году в соп-х ценах",105.9,{"$f":"D23/C23*100/$D$12%","v":35.94362455520961},99,{"$f":"F23/D23*100/$F$12%","v":103.97870325760724},97,97.9,98,99,99.5,100]
["коммунальные услуги","млн. руб. в ценах соотв-х лет",396.7,407.62979999999999,{"$f":"D25*E26%*$F$12%","v":422.11696309199999},408,{"$f":"F25*G26%*$G$12%","v":413.95679999999999},{"$f":"F25*H26%*$H$12%","v":425.89732799999996},{"$f":"G25*I26%*$I$12%","v":428.80129084799995},{"$f":"H25*J26%*$J$12%","v":441.03371903711997},{"$f":"I25*K26%*$K$12%","v":443.91010433102923},{"$f":"J25*L26%*$L$12%","v":459.9981689557161}]
[null,"% к пред. году в соп-х ценах",105.9,{"$f":"D25/C25*100/$D$12%","v":94.444099482495275},99,{"$f":"F25/D25*100/$F$12%","v":95.689118257956864},95,98.2,98,99,98.5,100]
["услуги учреждений культуры","млн. руб. в ценах соотв-х лет",26.2,12.4254,{"$f":"D27*E28%*$F$12%","v":11.307362508000001},{"$f":"E27/$E$13*$E$15","v":14.217830812108039},{"$f":"F27*G28%*$G$12%","v":11.388482480498539},{"$f":"F27*H28%*$H$12%","v":12.090843322616676},{"$f":"G27*I28%*$I$12%","v":9.6301007855095637},{"$f":"H27*J28%*$J$12%","v":10.749968798138486},{"$f":"I27*K28%*$K$12%","v":9.1091123330134955},{"$f":"J27*L28%*$L$12%","v":10.875850932764687}]
[null,"% к пред. году в соп-х ценах",105.9,{"$f":"D27/C27*100/$D$12%","v":43.589329815895823},87,{"$f":"F27/D27*100/$F$12%","v":109.39343987408662},75,80,80,85,90,97]
["туристские услуги","млн. руб. в ценах соотв-х лет",0,0,{"$f":"D29*E30%*$F$12%","v":0},{"$f":"E29/$E$13*$E$15","v":0},{"$f":"F29*G30%*$G$12%","v":0},{"$f":"F29*H30%*$H$12%","v":0},{"$f":"G29*I30%*$I$12%","v":0},{"$f":"H29*J30%*$J$12%","v":0},{"$f":"I29*K30%*$K$12%","v":0},{"$f":"J29*L30%*$L$12%","v":0}]
[null,"% к пред. году в соп-х ценах",null,null,85]
["услуги физической культуры и спорта","млн. руб. в ценах соотв-х лет",11,14.3085,{"$f":"D31*E32%*$F$12%","v":13.021021170000001},{"$f":"E31/$E$13*$E$15","v":16.372578120225334},{"$f":"F31*G32%*$G$12%","v":12.589857671328472},{"$f":"F31*H32%*$H$12%","v":13.053037906349648},{"$f":"G31*I32%*$I$12%","v":9.9806096689456449},{"$f":"H31*J32%*$J$12%","v":10.64971256703255},{"$f":"I31*K32%*$K$12%","v":8.1819041944082613},{"$f":"J31*L32%*$L$12%","v":8.8861201659319597}]
[null,"% к пред. году в соп-х ценах",105.9,{"$f":"D31/C31*100/$D$12%","v":119.55631684491979},87,{"$f":"F31/D31*100/$F$12%","v":109.39343987408662},72,75,75,78,78,80]
["медицинские услуги","млн. руб. в ценах соотв-х лет",94.1,99.540800000000004,{"$f":"D33*E34%*$F$12%","v":93.707709120000004},{"$f":"E33/$E$13*$E$15","v":117.82768555582895},{"$f":"F33*G34%*$G$12%","v":105.70557326584527},{"$f":"F33*H34%*$H$12%","v":108.96822187888617},{"$f":"G33*I34%*$I$12%","v":94.971172300698683},{"$f":"H33*J34%*$J$12%","v":101.44287647593029},{"$f":"I33*K34%*$K$12%","v":89.83323187923088},{"$f":"J33*L34%*$L$12%","v":102.63077255946344}]
[null,"% к пред. году в соп-х ценах",105.9,{"$f":"D33/C33*100/$D$12%","v":97.226042382946815},90,{"$f":"F33/D33*100/$F$12%","v":113.16562745595168},84,87,85,89,90,97]
["санаторно-оздоровительные услуги","млн. руб. в ценах соотв-х лет",39.799999999999997,32.853099999999998,{"$f":"D35*E36%*$F$12%","v":27.835117506000003},{"$f":"E35/$E$13*$E$15","v":34.999761531962612},{"$f":"F35*G36%*$G$12%","v":25.79202426813389},{"$f":"F35*H36%*$H$12%","v":26.415370021018141},{"$f":"G35*I36%*$I$12%","v":19.083518755992262},{"$f":"H35*J36%*$J$12%","v":20.170248240649034},{"$f":"I35*K36%*$K$12%","v":15.443719223661857},{"$f":"J35*L36%*$L$12%","v":17.25080651029749}]
[null,"% к пред. году в соп-х ценах",105.9,{"$f":"D35/C35*100/$D$12%","v":75.869004951226714},81,{"$f":"F35/D35*100/$F$12%","v":101.84906471035653},69,71,70,73,77,82]
["ветеринарные услуги","млн. руб. в ценах соотв-х лет",0.7,0.7,{"$f":"D37*E38%*$F$12%","v":0.51254},{"$f":"E37/$E$13*$E$15","v":0.64446567440303848},{"$f":"F37*G38%*$G$12%","v":0.41297360415746709},{"$f":"F37*H38%*$H$12%","v":0.44529355772877943},{"$f":"G37*I38%*$I$12%","v":0.28373351473638775},{"$f":"H37*J38%*$J$12%","v":0.32604394296901229},{"$f":"I37*K38%*$K$12%","v":0.22365294299095761},{"$f":"J37*L38%*$L$12%","v":0.27205106601334383}]
[null,"% к пред. году в соп-х ценах",108.9,{"$f":"D37/C37*100/$D$12%","v":91.911764705882348},70,{"$f":"F37/D37*100/$F$12%","v":88.017710243517968},60,65,65,70,75,80]
["услуги правового характера","млн. руб. в ценах соотв-х лет",5.4,3.802,{"$f":"D39*E40%*$F$12%","v":2.5849798000000006},{"$f":"E39/$E$13*$E$15","v":3.2503429003106725},{"$f":"F39*G40%*$G$12%","v":2.1175333926943969},{"$f":"F39*H40%*$H$12%","v":2.3494778620605663},{"$f":"G39*I40%*$I$12%","v":1.4100866615291259},{"$f":"H39*J40%*$J$12%","v":1.7202876906007467},{"$f":"I39*K40%*$K$12%","v":0.96330070282362235},{"$f":"J39*L40%*$L$12%","v":1.3456950459724339}]
[null,"% к пред. году в соп-х ценах",105,{"$f":"D39/C39*100/$D$12%","v":64.712690631808272},65,{"$f":"F39/D39*100/$F$12%","v":81.730730940409558},61,68,63,70,65,75]
["услуги в системе образования","млн. руб. в ценах соотв-х лет",77.599999999999994,114.2178,{"$f":"D41*E42%*$F$12%","v":103.940482356},{"$f":"E41/$E$13*$E$15","v":130.69433226545573},{"$f":"F41*G42%*$G$12%","v":117.24849936198564},{"$f":"F41*H42%*$H$12%","v":120.8674254224161},{"$f":"G41*I42%*$I$12%","v":105.34191425177599},{"$f":"H41*J42%*$J$12%","v":112.52032102274406},{"$f":"I41*K42%*$K$12%","v":99.642916690754902},{"$f":"J41*L42%*$L$12%","v":113.83793398192039}]
[null,"% к пред. году в соп-х ценах",105.9,{"$f":"D41/C41*100/$D$12%","v":135.28298400545785},87,{"$f":"F41/D41*100/$F$12%","v":109.39343987408662},84,87,85,89,90,97]
["прочие виды платных услуг населению","млн. руб. в ценах соотв-х лет",62,13.246700000000001,{"$f":"D43*E44%*$F$12%","v":10.253475668},{"$f":"E43/$E$13*$E$15","v":12.89267786192837},{"$f":"F43*G44%*$G$12%","v":8.9500969717506766},{"$f":"F43*H44%*$H$12%","v":9.5934415970608988},{"$f":"G43*I44%*$I$12%","v":6.6221767493983243},{"$f":"H43*J44%*$J$12%","v":7.5260549328942759},{"$f":"I43*K44%*$K$12%","v":5.5679262108941119},{"$f":"J43*L44%*$L$12%","v":6.6722240007574189}]
[null,"% к пред. году в соп-х ценах",105.9,{"$f":"D43/C43*100/$D$12%","v":19.637541508538899},74,{"$f":"F43/D43*100/$F$12%","v":93.047293686004707},65,70,70,75,80,85]

{"sheet":"предприн","index":9,"n_rows":71,"n_cols":12,"rows_kept":71,"cut":false,"hidden":false,"merged":[[0,5,2,5],[0,6,0,11],[1,6,1,7],[1,8,1,9],[1,10,1,11],[0,0,2,0],[0,1,2,1],[0,2,2,2],[0,3,2,3],[0,4,2,4]]}
["Показатели","Единица измерения","2009 отчет","2010 отчет","2011 отчет","2012 оценка","прогноз"]
[null,null,null,null,null,null,2013,null,2014,null,2015]
[null,null,null,null,null,null,"вариант 1","вариант 2","вариант 1","вариант 2","вариант 1","вариант 2"]
["5. Малое предпринимательство *"]
["Количество малых предприятий - на конец года"," единиц",0.6,608,617,630,{"$f":"SUM(G7:G11)/SUM(F7:F11)*F5","v":630},{"$f":"SUM(H7:H11)/SUM(F7:F11)*F5","v":642.80961182994452},{"$f":"SUM(I7:I11)/SUM(G7:G11)*G5","v":642.80961182994452},{"$f":"SUM(J7:J11)/SUM(H7:H11)*H5","v":652.12569316081328},{"$f":"SUM(K7:K11)/SUM(I7:I11)*I5","v":652.12569316081328},{"$f":"SUM(L7:L11)/SUM(J7:J11)*J5","v":662.60628465804064}]
["в том числе по видам экономической деятельности:"]
["РАЗДЕЛ C: Добыча полезных ископаемых","единиц",0,0,0,0,0,0,0,0,0,0]
["РАЗДЕЛ D: Обрабатывающие производства","единиц",130,130,130,132,132,135,135,137,137,140]
["РАЗДЕЛ E: Производство и распределение электроэнергии, газа и воды","единиц",0,0,null,0,0,0,0,0,0,0]
["РАЗДЕЛ F: Строительство","единиц",102,101,101,101,101,102,102,103,103,104]
["РАЗДЕЛ G: Оптовая и розничная торговля; ремонт автотранспортных средств, мотоциклов, бытовых изделий и предметов личного пользования","единиц",300,305,305,308,308,315,315,320,320,325]
["Среднесписочная численность работников (без внешних совместителей) по малым предприятиям","тыс. чел.",4.2,4.2,4.968,5.04,{"$f":"SUM(G14:G18)/SUM(F14:F18)*F12","v":5.0442627572596557},{"$f":"SUM(H14:H18)/SUM(F14:F18)*F12","v":5.1153087115872573},{"$f":"SUM(I14:I18)/SUM(G14:G18)*G12","v":5.1153087115872573},{"$f":"SUM(J14:J18)/SUM(H14:H18)*H12","v":5.1863546659148581},{"$f":"SUM(K14:K18)/SUM(I14:I18)*I12","v":5.1863546659148581},{"$f":"SUM(L14:L18)/SUM(J14:J18)*J12","v":5.2810826050183257}]
["в том числе по видам экономической деятельности:"]
["РАЗДЕЛ C: Добыча полезных ископаемых","тыс. чел.",0,0,null,0,0,0,0,0,0,0]
["РАЗДЕЛ D: Обрабатывающие производства","тыс. чел.",0.69,0.7,{"$f":"E12*16%","v":0.79488000000000003},{"$f":"F12*16%","v":0.80640000000000001},0.81,0.82,0.82,0.83,0.83,0.85]
["РАЗДЕЛ E: Производство и распределение электроэнергии, газа и воды","тыс. чел.",0,0,null,0,0,0,0,0,0,0]
["РАЗДЕЛ F: Строительство","тыс. чел.",0.75,0.79,{"$f":"E12*17%","v":0.84456000000000009},0.85,0.85,0.86,0.86,0.87,0.87,0.89]
["РАЗДЕЛ G: Оптовая и розничная торговля; ремонт автотранспортных средств, мотоциклов, бытовых изделий и предметов личного пользования","тыс. чел.",2.25,2.2999999999999998,{"$f":"E12*52%","v":2.5833599999999999},2.6,2.6,2.64,2.64,2.68,2.68,2.72]
["Оборот малых предприятий","млн. руб. ",{"$f":"C26+C32+C35","v":4705.5027369999998},5205.45,{"$f":"E26+E32+E35","v":5932.7308231999996},{"$f":"F26+F32+F35","v":6607.2676859105441},6718.965067197596,{"$f":"H26+H32+H35","v":6763.2006761192051},6856.8549121857914,6916.5367893456078,7072.7600646309984,7170.7506546207906]
["Индекс производства","% к пред. году",109,112.65,{"$f":"E19/D19*100/E21%","v":103.79920441027191},{"$f":"F19/D19*100/F21%","v":117.52759991772413},{"$f":"G19/F19*100/G21%","v":94.157891686078045},{"$f":"H19/F19*100/H21%","v":95.663572234510596},{"$f":"I19/G19*100/I21%","v":95.375932971445621},{"$f":"J19/H19*100/J21%","v":96.478502108767103},{"$f":"K19/I19*100/K21%","v":97.310140593091035},{"$f":"L19/J19*100/L21%","v":98.738524000249328}]
["Индекс-дефлятор","% к пред. году",109.6,0,{"$f":"дефляторы!C9","v":109.8},{"$f":"дефляторы!D9","v":108},{"$f":"дефляторы!E9","v":108},{"$f":"дефляторы!F9","v":107},{"$f":"дефляторы!G9","v":107},{"$f":"дефляторы!H9","v":106},{"$f":"дефляторы!I9","v":106},{"$f":"дефляторы!J9","v":105}]
["в том числе по видам экономической деятельности:"]
["Оборот малых предприятий - РАЗДЕЛ C: Добыча полезных ископаемых","млн. руб. ",0,0,null,0,0,0,0,0,0,0]
["Индекс производства - РАЗДЕЛ C: Добыча полезных ископаемых","% к пред. году",0,0,null,0,0,0,0,0,0,0]
["Индекс-дефлятор","% к пред. году",109.2,0,{"$f":"дефляторы!C11","v":109.8},{"$f":"дефляторы!D11","v":108},{"$f":"дефляторы!E11","v":108},{"$f":"дефляторы!F11","v":107},{"$f":"дефляторы!G11","v":107},{"$f":"дефляторы!H11","v":106},{"$f":"дефляторы!I11","v":106},{"$f":"дефляторы!J11","v":105}]
["Оборот малых предприятий - РАЗДЕЛ D: Обрабатывающие производства","млн. руб. ",855.53884000000005,831.74,{"$f":"D26*E27%*E28%","v":812.79296279999994},{"$f":"E26*F27%*F28%","v":930.48538381343997},{"$f":"F26*G27%*G28%","v":894.38255092147858},{"$f":"F26*H27%*H28%","v":915.96981182595039},{"$f":"G26*I27%*I28%","v":861.29039653738391},{"$f":"H26*J27%*J28%","v":922.38160050873205},{"$f":"I26*K27%*K28%","v":867.31942931314552},{"$f":"J26*L27%*L28%","v":939.44566011814368}]
["Индекс производства - РАЗДЕЛ D: Обрабатывающие производства","% к пред. году",104,99,89,106,89,92,90,95,95,97]
["Индекс-дефлятор","% к пред. году",123.5,0,109.8,{"$f":"дефляторы!D9","v":108},{"$f":"дефляторы!E9","v":108},{"$f":"дефляторы!F9","v":107},{"$f":"дефляторы!G9","v":107},{"$f":"дефляторы!H9","v":106},{"$f":"дефляторы!I9","v":106},{"$f":"дефляторы!J9","v":105}]
["Оборот малых предприятий - РАЗДЕЛ E: Производство и распределение электроэнергии, газа и воды","млн. руб. ",0,0,0,0,0,0,0,0,0,0]
["Индекс производства - РАЗДЕЛ E: Производство и распределение электроэнергии, газа и воды","% к пред. году",0,0,0,0,0,0,0,0,0,0]
["Индекс-дефлятор","% к пред. году",121,0,{"$f":"дефляторы!C10","v":113.2},{"$f":"дефляторы!D10","v":106},{"$f":"дефляторы!E10","v":112},{"$f":"дефляторы!F10","v":111},{"$f":"дефляторы!G10","v":111},{"$f":"дефляторы!H10","v":110},{"$f":"дефляторы!I10","v":110},{"$f":"дефляторы!J10","v":109}]
["Оборот малых предприятий - РАЗДЕЛ F: Строительство","млн. руб. ",826.04920200000004,973.17,{"$f":"D32*E33%*E34%","v":1058.8089600000001},{"$f":"E32*F33%*F34%","v":1173.9650224896002},{"$f":"F32*G33%*G34%","v":1015.5736616553035},{"$f":"F32*H33%*H34%","v":1060.7360960704782},{"$f":"G32*I33%*I34%","v":912.4421563142073},{"$f":"H32*J33%*J34%","v":987.48166127585102},{"$f":"I32*K33%*K34%","v":863.07903565760864},{"$f":"J32*L33%*L34%","v":1009.3445052564982}]
["Индекс производства - РАЗДЕЛ F: Строительство","% к пред. году",106,110,100,106,81,85,85,89,90,98]
["Индекс-дефлятор","% к пред. году",117.7,0,{"$f":"дефляторы!C7","v":108.8},{"$f":"дефляторы!D7","v":104.6},{"$f":"дефляторы!E7","v":106.8},{"$f":"дефляторы!F7","v":106.3},{"$f":"дефляторы!G7","v":105.7},{"$f":"дефляторы!H7","v":104.6},{"$f":"дефляторы!I7","v":105.1},{"$f":"дефляторы!J7","v":104.3}]
["Оборот малых предприятий - РАЗДЕЛ G: Оптовая и розничная торговля; ремонт автотранспортных средств, мотоциклов, бытовых изделий и предметов личного пользования","млн. руб. ",3023.9146949999999,3400.54,{"$f":"D35*E36%*E37%","v":4061.1289004},{"$f":"E35*F36%*F37%","v":4502.8172796075041},{"$f":"F35*G36%*G37%","v":4809.0088546208144},{"$f":"F35*H36%*H37%","v":4786.4947682227767},{"$f":"G35*I36%*I37%","v":5083.1223593342002},{"$f":"H35*J36%*J37%","v":5006.6735275610245},{"$f":"I35*K36%*K37%","v":5342.3615996602439},{"$f":"J35*L36%*L37%","v":5221.9604892461484}]
["Индекс производства - РАЗДЕЛ G: Оптовая и розничная торговля; ремонт автотранспортных средств, мотоциклов, бытовых изделий и предметов личного пользования","% к пред. году",107,105,105.5,106,100,100,100,100,100,100]
["Индекс-дефлятор","% к пред. году",108.3,{"$f":"дефляторы!C7","v":108.8},{"$f":"дефляторы!C10","v":113.2},{"$f":"дефляторы!D7","v":104.6},{"$f":"дефляторы!E7","v":106.8},{"$f":"дефляторы!F7","v":106.3},{"$f":"дефляторы!G7","v":105.7},{"$f":"дефляторы!H7","v":104.6},{"$f":"дефляторы!I7","v":105.1},{"$f":"дефляторы!J7","v":104.3}]
["5. Среднее предпринимательство *",null,null,0]
["Количество средних предприятий - на конец года"," единиц",0.6,0,4,4,{"$f":"SUM(G41:G45)/SUM(F41:F45)*F39","v":4},{"$f":"SUM(H41:H45)/SUM(F41:F45)*F39","v":4},{"$f":"SUM(I41:I45)/SUM(G41:G45)*G39","v":4},{"$f":"SUM(J41:J45)/SUM(H41:H45)*H39","v":4},{"$f":"SUM(K41:K45)/SUM(I41:I45)*I39","v":4},{"$f":"SUM(L41:L45)/SUM(J41:J45)*J39","v":4}]
["в том числе по видам экономической деятельности:"]
["РАЗДЕЛ C: Добыча полезных ископаемых","единиц",0,0,null,0,0,0,0,0,0,0]
["РАЗДЕЛ D: Обрабатывающие производства","единиц",130,0,4,4,4,4,4,4,4,4]
["РАЗДЕЛ E: Производство и распределение электроэнергии, газа и воды","единиц",0,0,null,0,0,0,0,0,0,0]
["РАЗДЕЛ F: Строительство","единиц",102,0,0,0,0,0,0,0,0,0]
["РАЗДЕЛ G: Оптовая и розничная торговля; ремонт автотранспортных средств, мотоциклов, бытовых изделий и предметов личного пользования","единиц",300,0,0,0,0,0,0,0,0,0]
["Среднесписочная численность работников (без внешних совместителей) по средним предприятиям","тыс. чел.",4.2,0,0.93500000000000005,0.93500000000000005,0.93500000000000005,0.93500000000000005,0.93500000000000005,0.93500000000000005,0.93500000000000005,0.93500000000000005]
["в том числе по видам экономической деятельности:"]
["РАЗДЕЛ C: Добыча полезных ископаемых","тыс. чел.",0,0,0,0,0,0,0,0,0,0]
["РАЗДЕЛ D: Обрабатывающие производства","тыс. чел.",0.69,0,0.93500000000000005,0.93500000000000005,0.93500000000000005,0.93500000000000005,0.93500000000000005,0.93500000000000005,0.93500000000000005,0.93500000000000005]
["РАЗДЕЛ E: Производство и распределение электроэнергии, газа и воды","тыс. чел.",0,0,0,0,0,0,0,0,0,0]
["РАЗДЕЛ F: Строительство","тыс. чел.",0.75,0,0,0,0.45,0.46,0.45,0.47,0.47,0]
["РАЗДЕЛ G: Оптовая и розничная торговля; ремонт автотранспортных средств, мотоциклов, бытовых изделий и предметов личного пользования","тыс. чел.",2.25,0,0,0,0,0,0,0,0,0]
["Оборот средних предприятий","млн. руб. ",{"$f":"C60+C66+C69","v":4705.5027369999998},0,1219.9939999999999,{"$f":"F60+F66+F69","v":1330.7694552},1451.6033217321601,{"$f":"H60+H66+H69","v":1576.5137875672124},{"$f":"I60+I66+I69","v":1712.1727989873709},1851.2012302651456,2001.5187701626755,2154.1345763875797]
["Индекс производства","% к пред. году",109,0,{"$f":"дефляторы!C11","v":109.8},{"$f":"дефляторы!D11","v":108},{"$f":"дефляторы!E11","v":108},{"$f":"дефляторы!F11","v":107},{"$f":"дефляторы!G11","v":107},{"$f":"дефляторы!H11","v":106},{"$f":"дефляторы!I11","v":106},{"$f":"дефляторы!J11","v":105}]
["Индекс-дефлятор","% к пред. году",109.6,0,{"$f":"дефляторы!C43","v":0},{"$f":"дефляторы!D43","v":0},{"$f":"дефляторы!E43","v":0},{"$f":"дефляторы!F43","v":0},{"$f":"дефляторы!G43","v":0},{"$f":"дефляторы!H43","v":0},{"$f":"дефляторы!I43","v":0},{"$f":"дефляторы!J43","v":0}]
["в том числе по видам экономической деятельности:"]
["Оборот малых предприятий - РАЗДЕЛ C: Добыча полезных ископаемых","млн. руб. ",0,0,0,0,0,0,0,0,0,0]
["Индекс производства - РАЗДЕЛ C: Добыча полезных ископаемых","% к пред. году",0,0,0,0,0,0,0,0,0,0]
["Индекс-дефлятор","% к пред. году",109.2,{"$f":"дефляторы!C45","v":0},0,{"$f":"дефляторы!D45","v":0},{"$f":"дефляторы!E45","v":0},{"$f":"дефляторы!F45","v":0},{"$f":"дефляторы!G45","v":0},{"$f":"дефляторы!H45","v":0},{"$f":"дефляторы!I45","v":0},{"$f":"дефляторы!J45","v":0}]
["Оборот малых предприятий - РАЗДЕЛ D: Обрабатывающие производства","млн. руб. ",855.53884000000005,0,1219.9939999999999,{"$f":"E60*F61%*F62%","v":1330.7694552},{"$f":"F60*G61%*G62%","v":1451.6033217321601},1576.5137875672124,1712.1727989873709,1851.2012302651456,2001.5187701626755,2154.1345763875797]
["Индекс производства - РАЗДЕЛ D: Обрабатывающие производства","% к пред. году",104,0,68,101,101,101.5,101.5,102,102,102.5]
["Индекс-дефлятор","% к пред. году",123.5,{"$f":"дефляторы!C43","v":0},{"$f":"дефляторы!C11","v":109.8},{"$f":"дефляторы!D11","v":108},{"$f":"дефляторы!E11","v":108},{"$f":"дефляторы!F11","v":107},{"$f":"дефляторы!G11","v":107},{"$f":"дефляторы!H11","v":106},{"$f":"дефляторы!I11","v":106},{"$f":"дефляторы!J11","v":105}]
["Оборот малых предприятий - РАЗДЕЛ E: Производство и распределение электроэнергии, газа и воды","млн. руб. ",0,0,0,0,0,0,0,0,0,0]
["Индекс производства - РАЗДЕЛ E: Производство и распределение электроэнергии, газа и воды","% к пред. году",0,0,0,0,0,0,0,0,0,0]
["Индекс-дефлятор","% к пред. году",121,{"$f":"дефляторы!C44","v":0},0,{"$f":"дефляторы!D44","v":0},{"$f":"дефляторы!E44","v":0},{"$f":"дефляторы!F44","v":0},{"$f":"дефляторы!G44","v":0},{"$f":"дефляторы!H44","v":0},{"$f":"дефляторы!I44","v":0},{"$f":"дефляторы!J44","v":0}]
["Оборот малых предприятий - РАЗДЕЛ F: Строительство","млн. руб. ",826.04920200000004,{"$f":"C66*D67%*D68%","v":0},0,{"$f":"D66*F67%*F68%","v":0},{"$f":"F66*G67%*G68%","v":0},{"$f":"F66*H67%*H68%","v":0},{"$f":"G66*I67%*I68%","v":0},{"$f":"H66*J67%*J68%","v":0},{"$f":"I66*K67%*K68%","v":0},{"$f":"J66*L67%*L68%","v":0}]
["Индекс производства - РАЗДЕЛ F: Строительство","% к пред. году",106,0,0,0,0,0,0,0,0,0]
["Индекс-дефлятор","% к пред. году",117.7,{"$f":"дефляторы!C41","v":0},0,{"$f":"дефляторы!D41","v":0},{"$f":"дефляторы!E41","v":0},{"$f":"дефляторы!F41","v":0},{"$f":"дефляторы!G41","v":0},{"$f":"дефляторы!H41","v":0},{"$f":"дефляторы!I41","v":0},{"$f":"дефляторы!J41","v":0}]
["Оборот малых предприятий - РАЗДЕЛ G: Оптовая и розничная торговля; ремонт автотранспортных средств, мотоциклов, бытовых изделий и предметов личного пользования","млн. руб. ",3023.9146949999999,{"$f":"C69*D70%*D71%","v":0},0,{"$f":"D69*F70%*F71%","v":0},{"$f":"F69*G70%*G71%","v":0},{"$f":"F69*H70%*H71%","v":0},{"$f":"G69*I70%*I71%","v":0},{"$f":"H69*J70%*J71%","v":0},{"$f":"I69*K70%*K71%","v":0},{"$f":"J69*L70%*L71%","v":0}]
["Индекс производства - РАЗДЕЛ G: Оптовая и розничная торговля; ремонт автотранспортных средств, мотоциклов, бытовых изделий и предметов личного пользования","% к пред. году",107,0,0,0,0,0,0,0,0,0]
["Индекс-дефлятор","% к пред. году",108.3,{"$f":"дефляторы!C41","v":0},0,{"$f":"дефляторы!D41","v":0},{"$f":"дефляторы!E41","v":0},{"$f":"дефляторы!F41","v":0},{"$f":"дефляторы!G41","v":0},{"$f":"дефляторы!H41","v":0},{"$f":"дефляторы!I41","v":0},{"$f":"дефляторы!J41","v":0}]

{"sheet":"инвест","index":10,"n_rows":110,"n_cols":14,"rows_kept":110,"cut":false,"hidden":false,"merged":[[0,6,2,6],[0,7,2,7],[0,8,0,13],[1,8,1,9],[1,10,1,11],[1,12,1,13],[0,5,2,5],[0,0,2,0],[0,1,2,1],[0,2,2,2],[0,4,2,4],[0,3,2,3]]}
["Показатели","Единица измерения","2009 отчет",2010,"2010 отчет",2011,"2011 отчет","2012 оценка","прогноз"]
[null,null,null,null,null,null,null,null,2013,null,2014,null,2015]
[null,null,null,null,null,null,null,null,"вариант 1","вариант 2","вариант 1","вариант 2","вариант 1","вариант 2"]
["6. Инвестиции"]
["Объем инвестиций (в основной капитал) за счет всех источников финансирования","млн. руб. ",1044.9000000000001,null,{"$f":"E8*1.08","v":1257.498},null,{"$f":"G8*1.09","v":13655.302},{"$f":"H8*1.1","v":14259.560559172858},{"$f":"I8*1.08","v":3126.8940358364271},3289.1142902353336,3441.1549709194301,3703.2529203459453,3714.1289840535837,4085.4919518006081]
["Индекс физического объема","% к пред. году в соп-х ценах",42.8,null,{"$f":"E5/C5/E7%*100","v":119.7475156517156},{"$f":"F5/D5/F7%*100","v":{"$error":"#DIV/0!"}},{"$f":"G5/E5*100/G7%","v":960.98268570584969},{"$f":"H5/G5*100/H7%","v":97.684830513120687},{"$f":"I5/H5*100/I7%","v":20.493835434035255},{"$f":"J5/H5*100/J7%","v":21.739894829042591},{"$f":"K5/I5*100/K7%","v":103.33357610019081},{"$f":"L5/J5*100/L7%","v":106.72150712370006},{"$f":"M5/K5*100/M7%","v":102.01571618210184},{"$f":"N5/L5*100/N7%","v":105.16845578662081}]
["Индекс-дефлятор","% к пред. году",96.1,null,{"$f":"E10","v":100.5},{"$f":"F10","v":241.07871344526993},113,106.9,107,106.1,106.5,105.5,105.8,104.9]
["Объем инвестиций в основной капитал за счет всех источников финансирования (без субъектов малого предпринимательства и параметров неформальной деятельности) - всего","млн. руб. ",{"$f":"C16+C22+C52+C54+C56+C58+C60+C62+C64+C66+C68+C70+C72+C74","v":967.42000000000007},{"$f":"D16+D22+D52+D54+D56+D58+D60+D62+D64+D66+D68+D70+D72+D74","v":1421.7536009999999},{"$f":"E16+E22+E52+E54+E56+E58+E60+E62+E64+E66+E68+E70+E72+E74","v":1164.3499999999999},{"$f":"F16+F22+F52+F54+F56+F58+F60+F62+F64+F66+F68+F70+F72+F74","v":2884.035997800001},12527.8,{"$f":"H16+H22+H52+H54+H56+H58+H60+H62+H64+H66+H68+H70+H72+H74","v":12963.236871975325},2895.2722554040988,3045.4761946623457,3186.2546027031758,3428.9378892092086,3439.0083185681328,3782.8629183338962]
["Индекс физического объема","% к пред. году в соп-х ценах",42.8,1164.3499999999999,119.7,2807,{"$f":"G8/E8*100/G10%","v":952.16633079111705},{"$f":"H8/G8*100/H10%","v":96.796786599365049},{"$f":"I8/H8*100/I10%","v":20.873350905035906},{"$f":"J8/H8*100/J10%","v":22.142485474024859},{"$f":"K8/I8*100/K10%","v":103.33357610019081},{"$f":"L8/J8*100/L10%","v":106.72150712370006},{"$f":"M8/K8*100/M10%","v":102.01571618210184},{"$f":"N8/L8*100/N10%","v":105.16845578662081}]
["Индекс-дефлятор","% к пред. году",96.1,null,100.5,{"$f":"F9/E8*100","v":241.07871344526993},113,106.9,107,106.1,106.5,105.5,105.8,104.9]
["в том числе по видам экономической деятельности (без субъектов малого предпринимательства и параметров неформальной деятельности):"]
["РАЗДЕЛ A: Сельское хозяйство, охота и лесное хозяйство","млн. руб. "]
["Индекс физического объема","% к пред. году в соп-х ценах"]
["РАЗДЕЛ B: Рыболовство, рыбоводство","млн. руб. "]
["Индекс физического объема","% к пред. году в соп-х ценах"]
["РАЗДЕЛ C: Добыча полезных ископаемых","млн. руб. "]
["Индекс физического объема","% к пред. году в соп-х ценах"]
["Подраздел CA: Добыча топливно-энергетических полезных ископаемых","млн. руб. "]
["Индекс физического объема","% к пред. году в соп-х ценах"]
["Подраздел CB: Добыча полезных ископаемых, кроме топливно-энергетических","млн. руб. "]
["Индекс физического объема","% к пред. году в соп-х ценах"]
["РАЗДЕЛ D: Обрабатывающие производства","млн. руб. ",415.62,{"$f":"D24+D26+D28+D30+D32+D34+D36+D38+D40+D42+D44+D46+D48+D50","v":464.42155499999996},380.33962930279222,1752.43392675,9942.305027504719,11185.978790768428,1049.0585061222178,1149.8396680244959,1156.5418172094203,1292.9439709807527,1293.183662117759,1474.9717628756111]
["Индекс физического объема","% к пред. году в соп-х ценах"]
["Подраздел DA: Производство пищевых продуктов, включая напитки, и табака","млн. руб. ",43.9,{"$f":"C24*D25%*$E$10%","v":46.325474999999997},{"$f":"D24/$D$8*$D$9","v":37.938407033617914},{"$f":"D24*F25%","v":23.162737499999999},{"$f":"E24/$F$8*$F$9","v":36.92502750471926},{"$f":"F24/$F$8*$F$9","v":22.544033504469724},{"$f":"H24*I25%*$I$10%","v":24.122115849782606},{"$f":"H24*J25%*$J$10%","v":24.158411743724802},{"$f":"I24*K25%*$J$10%","v":25.849500565785537},{"$f":"J24*L25%*$J$10%","v":26.144716357293856},{"$f":"K24*M25%*$J$10%","v":27.974846502304423},{"$f":"L24*N25%*$J$10%","v":28.571730376741442}]
["Индекс физического объема","% к пред. году в соп-х ценах",34.5,105,{"$f":"E24/C24*100/$E$10%","v":85.990111024870899},50,{"$f":"G24/E24*100/$G$10%","v":86.131754192911444},{"$f":"H24/G24*100/$H$10%","v":57.112752157635363},100,101,101,102,102,103]
["Подраздел DB: Текстильное и швейное производство","млн. руб. ",0.1,{"$f":"C26*D27%*$E$10%","v":0.101505},{"$f":"D26/$D$8*$D$9","v":8.3127868757900195E-2},{"$f":"D26*F27%","v":3.5526749999999996E-2},0.2,0.3,{"$f":"H26*I27%*$I$10%","v":0.32100000000000001},{"$f":"H26*J27%*$J$10%","v":0.32307449999999993},{"$f":"I26*K27%*$J$10%","v":0.34739261999999999},{"$f":"J26*L27%*$J$10%","v":0.35992114672499992},{"$f":"K26*M27%*$J$10%","v":0.37595524121639995},{"$f":"L26*N27%*$J$10%","v":0.39715139014223394}]
["Индекс физического объема","% к пред. году в соп-х ценах",33.200000000000003,101,{"$f":"E26/C26*100/$E$10%","v":82.714297271542478},35,{"$f":"G26/E26*100/$G$10%","v":212.91433677668687},{"$f":"H26/G26*100/$H$10%","v":140.3180542563143},100,101.5,102,105,102,104]
["Подраздел DC: Производство кожи, изделий из кожи и производство обуви","млн. руб. "]
["Индекс физического объема","% к пред. году в соп-х ценах"]
["Подраздел DD: Обработка древесины и производство изделий из дерева","млн. руб. ",0.2,{"$f":"C30*D31%*$E$10%","v":0.20099999999999998},{"$f":"D30/$D$8*$D$9","v":0.16460964110475285},{"$f":"D30*F31%","v":3.0149999999999996E-2},0.2,0.2,{"$f":"H30*I31%*$I$10%","v":0.22470000000000004},{"$f":"H30*J31%*$J$10%","v":0.22493200000000002},{"$f":"I30*K31%*$J$10%","v":0.25271110200000008},{"$f":"J30*L31%*$J$10%","v":0.25535855164000004},{"$f":"K30*M31%*$J$10%","v":0.28689533276754009},{"$f":"L30*N31%*$J$10%","v":0.29802896561904407}]
["Индекс физического объема","% к пред. году в соп-х ценах",32.9,100,{"$f":"E30/C30*100/$E$10%","v":81.89534383321039},15,{"$f":"G30/E30*100/$G$10%","v":107.52174007222689},{"$f":"H30/G30*100/$H$10%","v":93.545369504209546},105,106,106,107,107,110]
["Подраздел DE: Целлюлозно-бумажное производство; издательская и полиграфическая деятельность","млн. руб. "]
["Индекс физического объема","% к пред. году в соп-х ценах"]
["Подраздел DF: Производство кокса, нефтепродуктов","млн. руб. "]
["Индекс физического объема","% к пред. году в соп-х ценах"]
["Подраздел DG: Химическое производство","млн. руб. ",269.5,{"$f":"C36*D37%*$E$10%","v":289.806825},{"$f":"D36/$D$8*$D$9","v":237.33829578586028},{"$f":"D36*F37%","v":1593.9375375},9422.3220000000001,10677.7,500,600,{"$f":"I36*K37%*$J$10%","v":557.02499999999998},{"$f":"J36*L37%*$J$10%","v":681.16199999999992},{"$f":"K36*M37%*$J$10%","v":638.28380699999991},{"$f":"L36*N37%*$J$10%","v":787.75704138000003}]
["Индекс физического объема","% к пред. году в соп-х ценах",35.200000000000003,107,{"$f":"E36/C36*100/$E$10%","v":87.628017901535117},550,{"$f":"G36/E36*100/$G$10%","v":3513.2712255676829},{"$f":"H36/G36*100/$H$10%","v":106.0088364582635},105,106.5,105,107,108,109]
["Подраздел DH: Производство резиновых и пластмассовых изделий","млн. руб. "]
["Индекс физического объема","% к пред. году в соп-х ценах"]
["Подраздел DI: Производство прочих неметаллических минеральных продуктов","млн. руб. ",101.4,{"$f":"C40*D41%*$E$10%","v":127.38374999999999},{"$f":"D40/$D$8*$D$9","v":104.32136005013713},{"$f":"D40*F41%","v":135.02677499999999},482.65800000000002,485,{"$f":"H40*I41%*$I$10%","v":524.1395},{"$f":"H40*J41%*$J$10%","v":524.87669999999991},{"$f":"I40*K41%*$J$10%","v":572.79536978500005},{"$f":"J40*L41%*$J$10%","v":584.73888763499986},{"$f":"K40*M41%*$J$10%","v":625.96796396214165},{"$f":"L40*N41%*$J$10%","v":657.63243736757897}]
["Индекс физического объема","% к пред. году в соп-х ценах",41.1,125,{"$f":"E40/C40*100/$E$10%","v":102.36917979151296},106,{"$f":"G40/E40*100/$G$10%","v":409.43769640852759},{"$f":"H40/G40*100/$H$10%","v":93.999279426719596},101,102,103,105,103,106]
["Подраздел DJ: Металлургическое производство и производство готовых металлических изделий","млн. руб. ",0.6,{"$f":"C42*D43%*$E$10%","v":0.60299999999999987},{"$f":"D42/$D$8*$D$9","v":0.49382892331425848},{"$f":"D42*F43%","v":0.24119999999999997},0,{"$f":"F42/$F$8*$F$9","v":0.23475726395803159},{"$f":"H42*I43%*$I$10%","v":0.25119027243509384},{"$f":"H42*J43%*$J$10%","v":0.25654978077125568},{"$f":"I42*K43%*$J$10%","v":0.27184313663470727},{"$f":"J42*L43%*$J$10%","v":0.28308729009423439},{"$f":"K42*M43%*$J$10%","v":0.29419407932881292},{"$f":"L42*N43%*$J$10%","v":0.31537339552948185}]
["Индекс физического объема","% к пред. году в соп-х ценах",32.9,100,{"$f":"E42/C42*100/$E$10%","v":81.895343833210376},40,{"$f":"G42/D42*100/$G$10%","v":0},{"$f":"H42/E42*100/$H$10%","v":44.469762632303983},100,103,102,104,102,105]
["Подраздел DK: Производство машин и оборудования","млн. руб. "]
["Индекс физического объема","% к пред. году в соп-х ценах"]
["Подраздел DL: Производство электрооборудования, электронного и оптического оборудования","млн. руб. "]
["Индекс физического объема","% к пред. году в соп-х ценах"]
["Подраздел DM: Производство транспортных средств и оборудования","млн. руб. "]
["Индекс физического объема","% к пред. году в соп-х ценах"]
["Подраздел DN: Прочие производства","млн. руб. "]
["Индекс физического объема","% к пред. году в соп-х ценах"]
["РАЗДЕЛ E: Производство и распределение электроэнергии, газа и воды","млн. руб. ",28.3,{"$f":"C52*D53%*$E$10%","v":55.460924999999996},{"$f":"D52/$D$8*$D$9","v":45.41991522182893},{"$f":"D52*F53%","v":871.84574099999998},1630.6759999999999,780,{"$f":"H52*I53%*$I$10%","v":851.29200000000003},{"$f":"H52*J53%*$J$10%","v":868.95899999999995},{"$f":"I52*K53%*$J$10%","v":921.28522824000004},{"$f":"J52*L53%*$J$10%","v":968.06377394999993},{"$f":"K52*M53%*$J$10%","v":997.03329970589289},{"$f":"L52*N53%*$J$10%","v":1078.4714473689974}]
["Индекс физического объема","% к пред. году в соп-х ценах",64.099999999999994,195,{"$f":"E52/C52*100/$E$10%","v":159.69592047476024},1572,{"$f":"G52/E52*100/$G$10%","v":3177.1880223614867},{"$f":"H52/G52*100/$H$10%","v":44.745484825485534},102,105,102,105,102,105]
["РАЗДЕЛ F: Строительство","млн. руб. ",18.3,{"$f":"C54*D55%*$E$10%","v":19.678905},{"$f":"D54/$D$8*$D$9","v":16.116106912360827},{"$f":"D54*F55%","v":5.7068824499999993},17.5,18.899999999999999,{"$f":"H54*I55/100","v":18.899999999999999},{"$f":"H54*J55%*$J$10%","v":20.153164499999992},{"$f":"I54*K55%*$J$10%","v":20.253428999999997},{"$f":"J54*L55%*$J$10%","v":21.703245147517489},{"$f":"K54*M55%*$J$10%","v":21.918665932379998},{"$f":"L54*N55%*$J$10%","v":23.602821679053953}]
["Индекс физического объема","% к пред. году в соп-х ценах",35.200000000000003,107,{"$f":"E54/C54*100/$E$10%","v":87.628017901535102},29,{"$f":"G54/E54*100/$G$10%","v":96.094706667890833},{"$f":"H54/F54*100/$G$10%","v":293.07881953682369},100,100.5,101,101.5,102,102.5]
["РАЗДЕЛ G: Оптовая и розничная торговля; ремонт автотранспортных средств, мотоциклов, бытовых изделий и предметов личного пользования","млн. руб. ",10.6,{"$f":"C56*D57%*$E$10%","v":10.919324999999997},{"$f":"D56/$D$8*$D$9","v":8.942418753015696},{"$f":"D56*F57%","v":7.0975612499999983},5.7510000000000003,9,{"$f":"H56*I57%*$I$10%","v":8.5707000000000004},{"$f":"H56*J57%*$J$10%","v":9.5489999999999995},{"$f":"I56*K57%*$J$10%","v":9.1844478269999996},{"$f":"J56*L57%*$J$10%","v":10.536748559999999},{"$f":"K56*M57%*$J$10%","v":9.9395931273359377},{"$f":"L56*N57%*$J$10%","v":11.738464733268}]
["Индекс физического объема","% к пред. году в соп-х ценах",33.700000000000003,102.5,{"$f":"E56/C56*100/$E$10%","v":83.942727429040616},65,{"$f":"G56/E56*100/$G$10%","v":56.912795872561155},{"$f":"H56/G56*100/$H$10%","v":146.39337950580523},89,100,101,104,102,105]
["РАЗДЕЛ H: Гостиницы и рестораны","млн. руб. ",8.6,{"$f":"C58*D59%*$E$10%","v":8.9887199999999989},{"$f":"D58/$D$8*$D$9","v":7.3613431502045472},{"$f":"D58*F59%","v":5.1235703999999993},6.8,7,{"$f":"H58*I59%*$I$10%","v":6.8159000000000001},{"$f":"H58*J59%*$J$10%","v":7.4269999999999996},{"$f":"I58*K59%*$J$10%","v":7.3763032979999998},{"$f":"J58*L59%*$J$10%","v":8.2740493500000003},{"$f":"K58*M59%*$J$10%","v":7.9827829551615599},{"$f":"L58*N59%*$J$10%","v":9.2177046783675003}]
["Индекс физического объема","% к пред. году в соп-х ценах",34.200000000000003,104,{"$f":"E58/C58*100/$E$10%","v":85.171157586538797},57,{"$f":"G58/E58*100/$G$10%","v":81.747297908222578},{"$f":"H58/G58*100/$H$10%","v":96.296703901392192},91,100,102,105,102,105]
["РАЗДЕЛ I: Транспорт и связь","млн. руб. ",6.4,{"$f":"C60*D61%*$E$10%","v":7.0752000000000006},{"$f":"D60/$D$8*$D$9","v":5.7942593668873013},{"$f":"D60*F61%","v":1.698048},149.626,149.80000000000001,{"$f":"H60*I61%*$I$10%","v":136.24310000000003},{"$f":"H60*J61%*$J$10%","v":150.99090999999999},{"$f":"I60*K61%*$J$10%","v":150.33608626400002},{"$f":"J60*L61%*$J$10%","v":168.21142328549996},{"$f":"K60*M61%*$J$10%","v":162.69671927662611},{"$f":"L60*N61%*$J$10%","v":187.39593611121123}]
["Индекс физического объема","% к пред. году в соп-х ценах",36.1,110,{"$f":"E60/C60*100/$E$10%","v":90.084878216531422},24,{"$f":"G60/E60*100/$G$10%","v":2285.2340738703151},{"$f":"H60/G60*100/$H$10%","v":93.654153367266318},85,95,104,105,102,105]
["РАЗДЕЛ J: Финансовая деятельность","млн. руб. ",6.2,{"$f":"C62*D63%*$E$10%","v":6.3244649999999982},{"$f":"D62/$D$8*$D$9","v":5.1794423573610473},{"$f":"D62*F63%","v":4.7433487499999991},0,{"$f":"F62/$F$8*$F$9","v":4.616648319024665},{"$f":"H62*I63%*$I$10%","v":4.9398137013563916},{"$f":"H62*J63%*$J$10%","v":4.9962291438148734},{"$f":"I62*K63%*$J$10%","v":5.3983766072533061},{"$f":"J62*L63%*$J$10%","v":5.5660490776669596},{"$f":"K62*M63%*$J$10%","v":6.0140614593105459},{"$f":"L62*N63%*$J$10%","v":6.31896853640297}]
["Индекс физического объема","% к пред. году в соп-х ценах",33.4,101.5,{"$f":"E62/C62*100/$E$10%","v":83.123773990708514},75,{"$f":"G62/E62*100/$G$10%","v":0},{"$f":"H62/E62*100/$H$10%","v":83.380804935569955},100,102,103,105,105,107]
["РАЗДЕЛ K: Операции с недвижимым имуществом, аренда и предоставление услуг","млн. руб. ",171.7,{"$f":"C64*D65%*$E$10%","v":176.00966999999997},{"$f":"D64/$D$8*$D$9","v":144.14372442619893},{"$f":"D64*F65%","v":66.883674599999992},83,{"$f":"F64/$F$8*$F$9","v":65.097132887874352},{"$f":"H64*I65%*$I$10%","v":66.171235580524282},{"$f":"H64*J65%*$J$10%","v":69.068057994034689},{"$f":"I64*K65%*$J$10%","v":75.122218617501801},{"$f":"J64*L65%*$J$10%","v":79.876518389521181},{"$f":"K64*M65%*$J$10%","v":86.878094608954655},{"$f":"L64*N65%*$J$10%","v":93.22388461241016}]
["Индекс физического объема","% к пред. году в соп-х ценах",33.5,102,{"$f":"E64/C64*100/$E$10%","v":83.533250709874594},38,{"$f":"G64/E64*100/$G$10%","v":50.957006783347786},{"$f":"H64/G64*100/$H$10%","v":73.367895779046236},95,100,107,109,109,110]
["РАЗДЕЛ L: Государственное управление и обеспечение военной безопасности; обязательное социальное обеспечение","млн. руб. "]
["Индекс физического объема","% к пред. году в соп-х ценах"]
["РАЗДЕЛ M: Образование","млн. руб. ",1.2,{"$f":"C68*D69%*$E$10%","v":1.2904199999999999},{"$f":"D68/$D$8*$D$9","v":1.0567938958925134},{"$f":"D68*F69%","v":1.2258989999999998},45.47,64.544300000000007,27.5,30,55,55.5,2.5,3]
["Индекс физического объема","% к пред. году в соп-х ценах",35.200000000000003,107,{"$f":"E68/C68*100/$E$10%","v":87.628017901535117},95,{"$f":"G68/E68*100/$G$10%","v":3807.6429291932673},{"$f":"H68/G68*100/$H$10%","v":132.7869010972191},{"$f":"I68/H68*100","v":42.606395917222741},109.09090909090908,183.33333333333331,100.90909090909091,4.5045045045045047,120]
["РАЗДЕЛ N: Здравоохранение и предоставление социальных услуг","млн. руб. ",18.899999999999999,{"$f":"C70*D71%*$E$10%","v":20.666015999999996},{"$f":"D70/$D$8*$D$9","v":16.924504859826264},{"$f":"D70*F71%","v":17.566113599999994},13.18,13.3,{"$f":"H70*I71%*$I$10%","v":14.231000000000002},{"$f":"H70*J71%*$J$10%","v":14.816865000000002},{"$f":"I70*K71%*$J$10%","v":15.703054640000001},{"$f":"J70*L71%*$J$10%","v":16.506728453250002},{"$f":"K70*M71%*$J$10%","v":17.493988021692001},{"$f":"L70*N71%*$J$10%","v":18.73959361112113}]
["Индекс физического объема","% к пред. году в соп-х ценах",35.799999999999997,108.8,{"$f":"E70/C70*100/$E$10%","v":89.102134090532886},85,{"$f":"G70/E70*100/$G$10%","v":68.916147980467571},{"$f":"H70/G70*100/$H$10%","v":94.397072413200831},100,105,104,105,105,107]
["РАЗДЕЛ O: Предоставление прочих коммунальных, социальных и персональных услуг","млн. руб. ",281.60000000000002,{"$f":"C72*D73%*$E$10%","v":650.91839999999991},{"$f":"D72/$D$8*$D$9","v":533.07186175363165},{"$f":"D72*F73%","v":149.711232},650.22900000000004,665,{"$f":"H72*I73%*$I$10%","v":711.55000000000007},{"$f":"H72*J73%*$J$10%","v":719.67630000000008},{"$f":"I72*K73%*$J$10%","v":770.05364099999997},{"$f":"J72*L73%*$J$10%","v":801.75538201500012},{"$f":"K72*M73%*$J$10%","v":833.36745136301988},{"$f":"L72*N73%*$J$10%","v":876.18233412745258}]
["Индекс физического объема","% к пред. году в соп-х ценах",75.599999999999994,230,{"$f":"E72/C72*100/$E$10%","v":188.35929081638389},23,{"$f":"G72/E72*100/$G$10%","v":107.94490107062749},{"$f":"H72/G72*100/$H$10%","v":95.670403381423085},100,102,102,105,102,103]
["РАЗДЕЛ Q: Деятельность экстерриториальных организаций","млн. руб. "]
["Индекс физического объема","% к пред. году в соп-х ценах"]
["Объем инвестиций в основной капитал по источникам финансирования без субъектов малого предпринимательства и параметров неформальной деятельности:"]
["Объем инвестиций в основной капитал, финансируемых за счет собственных средств организаций","млн. руб.",613.07000000000005,null,{"$f":"E79+E80","v":864.05000000000007},{"$f":"F79+F80","v":0},{"$f":"G79+G80","v":1248.0335000000002},{"$f":"H79+H80","v":255.92212500000002},235.14010949999999,244.32856800000002,233.91910469999999,255.87304080000001,257.31101517000002,300.60345696000002]
["из них:"]
["прибыль","млн. руб.",353.3,null,{"$f":"C79*1.6","v":565.28000000000009},{"$f":"D79*1.37","v":0},{"$f":"E79*1.6","v":904.44800000000021},{"$f":"G79*0.15","v":135.66720000000004},{"$f":"H79*0.9","v":122.10048000000003},{"$f":"H79*0.95","v":128.88384000000002},{"$f":"I79*0.99","v":120.87947520000003},{"$f":"J79*1","v":128.88384000000002},{"$f":"K79*1.1","v":132.96742272000003},{"$f":"L79*1.15","v":148.21641600000001}]
["амортизация","млн. руб.",259.8,null,{"$f":"C80*1.15","v":298.77},{"$f":"D80*1.15","v":0},{"$f":"E80*1.15","v":343.58549999999997},{"$f":"G80*0.35","v":120.25492499999999},{"$f":"H80*0.94","v":113.03962949999998},{"$f":"H80*0.96","v":115.44472799999998},{"$f":"I80*1","v":113.03962949999998},{"$f":"J80*1.1","v":126.98920079999999},{"$f":"K80*1.1","v":124.34359244999999},{"$f":"L80*1.2","v":152.38704095999998}]
["Объем инвестиций в основной капитал, финансируемых за счет привлеченных средств","млн. руб.",2106.1799999999998,null,{"$f":"E83+E85+E86+E91+E92","v":3357.3327455000003},{"$f":"F83+F85+F86+F91+F92","v":0},{"$f":"G83+G85+G86+G91+G92","v":369.1},530.28241804499999,601.50994550364999,613.84159386454996,702.10984604861346,724.41017792590446,811.60519450909965,838.05538148442258]
["из них:"]
["кредиты банков","млн. руб.",416.9,null,416.9,null,250,{"$f":"G83*0.25","v":62.5},{"$f":"H83*1.1","v":68.75},{"$f":"H83*1.12","v":70},{"$f":"I83*1.07","v":73.5625},{"$f":"J83*1.11","v":77.7},{"$f":"K83*1.11","v":81.654375000000002},{"$f":"L83*1.13","v":87.801000000000002}]
["в том числе кредиты иностранных банков","млн. руб."]
["заемные средства других организаций","млн. руб."]
["бюджетные средства","млн. руб.",175.8,null,{"$f":"E88+E90","v":65.099999999999994},{"$f":"F88+F90","v":0},{"$f":"G88+G90","v":119.1},172.3,101,104,107,112,109,117]
["в том числе:"]
["из федерального бюджета","млн. руб.",25.4,null,25.4,null,0,15.3,{"$f":"SUM(I89)/SUM(H89)*H88","v":16},{"$f":"SUM(J89)/SUM(H89)*H88","v":17},{"$f":"SUM(K89)/SUM(I89)*I88","v":18},{"$f":"SUM(L89)/SUM(J89)*J88","v":20},{"$f":"SUM(M89)/SUM(K89)*K88","v":19},{"$f":"SUM(N89)/SUM(L89)*L88","v":22}]
["из него по федеральной адресной инвестиционной программе","млн. руб.",25.4,null,25.4,null,0,15.3,16,17,18,20,19,22]
["из бюджетов субъектов федерации","млн. руб.",39.700000000000003,null,39.700000000000003,null,119.1,157,85,87,89,92,90,95]
["средства внебюджетных фондов","млн. руб.",95,null,95.03274549999999,null,0,{"$f":"E91*0.99","v":94.082418044999983},{"$f":"H91*0.97","v":91.259945503649988},{"$f":"H91*0.99","v":93.141593864549989},{"$f":"I91*0.99","v":90.347346048613488},{"$f":"J91*0.99","v":92.210177925904489},{"$f":"K91*1.01","v":91.250819509099628},{"$f":"L91*1.02","v":94.054381484422578}]
["прочие  ","млн. руб.",1529.2,null,{"$f":"C92*1.5+486.5","v":2780.3},null,0,201.4,340.5,346.7,431.2,442.5,529.70000000000005,539.20000000000005]
["       в том числе: средства от эмиссии акций ","млн. руб."]
[]
["Объем инвестиций в основной капитал, направляемый на реализацию федеральных целевых программ за счет всех источников финансирования","млн. руб.",65.099999999999994,null,{"$f":"E97+E98","v":65.099999999999994},{"$f":"F97+F98","v":0},{"$f":"G97+G98","v":119.1},{"$f":"H97+H98","v":172.3},101,104,107,112,109,117]
[" в том числе:"]
["за счет федерального бюджета - всего","млн. руб.",25.4,null,{"$f":"E89","v":25.4},{"$f":"F89","v":0},{"$f":"G89","v":0},15.3,16,17,18,20,19,22]
["за счет бюджета субъекта Российской Федерации - всего","млн. руб.",39.700000000000003,null,{"$f":"E90","v":39.700000000000003},0,119.1,157,85,87,89,92,90,95]
["Иностранные инвестиции","тыс. долл. США"]
[null,"% к пред. году"]
["Прямые иностранные инвестиции","тыс. долл. США"]
[null,"% к пред. году"]
["Портфельные иностранные инвестиции","тыс. долл. США"]
[null,"% к пред. году"]
["Прочие (торговые кредиты, кредиты международных финансовых организаций, банковские вклады и др.) иностранные инвестиции","тыс. долл. США"]
[null,"% к пред. году"]
[]
["Создание новой стоимости за год","млн.руб.",1103.52,null,{"$f":"C108*1.1","v":1213.8720000000001},null,{"$f":"G5","v":13655.302},{"$f":"H5","v":14259.560559172858},{"$f":"I5","v":3126.8940358364271},3289.1142902353336,3441.1549709194301,3703.2529203459453,3714.1289840535837,4085.4919518006081]
["Ликвидация основных фондов по полной учетной стоимости за год","млн.руб.",1015.46,null,{"$f":"C109*1.11","v":1127.1606000000002},null,{"$f":"E109*1.11","v":1251.1482660000004},{"$f":"G109*0.9","v":1126.0334394000004},{"$f":"H109*0.9","v":1013.4300954600003},{"$f":"H109*1.005","v":1131.6636065970004},{"$f":"I109*1.005","v":1018.4972459373002},{"$f":"J109*1","v":1131.6636065970004},{"$f":"K109*1","v":1018.4972459373002},{"$f":"L109*0.98","v":1109.0303344650604}]
["Стоимость основных фондов по полной учетной стоимости на конец года","млн.руб.",8603.2000000000007,null,{"$f":"C110+E108-E109","v":8689.9114000000009},null,{"$f":"E110+G108-G109","v":21094.065134},{"$f":"G110+H108-H109","v":34227.592253772855},{"$f":"H110+I108-I109","v":36341.056194149278},{"$f":"H110+J108-J109","v":36385.042937411185},{"$f":"I110+K108-K109","v":38763.713919131405},{"$f":"J110+L108-L109","v":38956.632251160125},{"$f":"K110+M108-M109","v":41459.345657247686},{"$f":"L110+N108-N109","v":41933.093868495671}]

{"sheet":"финансы","index":11,"n_rows":64,"n_cols":13,"rows_kept":64,"cut":false,"hidden":false,"merged":[[0,6,2,6],[0,7,0,12],[1,7,1,8],[1,9,1,10],[1,11,1,12],[0,0,2,0],[0,1,2,1],[0,2,2,2],[0,3,2,3],[0,5,2,5],[0,4,2,4]]}
["Показатели","Единица измерения","2009 отчет","2010 отчёт","отчет 2010","отчет 2011","2011 оценка","прогноз"]
[null,null,null,null,null,null,null,2012,null,2013,null,2014]
[null,null,null,null,null,null,null,"вариант 1","вариант 2","вариант 1","вариант 2","вариант 1","вариант 2"]
["7. Финансы"]
["Доходы консолидированного бюджета субъекта Российской Федерации"]
["Прибыль прибыльных организаций","млн.руб."]
["Справочно: сальдо прибылей и убытков","млн.руб."]
["Амортизация основных фондов, начисленная за год","млн.руб."]
["Налоги на прибыль, доходы","млн.руб.",160.69999999999999,181.6,181.6,214.2,220.5,228.8,300.2,238.8,239,240,243]
["налог на прибыль организаций","млн.руб."]
["налог на доходы физических лиц","млн.руб.",160.69999999999999,181.6,181.6,214.2,206,228.8,300.2,238.8,239,240,243]
["Налоги и взносы на социальные нужды","млн.руб."]
["Налоги на товары (работы, услуги), реализуемые на территории Российской Федерации","млн.руб."]
["из них:"]
["налог на добавленную стоимость ","млн.руб."]
["акцизы ","млн.руб."]
["Специальные налоговые режимы","млн.руб.",52.7,55.5,55.5,0,0,0,0,0,0,0,0]
["Налоги на имущество","млн.руб.",61.7,7.6,7.6,67.2,78.400000000000006,81.599999999999994,82,84.8,85,86,87]
["Налоги, сборы и регулярные платежи за пользование природными ресурсами","млн.руб.",1.4]
["из них:"]
["налог на добычу полезных ископаемых","млн.руб.",1.4,1.9,1.9,2,1.1000000000000001,1.2,1.2,1.2,1.3,1.3,1.4]
["Прочие налоговые доходы","млн.руб.",11.1,83.5,83.5,93.9,78.8,"79.9",80,83.7,84,84.5,85]
["Неналоговые доходы","млн.руб.",170.8,270.89999999999998,270.89999999999998,218.3,192.5,185,190,192,193,194,195]
["Прочие доходы","млн.руб.",159.69999999999999,0,null,0,0,0,0,0,0,0,0]
["Итого доходов","млн.руб.",618.1,601.1,601.1,595.6,571.29999999999995,576.5,598,599.70000000000005,600,601,602]
["Сальдо взаимоотношений с федеральным уровнем власти","млн.руб."]
["Средства, передаваемые на федеральный уровень власти","млн.руб."]
["в федеральный бюджет","млн.руб."]
["часть единого социального налога, централизуемая государственными внебюджетными фондами","млн.руб."]
["Средства, получаемые от федерального уровня власти","млн.руб.",509.3,637.20000000000005,637.20000000000005,517.79999999999995,584.6,339.1,340,341,341.5,342,342.5]
["из федерального бюджета","млн.руб.",509.3,637.20000000000005]
["от государственных внебюджетных фондов","млн.руб."]
["Всего доходов","млн.руб.",1127.4000000000001,1238.3,1238.3,1113.5,1155.9000000000001,915.6,920,940.7,945,950,955]
["Расходы консолидированного бюджета субъекта Российской Федерации"]
["Расходы за чет средств, остающихся в распоряжении организаций","млн.руб."]
["из них:"]
["на инвестиции","млн.руб."]
["Затраты на государственные инвестиции","млн.руб.",65.099999999999994,13.5,13.5,191.9,72.8,192,193,194,195,196,197]
["из них за счет:"]
["средств федерального бюджета","млн.руб.",25.4,5.7,5.7,11.1,1.8,4.5,4.5999999999999996,4.7,4.8,4.9000000000000004,5]
["средств бюджета субъекта Федерации","млн.руб.",18,5.4,5.4,178.4,57.8,150,151,152,153,154,155]
["Общегосударственные вопросы","млн.руб.",46.7,38.9,38.9,48.6,30.9,30.2,30.5,31.1,31.6,32,33]
["обслуживание государственного и муниципального долга","млн.руб.",9.3000000000000007,11.5,11.5,5.5,6,6.2,6.3,6.4,6.5,6.6,6.7]
["фундаментальные исследования","млн.руб."]
["Национальная оборона","млн.руб."]
["Национальная безопасность и правоохранительная деятельность","млн.руб.",6.9,6.9,6.9,9.1999999999999993,3.1,3,3,3,3.5,3.6,4]
["Национальная экономика","млн.руб.",26.9,7.4,7.4,54.5,8.5,6.8,7,7.1,7.2,7.3,7.5]
["Жилищно-коммунальное хозяйство","млн.руб.",201.8,106.2,106.2,170.3,131.9,67.5,68,69.5,70,70.5,71]
["Охрана окружающей среды","млн.руб.",1.1000000000000001,0.5,0.5,0.5,2.1,2.2000000000000002,2.2999999999999998,2.2999999999999998,2.4,2.4,2.5]
["Социально-культурные мероприятия","млн.руб.",893.3,750.7,750.7,935.8,990.7,810.5,815,826.7,827,828,830]
["из них:"]
["образование","млн.руб.",548.9,581.9,581.9,681.5,828,746.6,750,760.4,762,763,765]
["культура, кинематография и средства массовой информации","млн.руб.",27.9,27.9,27.9,24.6,32.5,29.1,29.5,30,30.5,30.6,31]
["здравоохранение и спорт","млн.руб.",278.3,81.900000000000006,81.900000000000006,151.30000000000001]
["социальная политика","млн.руб.",38.200000000000003,29.5,29.5,78.5,130.30000000000001,34.700000000000003,35,"36.3",36.5,36.799999999999997,37]
["в том числе:"]
["пенсионное обеспечение","млн.руб.",0.2,0.1,0.1,0.1,0.2,0.2,0.2,0.2,0.2,0.2,0.2]
["социальное обслуживание населения","млн.руб."]
["социальное обеспечение населения","млн.руб.",30.3,18.899999999999999,18.899999999999999,63.8,112.8,18.8,19,19.600000000000001,19.8,20,22]
["борьба с беспризорностью, опека, попечительство","млн.руб.",7.7,10.5,10.5,0.3,0.3,0.3,0.3,0.4,0.4,0.4,0.4]
["другие вопросы в области социальной политики","млн.руб.",null,null,0,14.3,17,15.4,16,16.100000000000001,16.2,16.3,16.5]
["Прочие расходы","млн.руб.",null,106.1,106.1,0.4]
["Всего расходов","млн.руб.",1176.7,991.6,991.6,1219.3,1205.9000000000001,945.6,950,965.7,966,967,968]
["Превышение доходов над расходами (+), или расходов на доходами (-)","млн.руб.",-49.3,246.7,246.7,-105.8,{"$f":"G33-G63","v":-50},{"$f":"H33-H63","v":-30},-30,-25,-21,-17,-13]

{"sheet":"доход","index":12,"n_rows":29,"n_cols":11,"rows_kept":29,"cut":false,"hidden":false,"merged":[[0,5,0,10],[1,5,1,6],[1,7,1,8],[1,9,1,10],[0,0,2,0],[0,1,2,1],[0,2,2,2],[0,3,2,3],[0,4,2,4]]}
["Показатели","Единица измерения","2010 отчет","2011 отчет","2012оценка","прогноз"]
[null,null,null,null,null,2013,null,2014,null,2015]
[null,null,null,null,null,"вариант 1","вариант 2","вариант 1","вариант 2","вариант 1","вариант 2"]
["8. Денежные доходы и расходы населения"]
["Денежные доходы населения","млн.руб.",{"$f":"C7+C8+C9+C13+C14","v":10060.56},{"$f":"D7+D8+D9+D13+D14","v":11603.918435103149},{"$f":"E7+E8+E9+E13+E14","v":12562.350038616119},13436.98870401099,13794.392627717672,14156.37579560928,14950.082282383439,14996.385325821206,16248.04363202497]
["в том числе:"]
["доходы от предпринимательской деятельности","млн.руб.",487.8,{"$f":"C7*1.2","v":585.36},{"$f":"D7*0.98","v":573.65279999999996},{"$f":"E7*1.15","v":659.70071999999993},{"$f":"E7*1.17","v":671.17377599999986},{"$f":"F7*1.1","v":725.67079200000001},{"$f":"G7*1.15","v":771.84984239999983},{"$f":"H7*1.1","v":798.23787120000009},{"$f":"I7*1.15","v":887.62731875999975}]
["оплата труда, включая скрытую заработную плату","млн.руб.",6176.95,{"$f":"труд!E28","v":7232.2039551031494},{"$f":"труд!F28","v":7920.2906325361173},{"$f":"труд!G28","v":7943.7721239175507},{"$f":"труд!H28","v":8216.5823376546323},{"$f":"труд!I28","v":8132.9022534105143},{"$f":"труд!J28","v":8710.6371915634991},{"$f":"труд!K28","v":8376.968474810501},{"$f":"труд!L28","v":9243.6808275409712}]
["социальные выплаты - всего","млн.руб.",3295.49,{"$f":"SUM(D10:D12)","v":3685.62},3967.4364,4732.1811599999992,4804.9302400000006,5194.9466172000002,5362.0414960000007,5715.2256204040004,6006.9417032000019]
["пенсии","млн.руб.",2853.88,3200.1,{"$f":"E24*12*E29/1000000","v":3399.7860000000001},{"$f":"F24*12*F29/1000000","v":4079.7431999999999},4180.7448000000004,4496.9759999999997,4675.5885120000003,4968.4971600000008,5251.9934208000013]
["пособия и социальная помощь","млн.руб.",439.2,{"$f":"C11*1.1","v":483.12},{"$f":"D11*1.17","v":565.25040000000001},{"$f":"E11*1.15","v":650.03796},{"$f":"E11*1.1","v":621.77544000000012},{"$f":"F11*1.07","v":695.54061720000004},{"$f":"G11*1.1","v":683.95298400000013},{"$f":"H11*1.07","v":744.22846040400009},{"$f":"I11*1.1","v":752.34828240000024}]
["стипендии","млн.руб.",2.4,2.4,2.4,2.4,2.41,2.4300000000000002,2.5,2.5,2.6]
["доходы от собственности","млн.руб.",95.61,{"$f":"D12/C12*C13","v":95.61},{"$f":"E12/D12*D13","v":95.61},{"$f":"F12/E12*E13","v":95.61},{"$f":"G12/E12*E13","v":96.008375000000015},{"$f":"H12/F12*F13","v":96.805125000000018},{"$f":"I12/G12*G13","v":99.59375},{"$f":"J12/H12*H13","v":99.593750000000014},{"$f":"K12/I12*I13","v":103.5775}]
["другие доходы","млн.руб.",4.71,{"$f":"C14*дефляторы!C7%","v":5.1244800000000001},{"$f":"D14*дефляторы!D7%","v":5.3602060800000002},{"$f":"E14*дефляторы!E7%","v":5.724700093440001},{"$f":"E14*дефляторы!F7%","v":5.6978990630399995},{"$f":"F14*дефляторы!G7%","v":6.0510079987660808},{"$f":"G14*дефляторы!H7%","v":5.9600024199398396},{"$f":"H14*дефляторы!I7%","v":6.3596094067031501},{"$f":"I14*дефляторы!J7%","v":6.2162825239972523}]
["Реальные располагаемые денежные доходы населения","в % к пред. году",103.18,{"$f":"(D5-D21)/(C5-C21)*100/дефляторы!C7%","v":106.01165550162727},{"$f":"(E5-E21)/(D5-D21)*100/дефляторы!D7%","v":103.49861507180819},{"$f":"(F5-F21)/(E5-E21)*100/дефляторы!E7%+0.2","v":100.35204208379589},{"$f":"(G5-G21)/(E5-E21)*100/дефляторы!F7%-1.5","v":101.79954963804651},{"$f":"(H5-H21)/(F5-F21)*100/дефляторы!G7%+0.6","v":100.27245228678802},{"$f":"(I5-I21)/(G5-G21)*100/дефляторы!H7%","v":103.61182308353482},{"$f":"(J5-J21)/(H5-H21)*100/дефляторы!I7%","v":100.79332961659381},{"$f":"(K5-K21)/(I5-I21)*100/дефляторы!J7%","v":104.20131153645028}]
["Денежные доходы в расчете на душу населения в месяц","рублей",6598.46,{"$f":"D5/демогр!D5/12*1000","v":7610.7038803471069},{"$f":"E5/демогр!G5/12*1000","v":8374.9000257440784},{"$f":"F5/демогр!H5/12*1000","v":8951.5473552448821},{"$f":"G5/демогр!I5/12*1000","v":9186.7075759328127},{"$f":"H5/демогр!J5/12*1000","v":9427.0255950730389},{"$f":"I5/демогр!K5/12*1000","v":9952.3900798739414},{"$f":"J5/демогр!L5/12*1000","v":9983.2143884947054},{"$f":"K5/демогр!M5/12*1000","v":10815.589392140595}]
["Расходы населения","млн.руб.",{"$f":"C19+C21+C22","v":10113.594800000001},11228.828052408253,12376.05950457447,13708.199048863315,13856.069625678741,15010.038422077459,15312.867737889263,16616.768574873066,17016.713651732593]
["в том числе:"," "]
["покупка товаров и оплата услуг","млн.руб.",7808.75,{"$f":"потребит!D7+потребит!D10+потребит!D13","v":8800.5145776000008},{"$f":"потребит!F7+потребит!F10+потребит!F13","v":9821.0715014851812},{"$f":"потребит!G7+потребит!G10+потребит!G13","v":11033.239952542435},{"$f":"потребит!H7+потребит!H10+потребит!H13","v":11102.518215461329},{"$f":"потребит!I7+потребит!I10+потребит!I13","v":12377.528358428717},{"$f":"потребит!J7+потребит!J10+потребит!J13","v":12416.861155298588},{"$f":"потребит!K7+потребит!K10+потребит!K13","v":13917.057748807367},{"$f":"потребит!L7+потребит!L10+потребит!L13","v":13916.870161170595}]
["из них покупка товаров","млн.руб.",6485.89,{"$f":"потребит!D7","v":7677.6452096000003},{"$f":"потребит!F7","v":8617.0665221562376},{"$f":"потребит!G7","v":9847.2389388592637},{"$f":"потребит!H7","v":9892.7370500962479},{"$f":"потребит!I7","v":11189.171425252309},{"$f":"потребит!J7","v":11196.32279666153},{"$f":"потребит!K7","v":12700.604701375391},{"$f":"потребит!L7","v":12647.019145102166}]
["обязательные платежи и разнообразные взносы","млн.руб.",{"$f":"C5*0.08","v":804.84479999999996},928.31347480825195,1004.9880030892896,1074.9590963208791,1103.5514102174138,1132.5100636487423,1196.0065825906752,1199.7108260656964,1299.8434905619977]
["прочие расходы","млн.руб.",1500,1500,1550,1600,1650,1500,1700,1500,1800]
["Превышение доходов над расходами (+), или расходов над доходами (-)","млн.руб.",{"$f":"C5-C17","v":-53.034800000001269},375.09038269489611,186.29053404164915,-271.21034485232485,-61.676997961068992,-853.66262646817995,-362.78545550582385,-1620.3832490518598,-768.67001970762249]
["Средний размер назначенных месячных пенсий пенсионеров, состоящих на учете в системе Пенсионного фонда РФ, руб. ","руб.",7251.6,7910.96,8350,{"$f":"E24*1.2","v":10020},{"$f":"E24*1.22","v":10187},{"$f":"F24*1.1","v":11022},{"$f":"G24*1.12","v":11409.44},{"$f":"H24*1.1","v":12124.2},{"$f":"I24*1.12","v":12778.572800000002}]
["Реальный размер назначенных пенсий","% к пред. году",99.51,{"$f":"D24/C24*100/дефляторы!C7%","v":100.26894673143127},{"$f":"E24/D24*100/дефляторы!D7%","v":100.90800088735233},{"$f":"F24/E24*100/дефляторы!E7%","v":112.35955056179775},{"$f":"G24/E24*100/дефляторы!F7%","v":114.76952022577611},{"$f":"H24/F24*100/дефляторы!G7%","v":104.06811731315045},{"$f":"I24/G24*100/дефляторы!H7%","v":107.07456978967497},{"$f":"J24/H24*100/дефляторы!I7%","v":104.66222645099907},{"$f":"K24/I24*100/дефляторы!J7%","v":107.38255033557049}]
["Величина прожиточного минимума в среднем на душу населения в месяц","руб.",5007,5007,{"$f":"D26*дефляторы!E7%","v":5347.4760000000006},{"$f":"E26*дефляторы!E7%","v":5711.1043680000012},{"$f":"E26*дефляторы!F7%","v":5684.3669880000007},{"$f":"F26*дефляторы!G7%","v":6036.6373169760009},{"$f":"G26*дефляторы!H7%","v":5945.8478694480009},{"$f":"H26*дефляторы!I7%","v":6344.5058201417769},{"$f":"I26*дефляторы!J7%","v":6201.5193278342649}]
["Численность населения с денежными доходами ниже прожиточного минимума в % ко всему населению","% ко всему населению",18.899999999999999,18.899999999999999,18.7,17.7,17.5,17.2,17,17,16.5]
[]
[null,null,31662,32796,33930,33930,34200,34000,34150,34150,34250]

{"sheet":"труд","index":13,"n_rows":32,"n_cols":12,"rows_kept":32,"cut":false,"hidden":false,"merged":[[0,5,2,5],[0,6,0,11],[1,6,1,7],[1,8,1,9],[1,10,1,11],[0,0,2,0],[0,1,2,1],[0,2,2,2],[0,3,2,3],[0,4,2,4]]}
["Показатели","Единица измерения","2009 отчет","2010 отчет","2011 отчет","2012 оценка","прогноз"]
[null,null,null,null,null,null,2013,null,2014,null,2015]
[null,null,null,null,null,null,"вариант 1","вариант 2","вариант 1","вариант 2","вариант 1","вариант 2"]
["9. Труд и занятость"]
["Численность трудовых ресурсов","тыс. чел.",81.5,{"$f":"D6+D17+D19","v":81.410000000000011},{"$f":"E6+E17+E19","v":80.12},{"$f":"F6+F17+F19","v":79.67},{"$f":"G6+G17+G19","v":78.91},79.17,79.42,79.28,80.28,79.59]
["Численность занятых в экономике (среднегодовая)","тыс. чел.",56.99,{"$f":"SUM(D8:D12)","v":56.900000000000006},{"$f":"SUM(E8:E12)","v":56.32},{"$f":"SUM(F8:F12)","v":55.07},{"$f":"SUM(G8:G12)","v":54.31},54.67,54.620000000000005,54.78,54.78,54.79]
["Распределение среднегодовой численности занятых в экономике по формам собственности:"," "]
["на предприятиях и в организациях государственной и муниципальной форм собственности","тыс. чел.",7.7,7.6,7.5,7.5,7.2,7,6.5,6,5.8,5.5]
["в общественных объединениях и организациях","тыс. чел.",0.04,0.04,0.04,0.04,0.04,0.04,0.04,0.04,0.04,0.04]
["на предприятиях и организациях со смешанной формой собственности","тыс. чел.",37,37.01,36.6,35.4,35,35.5,36,36.5,36.799999999999997,37]
["в предприятиях с иностранным участием","тыс. чел.",0.45,0.45,0.45,0.45,0.45,0.45,0.45,0.45,0.45,0.45]
["в частном секторе","тыс. чел.",11.8,{"$f":"SUM(D14:D16)","v":11.8},{"$f":"SUM(E14:E16)","v":11.729999999999999},{"$f":"SUM(F14:F16)","v":11.68},11.62,11.68,11.629999999999999,11.79,11.690000000000001,11.799999999999999]
["в том числе занятые:"," "]
["в крестьянских (фермерских) хозяйствах (включая наемных работников)","тыс. чел.",0,0,0,0,0,0,0,0,0,0]
["на частных предприятиях","тыс. чел.",3.3,3.3,3.28,3.28,3.27,3.28,3.28,3.29,3.29,3.1]
["индивидуальным трудом и по найму у отдельных граждан, включая занятых в домашнем хозяйстве производством товаров и услуг для реализации (включая личное подсобное хозяйство)","тыс. чел.",8.5,8.5,8.4499999999999993,8.4,8.35,8.4,8.35,8.5,8.4,8.6999999999999993]
["Учащиеся в трудоспособном возрасте, обучающиеся с отрывом от производства","тыс. чел.",3.81,3.81,3.8,3.8,3.8,3.8,3.8,3.8,3.8,3.8]
["Трудоспособные лица в трудоспособном возрасте, не занятые трудовой деятельностью и учебой","тыс. чел.",5.0999999999999996,5.2,5.2,5.0999999999999996,5,4.9000000000000004,4.9000000000000004,4.8,4.8,4.7]
[null,null,20.7,20.7,20,20.8,20.8,20.7,21,20.7,21.7,21]
["выезжающие на работу за пределы муниципального образования",null,15.6,{"$f":"D19-D18","v":15.5},15,16.5,15.5,15.6,{"$f":"I19-I18","v":16.100000000000001},{"$f":"J19-J18","v":15.899999999999999},{"$f":"K19-K18","v":16.899999999999999},{"$f":"L19-L18","v":16.3}]
["отклонение скрытой безработицы",null,null,null,null,{"$f":"F20-D20","v":1},{"$f":"G20-D20","v":0},{"$f":"H20-D20","v":9.9999999999999645E-2},{"$f":"I20-D20","v":0.60000000000000142},{"$f":"J20-D20","v":0.39999999999999858},{"$f":"K20-D20","v":1.3999999999999986},{"$f":"L20-D20","v":0.80000000000000071}]
["Уровень безработицы (по методологии МОТ)","%",{"$f":"C24/C5*100","v":12.94478527607362},{"$f":"D24/D5*100","v":7.8104821441020915},{"$f":"E24/E5*100","v":3.879147494973755},{"$f":"F24/F5*100","v":5.1562356884309946},{"$f":"G24/G5*100","v":5.2058965568026538},5.3151104875242803,6.0538566771253768,6.5690880082908336,8.2311571661347429,9.3076680147920232]
["Уровень зарегистрированной безработицы","%",3.7,2.23,1.0900000000000001,1.0900000000000001,1,1,1,1,1,1]
["Численность безработных, рассчитанная по методологии МОТ","тыс. чел.",10.55,{"$f":"D23/C23*C24","v":6.3585135135135138},{"$f":"E23/D23*D24","v":3.107972972972973},{"$f":"E24+F21","v":4.1079729729729735},{"$f":"F24+G21","v":4.1079729729729735},4.2079729729729731,4.8079729729729745,5.2079729729729731,6.6079729729729717,7.4079729729729724]
["Численность безработных, зарегистрированных в  службах занятости","тыс. чел.",3.19,1.89,0.92400000000000004,0.91,{"$f":"G23/F23*F25","v":0.83486238532110091},{"$f":"H23/F23*F25","v":0.83486238532110091},{"$f":"I23/G23*G25","v":0.83486238532110091},{"$f":"J23/H23*H25","v":0.83486238532110091},{"$f":"K23/I23*I25","v":0.83486238532110091},{"$f":"L23/J23*J25","v":0.83486238532110091}]
["Численность незанятых граждан, зарегистрированных в органах государственной службы занятости, в расчете на одну заявленную вакансию","чел.",1.49227974568574,{"$f":"0.783/D25","v":0.41428571428571431},{"$f":"0.783/E25","v":0.84740259740259738},{"$f":"1.4/F25","v":1.5384615384615383},{"$f":"1.3/G25","v":1.5571428571428572},1.5571428571428572,1.5571428571428572,1.5571428571428572,1.5571428571428572,1.5571428571428572]
["Среднесписочная численность работников организаций - всего","тыс. чел.",39.938007380073813,{"$f":"D6/C6*C27","v":39.874936303319878},{"$f":"E6/D6*D27","v":39.468478253127863},{"$f":"F6/D6*D27","v":38.592491075989905},{"$f":"G6/F6*F27","v":38.059890872290026},{"$f":"H6/F6*F27","v":38.312175179305761},{"$f":"I6/G6*G27","v":38.277135692220241},{"$f":"J6/H6*H27","v":38.389262050893898},{"$f":"K6/I6*I27","v":38.389262050893898},{"$f":"L6/J6*J27","v":38.396269948311001}]
["Фонд начисленной заработной платы всех работников","млн.руб. ",{"$f":"C32*C27*12/1000","v":5548.3477372693733},{"$f":"D32*D27*12/1000","v":6176.9466328746748},{"$f":"E32*E27*12/1000","v":7232.2039551031494},{"$f":"F32*F27*12/1000","v":7920.2906325361173},{"$f":"G32*G27*12/1000","v":7943.7721239175507},8216.5823376546323,8132.9022534105143,8710.6371915634991,8376.968474810501,9243.6808275409712]
["Выплаты социального характера - всего","млн.руб. ",38.340487084870858,{"$f":"C29*1.04","v":39.874106568265695},{"$f":"D29*1.04","v":41.469070830996323},{"$f":"D29*0.5","v":19.937053284132848},{"$f":"F29*0.9","v":17.943347955719563},{"$f":"F29*0.97","v":19.338941685608862},{"$f":"G29*0.99","v":17.763914476162366},{"$f":"H29*1","v":19.338941685608862},{"$f":"I29*1","v":17.763914476162366},{"$f":"J29*1","v":19.338941685608862}]
["Просроченная задолженность по заработной плате работников к месячному фонду заработной платы на конец года","%",2170,16400,480,460,350,300,250,200,150,100]
[]
[null,null,11577,12909,15270,{"$f":"E32*1.12","v":17102.400000000001},17393.14,17872,17706.18,18908.580000000002,18184.27,20062.02]

{"sheet":"социальн","index":14,"n_rows":46,"n_cols":12,"rows_kept":46,"cut":false,"hidden":false,"merged":[[0,5,2,5],[0,6,0,11],[1,6,1,7],[1,8,1,9],[1,10,1,11],[0,0,2,0],[0,1,2,1],[0,2,2,2],[0,3,2,3],[0,4,2,4]]}
["Показатели","Единица измерения","2009отчет","2010 отчет","2011 отчет","2012 оценка","прогноз"]
[null,null,null,null,null,null,2013,null,2014,null,2015]
[null,null,null,null,null,null,"вариант 1","вариант 2","вариант 1","вариант 2","вариант 1","вариант 2"]
["10. Развитие социальной сферы"]
["Численность детей в дошкольных образовательных учреждениях","чел.",7.14,7210,7659,7659,7.7,7.72,7.72,7.55,7.55,7.6]
["Численность учащихся в учреждениях:"]
["общеобразовательных","чел.",11286,11491,12305,11994,12000,12020,12020,12040,12040,12070]
["начального профессионального образования","чел.",1.87,1870,1870,1870,1870,1870,1870,1870,1870,1870]
["среднего профессионального образования","чел.",1.76,1760,1790,1.76,1.76,1.76,1.76,1.76,1.76,1.76]
["высшего профессионального образования","чел.",0.91,910,1234,0.91,0.91,0.91,0.91,0.91,0.91,0.91]
["Выпуск специалистов:"," "]
["со средним профессиональным образованием","чел.",1210,1210,293,1200,1190,1195,1180,1190,1185,1190]
["с высшим профессиональным образованием","чел.",60,60,241,60,60,60,60,60,60,60]
["Численность обучающихся в первую смену в дневных учреждениях общего образования в % к общему числу обучающихся в этих учреждениях"," %",100,100,100,100,100,100,100,100,100,100]
["город"," %",100,100,100,{"$f":"F14","v":100},{"$f":"G14","v":100},100,100,100,100,100]
["село"," %",0,0,0,0,0,0,0,0,0,0]
["Число заболеваний, зарегистрированных у больных с впервые установленным диагнозом ","единиц на 100 тыс. населения",94970,87020,87140,87485,87150,87100,87150,87100,87150,87100]
["Обеспеченность:"]
["больничными койками"," коек на 10 тыс. населения",56.1,55.9,60.7,61.5,63.5,63.4,63.4,63.3,63.4,63.2]
["в том числе койками"]
["интенсивного лечения "," коек на 10 тыс. населения",1.4,1.4,1.4,1.4,1.4,1.4,1.4,1.4,1.4,1.4]
["восстановительного лечения "," коек на 10 тыс. населения","-","-",null,"-","-","-","-","-","-","-"]
["для лечения хронических больных"," коек на 10 тыс. населения",54.4,54.4,54.7,55.8,55,54,54,53,54,52]
["в стационарных учреждениях социального обслуживания для престарелых и инвалидов (взрослых и детей)","мест на 10 тыс. Населения",1.2,1.2,1.2,1.2,1.2,1.2,1.2,1.2,1.2,1.2]
["стационаров дневного пребывания"," мест на 10 тыс. населения",11,11,11.2,11.3,5.7,5.8,5.8,5.9,5.9,6]
["амбулаторно-поликлиническими учреждениями","посещений в смену на 10 тыс. населения",194.4,198.8,265.8,201,198.5,198.9,198.8,199,199,200]
["врачами","чел. на 10 тыс. населения",30.2,31.2,28.4,36.200000000000003,37.6,37.6,37.6,37.6,37.6,37.6]
["в том числе:"]
["врачами общей практики (семейными врачами)","чел. на 10 тыс. населения",6.6,6.3,6.7,2,1.2,1.4,1.3,1.6,1.5,1.8]
["средним медицинским персоналом","чел. на 10 тыс. населения",67.599999999999994,69.599999999999994,80,73.400000000000006,78.2,78.5,78.400000000000006,78.8,78.5,80]
["общедоступными  библиотеками","учрежд. на 100 тыс.населения",7.1289387386531065,7.1,7.1,7.1258343164345499,7.1244241090511844,7.1243677123655269,7.1223380261627227,7.1221125768594646,7.1197462206013808,7.1189014744035939]
["учреждениями культурно-досугового типа","учрежд. на 100 тыс.населения",3.9605215214739475,4,4,3.9587968424636384,3.9580133939173248,3.9579820624252928,3.95685445897929,3.9567292093663693,3.9554145670007674,3.9549452635575522]
["дошкольными образовательными учреждениями","мест на 1 000 детей в возрасте 1-6 лет",940,941,942,1182,1182,1185,1185,1200,1200,1370]
["Ввод в действие жилых домов ","тыс. кв. м общей площади",13,35.700000000000003,19.86,34.569000000000003,35,35.5,40,45,45,47]
["в том числе за счет:"]
["средств федерального бюджета","тыс. кв. м общей площади",1.36,1.4,0,0,0,0,0,0,0,0]
["средств бюджетов субъектов Российской Федерации и средств местного бюджета","тыс. кв. м общей площади",0.48,0.6,0,0,0,0,0,0,0,0]
["из общего итога - индивидуальные жилые дома, построенные населением за свой счет и с помощью кредитов","тыс. кв. м общей площади",2.2999999999999998,1.4,2.74,2,2,2,2,2,2,2]
["Общая площадь жилых помещений, приходящаяся в среднем на 1 жителя  (на конец года)","кв. м",{"$f":"C46/демогр!C5","v":18.460930710278902},{"$f":"D46/демогр!D5","v":18.671147595173821},19.3,{"$f":"F46/демогр!E5","v":19.509192935066608},{"$f":"G46/демогр!H5","v":19.679662642897117},{"$f":"H46/демогр!I5","v":19.67736753776073},{"$f":"I46/демогр!J5","v":19.991441585424326},{"$f":"J46/демогр!K5","v":20.028990254034195},{"$f":"K46/демогр!L5","v":20.344535868349581},{"$f":"L46/демогр!M5","v":20.402819714034671}]
["Стоимость предоставляемых населению жилищно-коммунальных услуг, рассчитанная по экономически обоснованным тарифам","тыс. руб.",{"$f":"потребит!C23+потребит!C25","v":608.29999999999995},{"$f":"потребит!D23+потребит!D25","v":490.37950000000001},{"$f":"потребит!E23+потребит!E25","v":507.80758743000001},{"$f":"потребит!F23+потребит!F25","v":498},{"$f":"потребит!G23+потребит!G25","v":507.19319999999999},{"$f":"потребит!H23+потребит!H25","v":519.55825800000002},{"$f":"потребит!I23+потребит!I25","v":525.38114815199992},{"$f":"потребит!J23+потребит!J25","v":538.02335848932},{"$f":"потребит!K23+потребит!K25","v":544.90800720740071},{"$f":"потребит!L23+потребит!L25","v":561.15836290436073}]
["Фактический уровень платежей населения за жилое помещение  и коммунальные услуги ","%",100,100,100,100,100,100,100,100,100,100]
["Число зарегистрированных преступлений","единиц на 100 тыс. населения",2086.6,{"$f":"2467/демогр!D5*100","v":1941.6482366182106},2144,{"$f":"2660/демогр!E5*100","v":2138.4527570765904},{"$f":"2700/демогр!H5*100","v":2158.4459189383642},{"$f":"2670/демогр!I5*100","v":2133.780867897387},{"$f":"2710/демогр!J5*100","v":2165.5745564967237},{"$f":"2692/демогр!K5*100","v":2150.5032752835914},{"$f":"2705/демогр!L5*100","v":2160.8883208180218},{"$f":"2690/демогр!M5*100","v":2148.7339244348595}]
["Численность пенсионеров, состоящих на учете в системе Пенсионного фонда РФ","тыс. чел.",31.7,32.799999999999997,33.71,{"$f":"доход!E29/1000","v":33.93},{"$f":"доход!F29/1000","v":33.93},{"$f":"доход!G29/1000","v":34.200000000000003},{"$f":"доход!H29/1000","v":34},{"$f":"доход!I29/1000","v":34.15},{"$f":"доход!J29/1000","v":34.15},{"$f":"доход!K29/1000","v":34.25}]
["Численность пенсионеров, состоящих на учете в системе Пенсионного фонда РФ","чел. на 1 000 чел. населения",234.46287407125772,258.12,{"$f":"E43/демогр!F5*1000","v":270.23343808119029},{"$f":"F43/демогр!G5*1000","v":271.44},{"$f":"G43/демогр!H5*1000","v":271.24470381325443},{"$f":"H43/демогр!I5*1000","v":273.31575161831699},{"$f":"I43/демогр!J5*1000","v":271.69570081508709},{"$f":"J43/демогр!K5*1000","v":272.8071576929222},{"$f":"K43/демогр!L5*1000","v":272.8071576929222},{"$f":"L43/демогр!M5*1000","v":273.58415208882502}]
[]
[null,null,{"$f":"D46-D34","v":2336.6000000000004},2372.3000000000002,{"$f":"D46+E34","v":2392.1600000000003},{"$f":"E46+F34","v":2426.7290000000003},{"$f":"F46+G34","v":2461.7290000000003},{"$f":"F46+H34","v":2462.2290000000003},{"$f":"G46+I34","v":2501.7290000000003},{"$f":"H46+J34","v":2507.2290000000003},{"$f":"I46+K34","v":2546.7290000000003},{"$f":"J46+L34","v":2554.2290000000003}]

{"sheet":"эколог","index":15,"n_rows":17,"n_cols":12,"rows_kept":17,"cut":false,"hidden":false,"merged":[[0,5,2,5],[0,6,0,11],[1,6,1,7],[1,8,1,9],[1,10,1,11],[0,0,2,0],[0,1,2,1],[0,2,2,2],[0,3,2,3],[0,4,2,4]]}
["Показатели","Единица измерения","2009 отчет","2010 отчет","2011 отчет","2012 оценка","прогноз"]
[null,null,null,null,null,null,2012,null,2013,null,2014]
[null,null,null,null,null,null,"вариант 1","вариант 2","вариант 1","вариант 2","вариант 1","вариант 2"]
["11. Охрана окружающей среды"]
["Инвестиции в основной капитал, направленные на охрану окружающей среды и рациональное использование природных ресурсов за счет всех источников финансирования","млн.руб. ",69.900000000000006,{"$f":"D7+D8+D9","v":595.54999999999995},{"$f":"E7+E8+E9","v":593.70000000000005},{"$f":"E5*F6%","v":593.70000000000005},{"$f":"F5*G6%","v":593.70000000000005},{"$f":"F5*H6%","v":593.70000000000005},{"$f":"G5*I6%","v":593.70000000000005},{"$f":"H5*J6%","v":593.70000000000005},{"$f":"I5*K6%","v":593.70000000000005},{"$f":"J5*L6%","v":593.70000000000005}]
["из них за счет:",null,92.893636785880176,100,100,100,100,100,100,100,100,100]
["средств федерального бюджета","млн.руб. ",0,217.85,283.7,270,0,0,0,0,0,0]
["бюджетов субъектов Российской Федерации и местных бюджетов","млн.руб. ",13.2,107.7,60,{"$f":"D8*0.5","v":53.85},290,290,{"$f":"G8*1","v":290},{"$f":"H8*1.01","v":292.89999999999998},{"$f":"I8*1.01","v":292.89999999999998},{"$f":"J8*1.01","v":295.82900000000001}]
["собственных средств предприятий","млн.руб. ",56.7,270,250,270,305.5,{"$f":"H5-H8","v":303.70000000000005},{"$f":"I5-I8","v":303.70000000000005},{"$f":"J5-J8","v":300.80000000000007},{"$f":"K5-K8","v":300.80000000000007},{"$f":"L5-L8","v":297.87100000000004}]
["Сброс загрязненных сточных вод в поверхностные водные объекты (данные Росводресурсов)","млн.куб.м",82.7,83,83,83,{"$f":"F10*G11%","v":83},{"$f":"F10*H11%","v":83},{"$f":"G10*I11%","v":83.83},{"$f":"H10*J11%","v":84.24499999999999},{"$f":"I10*K11%","v":84.668300000000002},{"$f":"J10*L11%","v":85.508674999999982}]
[null,"% к пред. году",108.06292645943898,{"$f":"D10/C10*100","v":100.36275695284161},{"$f":"E10/D10*100","v":100},{"$f":"F10/D10*100","v":100},100,100,101,101.5,101,101.5]
["Выбросы в атмосферный воздух загрязняющих веществ, отходящих от стационарных источников","тыс.т.",2.4,2.5,2.5,2.5,2.5,2.5,2.5,2.5,2.5,2.5]
[null,"% к пред. году",105.83333333333333,100,100,{"$f":"F12/D12*100","v":100},{"$f":"G12/F12*100","v":100},{"$f":"H12/F12*100","v":100},{"$f":"I12/G12*100","v":100},{"$f":"J12/H12*100","v":100},{"$f":"K12/I12*100","v":100},{"$f":"L12/J12*100","v":100}]
["Объем водопотребления (данные Росводресурсов)","млн.куб.м",24.5,25,25,25.5,26,26.5,26.5,27,27,27.5]
[null,"% к пред. году",93.34470989761094,{"$f":"D14/C14*100","v":102.04081632653062},{"$f":"E14/D14*100","v":100},{"$f":"F14/D14*100","v":102},{"$f":"G14/F14*100","v":101.96078431372548},{"$f":"H14/F14*100","v":103.92156862745099},{"$f":"I14/G14*100","v":101.92307692307692},{"$f":"J14/H14*100","v":101.88679245283019},{"$f":"K14/I14*100","v":101.88679245283019},{"$f":"L14/J14*100","v":101.85185185185186}]
["Объем оборотного и повторно-последовательного использования воды (данные Росводресурсов)","млн.куб.м",0.27400000000000002,0.3,0.3,0.27400000000000002,0.27400000000000002,0.27400000000000002,0.27400000000000002,0.27400000000000002,0.27400000000000002,0.27400000000000002]
[null,"% к пред. году",100,100,100,100,{"$f":"G16/F16*100","v":100},{"$f":"H16/F16*100","v":100},{"$f":"I16/G16*100","v":100},{"$f":"J16/H16*100","v":100},{"$f":"K16/I16*100","v":100},{"$f":"L16/J16*100","v":100}]

{"sheet":"внешнеэк","index":16,"n_rows":48,"n_cols":11,"rows_kept":48,"cut":false,"hidden":false,"merged":[[0,5,0,10],[1,5,1,6],[1,7,1,8],[1,9,1,10],[0,0,2,0],[0,1,2,1],[0,2,2,2],[0,3,2,3],[0,4,2,4]]}
["Показатели","Единица измерения","2009 отчет","2010 отчет","2011 оценка","прогноз"]
[null,null,null,null,null,2012,null,2013,null,2014]
[null,null,null,null,null,"вариант 1","вариант 2","вариант 1","вариант 2","вариант 1","вариант 2"]
["4. Внешнеэкономическая деятельность"]
["Экспорт товаров"," млн. долл. США"]
[]
["Импорт товаров"," млн. долл. США"]
[]
["Страны дальнего зарубежья"]
["Экспорт товаров - всего"," млн. долл. США"]
["в том числе по группам товаров:"]
["Продовольственные товары и сельскохозяйственное сырье (кроме текстильного) (код ТН ВЭД 01-24)"," млн. долл. США"]
["Топливно-энергетические товары (27)"," млн. долл. США"]
["Продукция химической промышленности, каучук (28-40) "," млн. долл. США"]
["Древесина и целлюлозно-бумажные изделия (44-49)"," млн. долл. США"]
["Металлы и изделия из них (72-83)"," млн. долл. США"]
["Машины, оборудование и транспортные средства (84-90)"," млн. долл. США"]
[]
["Импорт товаров - всего"," млн. долл. США"]
["в том числе по группам товаров:"]
["Продовольственные товары и сельскохозяйственное сырье (кроме текстильного) (код ТН ВЭД 01-24)"," млн. долл. США"]
["Продукция химической промышленности, каучук (28-40) "," млн. долл. США"]
["Текстиль, текстильные  изделия  и обувь (50 - 67)"," млн. долл. США"]
["Металлы и изделия из них (72-83)"," млн. долл. США"]
["Машины, оборудование и транспортные средства (84-90)"," млн. долл. США"]
[]
[]
[]
[]
[]
[]
["Государства-участники СНГ "]
["Экспорт товаров - всего"," млн. долл. США"]
["в том числе по группам товаров:"]
["Продовольственные товары и сельскохозяйственное сырье (кроме текстильного) (код ТН ВЭД 01-24)"," млн. долл. США"]
["Топливно-энергетические товары (27)"," млн. долл. США"]
["Продукция химической промышленности, каучук (28-40) "," млн. долл. США"]
["Древесина и целлюлозно-бумажные изделия (44-49)"," млн. долл. США"]
["Металлы и изделия из них (72-83)"," млн. долл. США"]
["Машины, оборудование и транспортные средства (84-90)"," млн. долл. США"]
[]
["Импорт товаров - всего"," млн. долл. США"]
["в том числе по группам товаров:"]
["Продовольственные товары и сельскохозяйственное сырье (кроме текстильного) (код ТН ВЭД 01-24)"," млн. долл. США"]
["Продукция химической промышленности, каучук (28-40) "," млн. долл. США"]
["Текстиль, текстильные  изделия  и обувь (50 - 67)"," млн. долл. США"]
["Металлы и изделия из них (72-83)"," млн. долл. США"]
["Машины, оборудование и транспортные средства (84-90)"," млн. долл. США"]

{"sheet":"Лист6","index":17,"n_rows":3,"n_cols":11,"rows_kept":3,"cut":false,"hidden":false,"merged":[[0,5,0,10],[1,5,1,6],[1,7,1,8],[1,9,1,10],[0,0,2,0],[0,1,2,1],[0,2,2,2],[0,3,2,3],[0,4,2,4]]}
["Показатели","Единица измерения","2007 отчет","2008 отчет","2009 оценка","прогноз"]
[null,null,null,null,null,2010,null,2011,null,2012]
[null,null,null,null,null,"вариант 1","вариант 2","вариант 1","вариант 2","вариант 1","вариант 2"]

{"sheet":"Лист1","index":18,"n_rows":0,"n_cols":0,"rows_kept":0,"cut":false,"hidden":false,"merged":[]}